BEGIN:VCALENDAR
VERSION:2.0
PRODID:-//Microsoft Corporation//Outlook for Mac MIMEDIR//EN
METHOD:PUBLISH
BEGIN:VTIMEZONE
TZID:UTC
X-ENTOURAGE-CFTIMEZONE:Etc/GMT
X-ENTOURAGE-TZID:160
BEGIN:STANDARD
TZOFFSETFROM:+0000
TZOFFSETTO:+0000
DTSTART:16010101T000000
END:STANDARD
END:VTIMEZONE
BEGIN:VEVENT
UID:83D584F2-2433-4530-9BA7-25B18024AE9E
X-ENTOURAGE_UUID:83D584F2-2433-4530-9BA7-25B18024AE9E
X-MICROSOFT-EXCHANGE-ID:AAMkADFlMDNlNjQ5LTNjNTUtNDJkMC04ZTI0LWFiMTFkOTgwND
 JhMQBGAAAAAAAdZPIZTDF9SJl4Q9bAl0gQBwAFskP3JLIoSYZSK2rNBQTXAIjV8WqdAACjhqXC
 SbKVRZwH7aZE5XhKAAR3IwqtAAA=
CATEGORIES:
X-MICROSOFT-EXCHANGE-CHANGEKEY:DwAAABYAAACjhqXCSbKVRZwH7aZE5XhKAAR3eAs6
DTSTAMP:20250409T161238Z
DTSTART;TZID=UTC:20250417T140000
DTEND;TZID=UTC:20250417T150000
LAST-MODIFIED:20250409T161433Z
SUMMARY:GNSO Council - Reviews- Seeking Alignment (PHR\, ATRT4) with
  Appointed Board Members
DESCRIPTION:Meeting: GNSO Council - Reviews- Seeking Alignment (PHR\,
  ATRT4) with Appointed Board Members \n\nDate/time: Thursday\, 17 April
  2025 at 14:00 UTC for 60 minutes. \n\nThis meeting will be recorded for
  those who are unable to make it. \n\n \n\nBefore joining the call:
  \n\nPlease be sure you have read the Expected Standards of Behavior and
  the ICANN Community Anti-Harassment Policy\n\nVisit the Wiki Agenda
  page: https://icann-community.atlassian.net/wiki/x/GIBoD\n\nCheck your
  time zone:  https://tinyurl.com/5ydb4kzz \n\n \n\n \n\nJoin Zoom
  Meeting\n\nhttps://icann.zoom.us/j/96611661142?pwd=K2VpaHlzNkNuY1J6YzRYcW
 1sd0VjUT09\n\n \n\nMeeting ID: 966 1166 1142\n\nPasscode: Z4B3SUR!U&\n\n
  \n\n---\n\nOne tap
  mobile\n\n+13126266799\,\,96611661142#\,\,\,\,*0505103780# US
  (Chicago)\n\n+13462487799\,\,96611661142#\,\,\,\,*0505103780# US
  (Houston)\n\n \n\nMeeting ID: 966 1166 1142\n\nPasscode: 0505103780\n\n
  \n\nFind your local number: https://icann.zoom.us/u/actl7q9Q9B\n\n \n\n
  \n\n \n\n \n
LOCATION:14:00 UTC |
  https://icann.zoom.us/j/96611661142?pwd=K2VpaHlzNkNuY1J6YzRYcW1sd0VjUT09
ORGANIZER:MAILTO:PolicyCalendar@icann.org
SEQUENCE:5
ATTENDEE;ROLE=REQ-PARTICIPANT;RSVP=FALSE;CN=council@icann.org;PARTSTAT=NEE
 DS-ACTION:MAILTO:council@icann.org
ATTENDEE;ROLE=REQ-PARTICIPANT;RSVP=FALSE;CN="Board
  Calendaring";PARTSTAT=NEEDS-ACTION:MAILTO:Board-Calendaring@icann.org
ATTENDEE;ROLE=REQ-PARTICIPANT;RSVP=FALSE;CN="Becky
  Burr";PARTSTAT=NEEDS-ACTION:MAILTO:becky.burr@board.icann.org
ATTENDEE;ROLE=REQ-PARTICIPANT;RSVP=FALSE;CN="Becky
  Burr";PARTSTAT=NEEDS-ACTION:MAILTO:BBurr@hwglaw.com
ATTENDEE;ROLE=REQ-PARTICIPANT;RSVP=FALSE;CN="Chris
  Buckridge";PARTSTAT=NEEDS-ACTION:MAILTO:chris.buckridge@board.icann.org
ATTENDEE;ROLE=REQ-PARTICIPANT;RSVP=FALSE;CN="Leon
  Sanchez";PARTSTAT=NEEDS-ACTION:MAILTO:leon.sanchez@board.icann.org
ATTENDEE;ROLE=REQ-PARTICIPANT;RSVP=FALSE;CN="Chris
  Disspain";PARTSTAT=NEEDS-ACTION:MAILTO:chris@disspain.uk
ATTENDEE;ROLE=REQ-PARTICIPANT;RSVP=FALSE;CN="Sophie
  Hey";PARTSTAT=NEEDS-ACTION:MAILTO:sophie.hey@comlaude.com
ATTENDEE;ROLE=REQ-PARTICIPANT;RSVP=FALSE;CN="Karen
  Lentz";PARTSTAT=NEEDS-ACTION:MAILTO:karen.lentz@icann.org
ATTENDEE;ROLE=REQ-PARTICIPANT;RSVP=FALSE;CN="Jason
  Kean";PARTSTAT=NEEDS-ACTION:MAILTO:jason.kean@icann.org
ATTENDEE;ROLE=REQ-PARTICIPANT;RSVP=FALSE;CN="Jessica
  Puccio";PARTSTAT=NEEDS-ACTION:MAILTO:jessica.puccio@icann.org
ATTENDEE;ROLE=REQ-PARTICIPANT;RSVP=FALSE;CN="Alice
  Jansen";PARTSTAT=NEEDS-ACTION:MAILTO:alice.jansen@icann.org
ATTENDEE;ROLE=REQ-PARTICIPANT;RSVP=FALSE;CN="Jean-Baptiste
  Deroulez";PARTSTAT=NEEDS-ACTION:MAILTO:jean-baptiste.deroulez@icann.org
ATTENDEE;ROLE=REQ-PARTICIPANT;RSVP=FALSE;CN="Steve
  Chan";PARTSTAT=NEEDS-ACTION:MAILTO:steve.chan@icann.org
ATTENDEE;ROLE=REQ-PARTICIPANT;RSVP=FALSE;CN="Caitlin
  Tubergen";PARTSTAT=NEEDS-ACTION:MAILTO:caitlin.tubergen@icann.org
ATTENDEE;ROLE=REQ-PARTICIPANT;RSVP=FALSE;CN="Julie
  Hedlund";PARTSTAT=NEEDS-ACTION:MAILTO:julie.hedlund@icann.org
ATTENDEE;ROLE=REQ-PARTICIPANT;RSVP=FALSE;CN="Saewon
  Lee";PARTSTAT=NEEDS-ACTION:MAILTO:saewon.lee@icann.org
ATTENDEE;ROLE=REQ-PARTICIPANT;RSVP=FALSE;CN="Feodora
  Hamza";PARTSTAT=NEEDS-ACTION:MAILTO:feodora.hamza@icann.org
ATTENDEE;ROLE=REQ-PARTICIPANT;RSVP=FALSE;CN="John
  Emery";PARTSTAT=NEEDS-ACTION:MAILTO:john.emery@icann.org
ATTENDEE;ROLE=REQ-PARTICIPANT;RSVP=FALSE;CN="Julie
  Bisland";PARTSTAT=NEEDS-ACTION:MAILTO:julie.bisland@icann.org
ATTENDEE;ROLE=REQ-PARTICIPANT;RSVP=FALSE;CN="Devan
  Reed";PARTSTAT=NEEDS-ACTION:MAILTO:devan.reed@icann.org
ATTENDEE;ROLE=REQ-PARTICIPANT;RSVP=FALSE;CN="Terri
  Agnew";PARTSTAT=NEEDS-ACTION:MAILTO:terri.agnew@icann.org
ATTENDEE;ROLE=REQ-PARTICIPANT;RSVP=FALSE;CN=paul@elstermcgrady.com;PARTSTA
 T=NEEDS-ACTION:MAILTO:paul@elstermcgrady.com
ATTENDEE;ROLE=REQ-PARTICIPANT;RSVP=FALSE;CN="John
  Jeffrey";PARTSTAT=NEEDS-ACTION:MAILTO:john.jeffrey@icann.org
ATTENDEE;ROLE=REQ-PARTICIPANT;RSVP=FALSE;CN="Sam
  Eisner";PARTSTAT=NEEDS-ACTION:MAILTO:Samantha.Eisner@icann.org
X-MICROSOFT-CDO-BUSYSTATUS:BUSY
X-MICROSOFT-CDO-ALLDAYEVENT:FALSE
X-MICROSOFT-DISALLOW-COUNTER:TRUE
X-MICROSOFT-DONOTFORWARDMEETING:FALSE
X-MICROSOFT-CDO-INSTTYPE:0
BEGIN:VALARM
ACTION:DISPLAY
DESCRIPTION:REMINDER
TRIGGER;RELATED=START:-PT00H15M00S
END:VALARM
END:VEVENT
END:VCALENDAR
