BEGIN:VCALENDAR
VERSION:2.0
PRODID:-//Microsoft Corporation//Outlook for Mac MIMEDIR//EN
METHOD:PUBLISH
BEGIN:VTIMEZONE
TZID:Coordinated Universal Time
X-ENTOURAGE-TZID:93
X-ENTOURAGE-CFTIMEZONE:UTC
BEGIN:STANDARD
TZNAME:Standard
TZOFFSETFROM:+0000
TZOFFSETTO:+0000
DTSTART:20130101T010000
END:STANDARD
END:VTIMEZONE
BEGIN:VEVENT
UID:CEA77EEA-FFCC-4BD1-B411-0F184F11A157
X-ENTOURAGE_UUID:CEA77EEA-FFCC-4BD1-B411-0F184F11A157
DTSTAMP:20160818T132900Z
DTSTART;TZID="Coordinated Universal Time":20160823T220000
DTEND;TZID="Coordinated Universal Time":20160823T230000
LAST-MODIFIED:20160818T132900Z
SUMMARY:HOLD THE DATE: CWG Accountability Webinar
DESCRIPTION:Dear all\,\n\n\nPlease hold the date for the CWG
  Accountability webinar scheduled on Tuesday 23 August 2016 at 22:00 UTC.
  \n\nThe aim is to brief the GNSO Council and the broader GNSO Community
  on the Proposed Cost Control Mechanisms\, as well as the request for
  validation of the CCWG-Accountability Budget as requested by the GNSO
  Council in its letter of 10 July 2016 (see
  http://gnso.icann.org/en/correspondence/bladel-to-bfc-ccwg-accountability
 -chairs-10jul16-en.pdf).\n\nFurther information and materials will be
  sent out shortly. \n\nKind regards\,\n\nNathalie\n\n-- \nNathalie
  Peregrine\nSpecialist\, SOAC Support (GNSO)\nInternet Corporation for
  Assigned Names and Numbers (ICANN) \nEmail: nathalie.peregrine@icann.org
  \nSkype: nathalie.peregrine.icann\n\nFind out more about the GNSO by
  taking our interactive courses and visiting the GNSO Newcomer pages\n
LOCATION:22:00 UTC
ORGANIZER:MAILTO:PolicyCalendar@icann.org
SEQUENCE:0
ATTENDEE;ROLE=REQ-PARTICIPANT;RSVP=FALSE;CN="Marika
  Konings";PARTSTAT=NEEDS-ACTION:MAILTO:marika.konings@icann.org
ATTENDEE;ROLE=REQ-PARTICIPANT;RSVP=FALSE;CN="Mary
  Wong";PARTSTAT=NEEDS-ACTION:MAILTO:mary.wong@icann.org
ATTENDEE;ROLE=REQ-PARTICIPANT;RSVP=FALSE;CN="Steve
  Chan";PARTSTAT=NEEDS-ACTION:MAILTO:steve.chan@icann.org
ATTENDEE;ROLE=REQ-PARTICIPANT;RSVP=FALSE;CN="David
  Tait";PARTSTAT=NEEDS-ACTION:MAILTO:david.tait@icann.org
ATTENDEE;ROLE=REQ-PARTICIPANT;RSVP=FALSE;CN="Julie
  Hedlund";PARTSTAT=NEEDS-ACTION:MAILTO:julie.hedlund@icann.org
ATTENDEE;ROLE=REQ-PARTICIPANT;RSVP=FALSE;CN="Emily
  Barabas";PARTSTAT=NEEDS-ACTION:MAILTO:emily.barabas@icann.org
ATTENDEE;ROLE=REQ-PARTICIPANT;RSVP=FALSE;CN="Glen de Saint
  G��ry";PARTSTAT=NEEDS-ACTION:MAILTO:Glen@icann.org
ATTENDEE;ROLE=REQ-PARTICIPANT;RSVP=FALSE;CN="Gisella
  Gruber";PARTSTAT=NEEDS-ACTION:MAILTO:Gisella.Gruber@icann.org
ATTENDEE;ROLE=REQ-PARTICIPANT;RSVP=FALSE;CN="Terri
  Agnew";PARTSTAT=NEEDS-ACTION:MAILTO:terri.agnew@icann.org
ATTENDEE;ROLE=REQ-PARTICIPANT;RSVP=FALSE;CN="Yesim
  Nazlar";PARTSTAT=NEEDS-ACTION:MAILTO:yesim.nazlar@icann.org
ATTENDEE;ROLE=REQ-PARTICIPANT;RSVP=FALSE;CN="Michelle
  DeSmyter";PARTSTAT=NEEDS-ACTION:MAILTO:michelle.desmyter@icann.org
ATTENDEE;ROLE=REQ-PARTICIPANT;RSVP=FALSE;CN="Nathalie
  Peregrine";PARTSTAT=NEEDS-ACTION:MAILTO:nathalie.peregrine@icann.org
ATTENDEE;ROLE=REQ-PARTICIPANT;RSVP=FALSE;CN="James
  Bladel";PARTSTAT=NEEDS-ACTION:MAILTO:jbladel@godaddy.com
ATTENDEE;ROLE=REQ-PARTICIPANT;RSVP=FALSE;CN="Austin,
  Donna";PARTSTAT=NEEDS-ACTION:MAILTO:Donna.Austin@neustar.biz
ATTENDEE;ROLE=REQ-PARTICIPANT;RSVP=FALSE;CN="Heather
  Forrest";PARTSTAT=NEEDS-ACTION:MAILTO:Heather.Forrest@acu.edu.au
ATTENDEE;ROLE=REQ-PARTICIPANT;RSVP=FALSE;PARTSTAT=NEEDS-ACTION:MAILTO:turc
 otte.bernard@gmail.com
ATTENDEE;ROLE=REQ-PARTICIPANT;RSVP=FALSE;CN="Xavier J.
  Calvez";PARTSTAT=NEEDS-ACTION:MAILTO:xavier.calvez@icann.org
ATTENDEE;ROLE=REQ-PARTICIPANT;RSVP=FALSE;PARTSTAT=NEEDS-ACTION:MAILTO:thom
 as@rickert.net
X-MICROSOFT-CDO-BUSYSTATUS:BUSY
X-MICROSOFT-CDO-ALLDAYEVENT:FALSE
X-MICROSOFT-CDO-INSTTYPE:0
BEGIN:VALARM
ACTION:DISPLAY
DESCRIPTION:REMINDER
TRIGGER;RELATED=START:-PT00H15M00S
END:VALARM
END:VEVENT
END:VCALENDAR
