BEGIN:VCALENDAR
VERSION:2.0
PRODID:-//Microsoft Corporation//Outlook for Mac MIMEDIR//EN
METHOD:PUBLISH
BEGIN:VTIMEZONE
TZID:Coordinated Universal Time
X-ENTOURAGE-CFTIMEZONE:UTC
X-ENTOURAGE-TZID:93
BEGIN:STANDARD
TZOFFSETFROM:+0000
TZOFFSETTO:+0000
DTSTART:16010101T000000
END:STANDARD
END:VTIMEZONE
BEGIN:VEVENT
UID:9A55F814-DE0D-4798-A7FF-ED4DA7DF3642
X-ENTOURAGE_UUID:E9E91B34-4728-4223-82D8-690C23AD2F05
X-MICROSOFT-EXCHANGE-ID:AAMkADFlMDNlNjQ5LTNjNTUtNDJkMC04ZTI0LWFiMTFkOTgwND
 JhMQBGAAAAAAAdZPIZTDF9SJl4Q9bAl0gQBwAFskP3JLIoSYZSK2rNBQTXAIjV8WqdAAANV5p2
 g4V9S6g+Ry+Q0bRJAAUf4mYDAAA=
X-MICROSOFT-EXCHANGE-CHANGEKEY:DwAAABYAAAANV5p2g4V9S6g+Ry+Q0bRJAAU7plKS
DTSTAMP:20200203T234454Z
DTSTART;TZID="Coordinated Universal Time":20200219T210000
DTEND;TZID="Coordinated Universal Time":20200219T223000
LAST-MODIFIED:20200203T234537Z
SUMMARY:Pre-ICANN67 GNSO Policy Webinar
DESCRIPTION:Meeting: Pre-ICANN67 GNSO Policy Webinar\n\nDate/Time:
  Wednesday\, 19 February 2020 at 21:00 UTC for 90 minutes\n\nFor other
  times: https://tinyurl.com/waz5xsh \n\n\n\nDue to the truncated
  schedule\, this webinar is designed to serve as a replacement for the
  previously-offered GNSO PDP updates provided during the GNSO weekend
  sessions. \n\n\n\nThe webinar will include presentations from the
  leadership of requested Working Groups and will provide participants an
  opportunity to receive a more detailed briefing on the status of GNSO
  policy development activities\, specifically focused on the current
  issues before the WG as well as what the WG is expected to focus on
  during the upcoming ICANN meeting. \n\n\n\nJoin Zoom Meeting:
  https://icann.zoom.us/my/icann67prepweek\n\n\n\nFind your local number:
  https://zoom.us/u/aMC4tb58S [zoom.us]\n\n\n\nYou will have VoIP and
  telecom bridge audio options available to you upon logging in if
  needed.\n\n\n\nThank you in advance for reserving this time in your
  schedule. \n\n\n\nIf you are joining via audio only\, please see
  below.\nPhone one-tap \nPhone one-tap:\nUS: +16699006833\,\,3410110459#
  or +19294362866\,\,3410110459#\nJoin by Telephone \nFor higher quality\,
  dial a number based on your current location. \nDial: \n\nUS : +1 669
  900 6833 or +1 929 436 2866 or 888 788 0099 (Toll Free) or 877 853 5247
  (Toll Free) \nAlgeria : +213 98 24 02 675 \nArgentina : +54 343 414 5986
  or +54 112 040 0447 or +54 341 512 2188 or 822 345 9889 (Toll Free)
  \nAustralia : +61 8 7150 1149 or +61 2 8015 6011 or +61 3 7018 2005 or
  1800 893 423 (Toll Free) \nAustria : +43 72 011 5988 or +43 670 309 0165
  or 0 800 802 588 (Toll Free) \nBahamas : 1800 389 0808 (Toll Free)
  \nBahrain : +973 1619 8488 or +973 1619 7601 or 800 198 33 (Toll Free)
  \nBelgium : +32 2 588 4188 or +32 1579 5132 or +32 2 290 9360 or 0 800
  267 88 (Toll Free) \nBermuda : 866 237 6875 (Toll Free) \nBolivia
  (Plurinational State of) : 800 100 560 (Toll Free) \nBosnia and
  Herzegovina : 0 800 828 50 (Toll Free) \nBrazil : +55 21 3958 7888 or
  +55 11 4680 6788 or 0 800 878 3108 (Toll Free) \nBulgaria : +359 3 257
  1633 or +359 2 492 5688 or 00 800 111 3251 (Toll Free) \nCambodia : 1800
  201 503 (Toll Free) \nCanada : +1 647 558 0588 or 855 703 8985 (Toll
  Free) \nCayman Islands : +1 345 769 1930 \nChile : +56 41 256 0288 or
  +56 23 210 9066 or 800 914 125 (Toll Free) \nChina : +86 10 87833177 or
  +86 10 53876330 or 400 669 9381 (Toll Free) or 400 616 8835 (Toll Free)
  \nColombia : +57 2 620 7388 or +57 1 508 7702 or 1 800 518 4301 (Toll
  Free) \nCosta Rica : +506 4000 3843 \nCroatia : +385 1777 6333 or +385
  1300 0988 or 0 800 200 588 (Toll Free) \nCyprus : +357 2 505 4777 or
  +357 2 200 0888 or 800 773 38 (Toll Free) \nCzechia : +420 5 3889 0161
  or +420 2 2888 2388 or 828 848 888 (Toll Free) \nDenmark : +45 89 88 37
  88 or +45 32 70 12 06 or +45 32 71 31 57 or 80 82 02 88 (Toll Free)
  \nDominican Republic : +1 829 956 2188 or +1 829 947 9220 or 800 751
  9718 (Toll Free) \nEcuador : 1800 000 785 (Toll Free) \nEgypt : 0800 000
  9608 (Toll Free) \nEl Salvador : +503 2136 6444 or +503 2113 9088
  \nEstonia : +372 880 1188 or +372 660 1699 \nFiji : 0080 02 592 (Toll
  Free) \nFinland : +358 9 4245 1488 or +358 3 4109 2129 or 0 800 102 188
  (Toll Free) \nFrance : +33 7 5678 4048 or +33 1 7037 2246 or +33 1 7037
  9729 or 0 805 082 588 (Toll Free) \nGeorgia : +995 7067 77954 or +995
  3224 73988 \nGermany : +49 69 7104 9922 or +49 30 5679 5800 or +49 695
  050 2596 or 0 800 724 3138 (Toll Free) \nGhana : 30 708 4676 (Toll Free)
  \nGreece : +30 231 118 0599 or +30 211 198 4488 or 800 848 1188 (Toll
  Free) \nGuatemala : 1800 3000 161 (Toll Free) \nHonduras : 800 2791 9494
  (Toll Free) \nHong Kong\, China : +852 5808 6088 or 800 931 189 (Toll
  Free) or 800 906 780 (Toll Free) \nHungary : +36 1 701 0488 or +36 1 408
  8456 or 800 881 88 (Toll Free) \nIceland : 0080 07 473 (Toll Free)
  \nIndia : +91 224 879 8012 or +91 22 62 192 563 or +91 22 71 279 525 or
  +91 80 71 279 440 or +91 22 48 798 004 or 000 800 050 5050 (Toll Free)
  or 000 800 001 4002 (Toll Free) \nIndonesia : +62 215 086 1500 or +62 21
  2789 9657 or +62 21 3950 1721 \nIreland : +353 6 163 9031 or +353 1 536
  9320 or +353 1 653 3895 or 1800 817 388 (Toll Free) \nIsrael : +972 55
  330 1762 or +972 3 978 6688 or 1801 227 228 (Toll Free) \nItaly : +39
  069 480 6488 or +39 020 066 7245 or +39 021 241 28 823 or 800 596 788
  (Toll Free) \nJamaica : +1 876 633 1687 or 800 491 6523 (Toll Free)
  \nJapan : +81 524 564 439 or +81 3 4578 1488 or 0 800 100 5040 (Toll
  Free) \nJordan : 800 222 03 (Toll Free) \nKazakhstan : +7 727 312 2408
  \nKenya : 800 733 310 (Toll Free) \nKuwait : +965 2206 9157 \nLatvia :
  +371 6303 1888 or +371 6303 1808 or 8000 0281 (Toll Free) \nLithuania :
  +370 5214 1488 or +370 3799 9260 or 8 800 303 19 (Toll Free)
  \nLuxembourg : +352 2786 4277 or +352 2786 1188 or 800 810 88 (Toll
  Free) \nMacau\, China : +853 6262 1604 or 0 800 191 (Toll Free) \nNorth
  Macedonia : 0 800 904 59 (Toll Free) \nMalaysia : +60 3 9212 1727 or +60
  3 3099 2229 or 1 800 818 425 (Toll Free) \nMalta : +356 2778 1288 or
  +356 2776 1777 or 800 62714 (Toll Free) \nMexico : +52 554 161 4288 or
  +52 229 910 0061 or 800 733 4118 (Toll Free) \nNetherlands : +31 20 794
  7345 or +31 20 241 0288 or +31 20 794 0854 or 0 800 220 0040 (Toll Free)
  \nNew Zealand : +64 9 884 6780 or +64 4 886 0026 or 0 800 002 260 (Toll
  Free) \nNicaragua : 1800 220 2436 (Toll Free) or 1800 220 2039 (Toll
  Free) \nNigeria : +234 1227 8806 or 708 060 1822 (Toll Free) \nNorway :
  +47 7349 4877 or +47 2396 0588 or 800 248 88 (Toll Free) \nOman : 800
  74201 (Toll Free) \nPakistan : +92 21 3879 9843 \nPanama : +507 833 9588
  or 800 0558 (Toll Free) \nParaguay : 0098 0011 0288 (Toll Free) \nPeru :
  +51 1 730 6777 or +51 1 707 5788 or 0 800 78743 (Toll Free)
  \nPhilippines : +63 92 3099 0478 or 1800 1110 2219 (Toll Free) \nPoland
  : +48 22 398 7356 or +48 22 307 3488 or 00 800 321 1464 (Toll Free)
  \nPortugal : +351 308 810 988 or +351 308 804 188 or 800 180 888 (Toll
  Free) \nPuerto Rico : +1 787 966 7727 or +1 787 945 1488 or 800 239 1922
  (Toll Free) \nQatar : 00 800 100363 (Toll Free) \nRomania : +40 37 170
  0418 or +40 31 630 1088 or 0 800 672 631 (Toll Free) \nRussian
  Federation : +7 812 426 8988 or +7 495 283 9788 or 800 100 6938 (Toll
  Free) \nSaudi Arabia : 800 850 0304 (Toll Free) or 800 811 0528 (Toll
  Free) \nSerbia : 0 800 500 702 (Toll Free) \nSingapore : +65 3165 1065
  or +65 3158 7288 or 800 852 6054 (Toll Free) \nSlovakia : +421 233 418
  515 or +421 233 056 888 or 0 800 005 424 (Toll Free) \nSlovenia : +386
  1888 8788 or +386 1600 3102 or 0 80 488 840 (Toll Free) \nSouth Africa :
  +27 87 551 7702 or +27 87 550 3946 or 0 800 064 584 (Toll Free) or 0 800
  008 728 (Toll Free) \nKorea\, Republic of : +82 2 6105 4111 or +82 2
  6022 2322 or 0 808 220 250 (Toll Free) \nSpain : +34 917 873 431 or +34
  84 368 5025 or +34 91 787 0058 or 900 839 088 (Toll Free) \nSri Lanka :
  +94 7 2091 0374 \nSweden : +46 850 539 728 or +46 8 4468 2488 or +46 8
  5052 0017 or 0 20 889 860 (Toll Free) \nSwitzerland : +41 43 210 71 08
  or +41 31 528 09 88 or +41 43 210 70 42 or 0 800 002 622 (Toll Free)
  \nTaiwan : +886 (2) 7741 7473 or 08 0909 9864 (Toll Free) \nThailand :
  +66 60 003 5790 or +66 2018 2486 or 1 800 012 275 (Toll Free) \nTrinidad
  and Tobago : +1 868 224 5838 \nTunisia : +216 31 397 748 \nTurkey : +90
  216 900 2606 or +90 216 900 1866 or 811 213 0011 (Toll Free) \nUganda :
  +256 206 300 097 \nUkraine : 0 800 501 567 (Toll Free) \nUnited Arab
  Emirates : 800 035 704 555 (Toll Free) or 800 035 704 239 (Toll Free)
  \nUnited Kingdom : +44 203 051 2874 or +44 203 481 5237 or +44 203 481
  5240 or +44 131 460 1196 or 0 800 031 5717 (Toll Free) \nUruguay : 0004
  054 189 (Toll Free) \nUzbekistan : 800 120 1235 (Toll Free) \nVenezuela
  (Bolivarian Republic of) : 0 800 100 5564 (Toll Free) \nViet Nam : +84
  28 4458 2373 \nZimbabwe : +263 864 404 1086 \nMeeting ID: \n341 011
  0459\nInternational numbers [icann.zoom.us]\n\n\n\n\n
LOCATION:21:00 UTC /  https://icann.zoom.us/my/icann67prepweek
ORGANIZER:MAILTO:PolicyCalendar@icann.org
SEQUENCE:3
ATTENDEE;ROLE=REQ-PARTICIPANT;RSVP=FALSE;CN=ntfy-gnso-council@icann.org;PA
 RTSTAT=NEEDS-ACTION:MAILTO:ntfy-gnso-council@icann.org
ATTENDEE;ROLE=REQ-PARTICIPANT;RSVP=FALSE;CN="Jeff
  Neuman";PARTSTAT=NEEDS-ACTION:MAILTO:jeff.neuman@comlaude.com
ATTENDEE;ROLE=REQ-PARTICIPANT;RSVP=FALSE;CN="Cheryl
  Langdon-Orr";PARTSTAT=NEEDS-ACTION:MAILTO:langdonorr@gmail.com
ATTENDEE;ROLE=REQ-PARTICIPANT;RSVP=FALSE;CN="Janis
  Karklins";PARTSTAT=NEEDS-ACTION:MAILTO:karklinsj@gmail.com
ATTENDEE;ROLE=REQ-PARTICIPANT;RSVP=FALSE;CN="Corwin,
  Philip";PARTSTAT=NEEDS-ACTION:MAILTO:pcorwin@verisign.com
ATTENDEE;ROLE=REQ-PARTICIPANT;RSVP=FALSE;CN=jeff.neuman@valideus.com;PARTS
 TAT=NEEDS-ACTION:MAILTO:jeff.neuman@valideus.com
ATTENDEE;ROLE=REQ-PARTICIPANT;RSVP=FALSE;CN="Kathy
  Kleiman";PARTSTAT=NEEDS-ACTION:MAILTO:kathy@kathykleiman.com
ATTENDEE;ROLE=REQ-PARTICIPANT;RSVP=FALSE;CN="BECKHAM,
  Brian";PARTSTAT=NEEDS-ACTION:MAILTO:brian.beckham@wipo.int
ATTENDEE;ROLE=REQ-PARTICIPANT;RSVP=FALSE;CN="Marika
  Konings";PARTSTAT=NEEDS-ACTION:MAILTO:marika.konings@icann.org
ATTENDEE;ROLE=REQ-PARTICIPANT;RSVP=FALSE;CN="Mary
  Wong";PARTSTAT=NEEDS-ACTION:MAILTO:mary.wong@icann.org
ATTENDEE;ROLE=REQ-PARTICIPANT;RSVP=FALSE;CN="Steve
  Chan";PARTSTAT=NEEDS-ACTION:MAILTO:steve.chan@icann.org
ATTENDEE;ROLE=REQ-PARTICIPANT;RSVP=FALSE;CN="Julie
  Hedlund";PARTSTAT=NEEDS-ACTION:MAILTO:julie.hedlund@icann.org
ATTENDEE;ROLE=REQ-PARTICIPANT;RSVP=FALSE;CN="Emily
  Barabas";PARTSTAT=NEEDS-ACTION:MAILTO:emily.barabas@icann.org
ATTENDEE;ROLE=REQ-PARTICIPANT;RSVP=FALSE;CN="Caitlin
  Tubergen";PARTSTAT=NEEDS-ACTION:MAILTO:caitlin.tubergen@icann.org
ATTENDEE;ROLE=REQ-PARTICIPANT;RSVP=FALSE;CN="Ariel
  Liang";PARTSTAT=NEEDS-ACTION:MAILTO:ariel.liang@icann.org
ATTENDEE;ROLE=REQ-PARTICIPANT;RSVP=FALSE;CN=policy@bacinblack.com;PARTSTAT
 =NEEDS-ACTION:MAILTO:policy@bacinblack.com
ATTENDEE;ROLE=REQ-PARTICIPANT;RSVP=FALSE;CN="Nathalie
  Peregrine";PARTSTAT=NEEDS-ACTION:MAILTO:nathalie.peregrine@icann.org
ATTENDEE;ROLE=REQ-PARTICIPANT;RSVP=FALSE;CN="Michelle
  DeSmyter";PARTSTAT=NEEDS-ACTION:MAILTO:michelle.desmyter@icann.org
ATTENDEE;ROLE=REQ-PARTICIPANT;RSVP=FALSE;CN="Andrea
  Glandon";PARTSTAT=NEEDS-ACTION:MAILTO:andrea.glandon@icann.org
ATTENDEE;ROLE=REQ-PARTICIPANT;RSVP=FALSE;CN="Terri
  Agnew";PARTSTAT=NEEDS-ACTION:MAILTO:terri.agnew@icann.org
ATTENDEE;ROLE=REQ-PARTICIPANT;RSVP=FALSE;CN="Ozan
  Sahin";PARTSTAT=NEEDS-ACTION:MAILTO:ozan.sahin@icann.org
ATTENDEE;ROLE=REQ-PARTICIPANT;RSVP=FALSE;CN="Maria
  Otanes";PARTSTAT=NEEDS-ACTION:MAILTO:maria.otanes@icann.org
ATTENDEE;ROLE=REQ-PARTICIPANT;RSVP=FALSE;CN="Julie
  Bisland";PARTSTAT=NEEDS-ACTION:MAILTO:julie.bisland@icann.org
X-MICROSOFT-CDO-BUSYSTATUS:BUSY
X-MICROSOFT-CDO-ALLDAYEVENT:FALSE
X-MICROSOFT-DISALLOW-COUNTER:TRUE
X-MICROSOFT-DONOTFORWARDMEETING:FALSE
X-MICROSOFT-CDO-INSTTYPE:0
BEGIN:VALARM
ACTION:DISPLAY
DESCRIPTION:REMINDER
TRIGGER;RELATED=START:-PT00H15M00S
END:VALARM
END:VEVENT
END:VCALENDAR
