BEGIN:VCALENDAR
METHOD:REQUEST
PRODID:Microsoft Exchange Server 2010
VERSION:2.0
BEGIN:VTIMEZONE
TZID:UTC
BEGIN:STANDARD
DTSTART:16010101T000000
TZOFFSETFROM:+0000
TZOFFSETTO:+0000
END:STANDARD
BEGIN:DAYLIGHT
DTSTART:16010101T000000
TZOFFSETFROM:+0000
TZOFFSETTO:+0000
END:DAYLIGHT
END:VTIMEZONE
BEGIN:VEVENT
ORGANIZER;CN=ICANN Policy Calendar:MAILTO:PolicyCalendar@icann.org
ATTENDEE;ROLE=REQ-PARTICIPANT;PARTSTAT=NEEDS-ACTION;RSVP=FALSE;CN=Steve Cha
 n:MAILTO:steve.chan@icann.org
ATTENDEE;ROLE=REQ-PARTICIPANT;PARTSTAT=NEEDS-ACTION;RSVP=FALSE;CN=Marika Ko
 nings:MAILTO:marika.konings@icann.org
ATTENDEE;ROLE=REQ-PARTICIPANT;PARTSTAT=NEEDS-ACTION;RSVP=FALSE;CN=Mary Wong
 :MAILTO:mary.wong@icann.org
ATTENDEE;ROLE=REQ-PARTICIPANT;PARTSTAT=NEEDS-ACTION;RSVP=FALSE;CN=Julie Hed
 lund:MAILTO:julie.hedlund@icann.org
ATTENDEE;ROLE=REQ-PARTICIPANT;PARTSTAT=NEEDS-ACTION;RSVP=FALSE;CN=Caitlin T
 ubergen:MAILTO:caitlin.tubergen@icann.org
ATTENDEE;ROLE=REQ-PARTICIPANT;PARTSTAT=NEEDS-ACTION;RSVP=FALSE;CN=Emily Bar
 abas:MAILTO:emily.barabas@icann.org
ATTENDEE;ROLE=REQ-PARTICIPANT;PARTSTAT=NEEDS-ACTION;RSVP=FALSE;CN=Ariel Lia
 ng:MAILTO:ariel.liang@icann.org
ATTENDEE;ROLE=REQ-PARTICIPANT;PARTSTAT=NEEDS-ACTION;RSVP=FALSE;CN=Berry Cob
 b:MAILTO:Berry.Cobb@icann.org
ATTENDEE;ROLE=REQ-PARTICIPANT;PARTSTAT=NEEDS-ACTION;RSVP=FALSE;CN=Nathalie 
 Peregrine:MAILTO:nathalie.peregrine@icann.org
ATTENDEE;ROLE=REQ-PARTICIPANT;PARTSTAT=NEEDS-ACTION;RSVP=FALSE;CN=Michelle 
 DeSmyter:MAILTO:michelle.desmyter@icann.org
ATTENDEE;ROLE=REQ-PARTICIPANT;PARTSTAT=NEEDS-ACTION;RSVP=FALSE;CN=Julie Bis
 land:MAILTO:julie.bisland@icann.org
ATTENDEE;ROLE=REQ-PARTICIPANT;PARTSTAT=NEEDS-ACTION;RSVP=FALSE;CN=Devan Ree
 d:MAILTO:devan.reed@icann.org
ATTENDEE;ROLE=REQ-PARTICIPANT;PARTSTAT=NEEDS-ACTION;RSVP=FALSE;CN=Terri Agn
 ew:MAILTO:terri.agnew@icann.org
ATTENDEE;ROLE=REQ-PARTICIPANT;PARTSTAT=NEEDS-ACTION;RSVP=FALSE;CN=council@g
 nso.icann.org:MAILTO:council@gnso.icann.org
ATTENDEE;ROLE=REQ-PARTICIPANT;PARTSTAT=NEEDS-ACTION;RSVP=FALSE;CN=Board Cal
 endaring:MAILTO:Board-Calendaring@icann.org
ATTENDEE;ROLE=REQ-PARTICIPANT;PARTSTAT=NEEDS-ACTION;RSVP=FALSE;CN=Board Ops
  Team:MAILTO:board-ops-team@icann.org
DESCRIPTION;LANGUAGE=en-US:Meeting: ICANN Board &amp\; GNSO Council | IGO E
 PDP Recommendations Report\nDate/time: 11 January 2023 at 17:00 UTC for 60
  minutes\n\nICANN Board &amp\; GNSO Council member will be panelists. Ques
 tions will be taken from ICANN Board &amp\; GNSO Council only but chat wil
 l be enabled for all.\n\nObservers are welcome to join and will be in  lis
 ten-only mode but have ability to zoom chat only\n\nZoom webinar room: htt
 ps://icann.zoom.us/j/94374077297?pwd=YVdPd0dwRzE3T0NwVElWMGFDWERodz09\nPas
 scode: 0eQ1&amp\;J93H6\n\nOne tap mobile :\n    US: &#43\;13126266799\,\,9
 4374077297#\,\,\,\,*4767405445#  or &#43\;19294362866\,\,94374077297#\,\,\
 ,\,*4767405445#\n\nWebinar ID: 943 7407 7297\nPasscode: 4767405445\n    In
 ternational numbers available: https://icann.zoom.us/u/acBl972Dg\n
UID:FAE735C6-394B-4DF2-943A-EA37A5F8C4C6
SUMMARY;LANGUAGE=en-US:Joint Meeting: ICANN Board & GNSO Council | IGO EPDP
  Recommendations Report
DTSTART;TZID=UTC:20230111T170000
DTEND;TZID=UTC:20230111T180000
CLASS:PUBLIC
PRIORITY:5
DTSTAMP:20221117T042150Z
TRANSP:OPAQUE
STATUS:CONFIRMED
SEQUENCE:1
LOCATION;LANGUAGE=en-US:17:00 UTC | https://icann.zoom.us/j/94374077297?pwd
 =YVdPd0dwRzE3T0NwVElWMGFDWERodz09 
X-MICROSOFT-CDO-APPT-SEQUENCE:1
X-MICROSOFT-CDO-OWNERAPPTID:2120971960
X-MICROSOFT-CDO-BUSYSTATUS:TENTATIVE
X-MICROSOFT-CDO-INTENDEDSTATUS:BUSY
X-MICROSOFT-CDO-ALLDAYEVENT:FALSE
X-MICROSOFT-CDO-IMPORTANCE:1
X-MICROSOFT-CDO-INSTTYPE:0
X-MICROSOFT-DONOTFORWARDMEETING:FALSE
X-MICROSOFT-DISALLOW-COUNTER:TRUE
BEGIN:VALARM
DESCRIPTION:REMINDER
TRIGGER;RELATED=START:-PT15M
ACTION:DISPLAY
END:VALARM
END:VEVENT
END:VCALENDAR
