BEGIN:VCALENDAR
METHOD:CANCEL
PRODID:Microsoft Exchange Server 2010
VERSION:2.0
BEGIN:VTIMEZONE
TZID:UTC
BEGIN:STANDARD
DTSTART:16010101T000000
TZOFFSETFROM:+0000
TZOFFSETTO:+0000
END:STANDARD
BEGIN:DAYLIGHT
DTSTART:16010101T000000
TZOFFSETFROM:+0000
TZOFFSETTO:+0000
END:DAYLIGHT
END:VTIMEZONE
BEGIN:VEVENT
ORGANIZER;CN=ICANN Policy Calendar:MAILTO:PolicyCalendar@icann.org
ATTENDEE;ROLE=REQ-PARTICIPANT;PARTSTAT=NEEDS-ACTION;RSVP=FALSE;CN=council@g
 nso.icann.org:MAILTO:council@gnso.icann.org
ATTENDEE;ROLE=REQ-PARTICIPANT;PARTSTAT=NEEDS-ACTION;RSVP=FALSE;CN=Marika Ko
 nings:MAILTO:marika.konings@icann.org
ATTENDEE;ROLE=REQ-PARTICIPANT;PARTSTAT=NEEDS-ACTION;RSVP=FALSE;CN=Mary Wong
 :MAILTO:mary.wong@icann.org
ATTENDEE;ROLE=REQ-PARTICIPANT;PARTSTAT=NEEDS-ACTION;RSVP=FALSE;CN=Steve Cha
 n:MAILTO:steve.chan@icann.org
ATTENDEE;ROLE=REQ-PARTICIPANT;PARTSTAT=NEEDS-ACTION;RSVP=FALSE;CN=Julie Hed
 lund:MAILTO:julie.hedlund@icann.org
ATTENDEE;ROLE=REQ-PARTICIPANT;PARTSTAT=NEEDS-ACTION;RSVP=FALSE;CN=Emily Bar
 abas:MAILTO:emily.barabas@icann.org
ATTENDEE;ROLE=REQ-PARTICIPANT;PARTSTAT=NEEDS-ACTION;RSVP=FALSE;CN=Caitlin T
 ubergen:MAILTO:caitlin.tubergen@icann.org
ATTENDEE;ROLE=REQ-PARTICIPANT;PARTSTAT=NEEDS-ACTION;RSVP=FALSE;CN=Ariel Lia
 ng:MAILTO:ariel.liang@icann.org
ATTENDEE;ROLE=REQ-PARTICIPANT;PARTSTAT=NEEDS-ACTION;RSVP=FALSE;CN=Berry Cob
 b:MAILTO:Berry.Cobb@icann.org
ATTENDEE;ROLE=REQ-PARTICIPANT;PARTSTAT=NEEDS-ACTION;RSVP=FALSE;CN=Nathalie 
 Peregrine:MAILTO:nathalie.peregrine@icann.org
ATTENDEE;ROLE=REQ-PARTICIPANT;PARTSTAT=NEEDS-ACTION;RSVP=FALSE;CN=Terri Agn
 ew:MAILTO:terri.agnew@icann.org
ATTENDEE;ROLE=REQ-PARTICIPANT;PARTSTAT=NEEDS-ACTION;RSVP=FALSE;CN=Devan Ree
 d:MAILTO:devan.reed@icann.org
ATTENDEE;ROLE=REQ-PARTICIPANT;PARTSTAT=NEEDS-ACTION;RSVP=FALSE;CN=Michelle 
 DeSmyter:MAILTO:michelle.desmyter@icann.org
ATTENDEE;ROLE=REQ-PARTICIPANT;PARTSTAT=NEEDS-ACTION;RSVP=FALSE;CN=Julie Bis
 land:MAILTO:julie.bisland@icann.org
DESCRIPTION;LANGUAGE=en-US:Meeting:   GNSO SPS Catch up call\nDate/Time:  M
 onday\, 09 May 2022 at 20:00 UTC for 90 minutes\n\nPlease click the link b
 elow to join the webinar:\nhttps://icann.zoom.us/j/92399217049?pwd=WU1GZml
 aOTh6NzJ1NndkRVF0MnJEUT09\nPasscode: Y&N1.Y7E%^\n\nOr One tap mobile :\nUS
 : +13126266799\,\,92399217049#\,\,\,\,*4890633693#  or +19294362866\,\,923
 99217049#\,\,\,\,*4890633693#\n\nOr Telephone:\nDial(for higher quality\, 
 dial a number based on your current location):\nUS: +1 312 626 6799  or +1
  929 436 2866  or +1 301 715 8592  or +1 669 900 6833  or +1 253 215 8782 
  or +1 346 248 7799  or 888 788 0099 (Toll Free) or 833 548 0276 (Toll Fre
 e) or 833 548 0282 (Toll Free) or 877 853 5247 (Toll Free)\n\nWebinar ID: 
 923 9921 7049\nPasscode: 4890633693\nInternational numbers available: http
 s://icann.zoom.us/u/abnZisZ3XE\n
UID:46D00D60-C2F9-4628-A7C7-1EA641B91C25
SUMMARY;LANGUAGE=en-US:Canceled: GNSO SPS Catch up call
DTSTART;TZID=UTC:20220509T200000
DTEND;TZID=UTC:20220509T213000
CLASS:PUBLIC
PRIORITY:5
DTSTAMP:20220504T181307Z
TRANSP:TRANSPARENT
STATUS:CANCELLED
SEQUENCE:1
LOCATION;LANGUAGE=en-US:20:00 UTC / https://icann.zoom.us/j/92399217049?pwd
 =WU1GZmlaOTh6NzJ1NndkRVF0MnJEUT09 
X-MICROSOFT-CDO-APPT-SEQUENCE:1
X-MICROSOFT-CDO-OWNERAPPTID:2120323677
X-MICROSOFT-CDO-BUSYSTATUS:FREE
X-MICROSOFT-CDO-INTENDEDSTATUS:FREE
X-MICROSOFT-CDO-ALLDAYEVENT:FALSE
X-MICROSOFT-CDO-IMPORTANCE:1
X-MICROSOFT-CDO-INSTTYPE:0
X-MICROSOFT-DONOTFORWARDMEETING:FALSE
X-MICROSOFT-DISALLOW-COUNTER:TRUE
END:VEVENT
END:VCALENDAR
