BEGIN:VCALENDAR
VERSION:2.0
PRODID:-//Microsoft Corporation//Outlook for Mac MIMEDIR//EN
METHOD:PUBLISH
BEGIN:VTIMEZONE
TZID:Coordinated Universal Time
X-ENTOURAGE-CFTIMEZONE:Etc/GMT
X-ENTOURAGE-TZID:160
BEGIN:STANDARD
TZOFFSETFROM:+0000
TZOFFSETTO:+0000
DTSTART:16010101T000000
END:STANDARD
END:VTIMEZONE
BEGIN:VEVENT
UID:663A508A-D189-4C48-903C-DE27C6F001C2
X-ENTOURAGE_UUID:663A508A-D189-4C48-903C-DE27C6F001C2
X-MICROSOFT-EXCHANGE-ID:AAMkADFlMDNlNjQ5LTNjNTUtNDJkMC04ZTI0LWFiMTFkOTgwND
 JhMQBGAAAAAAAdZPIZTDF9SJl4Q9bAl0gQBwAFskP3JLIoSYZSK2rNBQTXAIjV8WqdAACjhqXC
 SbKVRZwH7aZE5XhKAAM4wagBAAA=
CATEGORIES:
X-MICROSOFT-EXCHANGE-CHANGEKEY:DwAAABYAAACjhqXCSbKVRZwH7aZE5XhKAAM45hfZ
DTSTAMP:20240123T141713Z
DTSTART;TZID="Coordinated Universal Time":20240226T210000
DTEND;TZID="Coordinated Universal Time":20240226T220000
LAST-MODIFIED:20240123T141715Z
SUMMARY:Pre-ICANN79 GNSO Council Webinar 
DESCRIPTION:Meeting: Pre-ICANN79 GNSO Council Webinar \n\nDate/time:
  Monday\, 26 February 2024 at 21:00 UTC for 60 minutes\n\n \n\nBefore
  joining the call: \n\nPlease be sure you have read the Expected
  Standards of Behavior \n\nVisit the Wiki Agenda page:
   https://community.icann.org/x/lICtEQ\n\nCheck your time zone:  ������
  http://tinyurl.com/3y4sa69w\n\n \n\nGNSO Council members are expected to
  join and will be panelists. Questions will be taken from GNSO Council
  only. \n\n \n\nObservers are welcome and will be in listen-only
  mode.\n\n \n\nCouncilors should notify the GNSO Secretariat in advance
  if they will not be able to attend and/or need a dial out call\,
  gnso-secs@icann.org \n\n \n\nPlease click the link below to join the
  webinar:
  https://icann.zoom.us/j/92283565389?pwd=QnlHK1JSbzdiSFFZSjRjamxMTkNGdz09
  \n\nPasscode: f!Ym9!npfN\n\n \n\nIf joining Zoom via Zoom App the
  following will be required:\n\nWebinar ID: 922 8356 5389\n\nPasscode:
  6981311025\n\n \n\nOr One tap mobile :\n\n
     +13462487799\,\,92283565389#\,\,\,\,*6981311025# US (Houston)\n\n
     +16699006833\,\,92283565389#\,\,\,\,*6981311025# US (San Jose)\n\n
  \n\nIf you are joining via audio only:\n\nInternational numbers
  available: https://icann.zoom.us/u/adGHfYeA3T [icann.zoom.us]\n\n \n\n
  \n
LOCATION:21:00 UTC |
  https://icann.zoom.us/j/92283565389?pwd=QnlHK1JSbzdiSFFZSjRjamxMTkNGdz09
  
ORGANIZER:MAILTO:PolicyCalendar@icann.org
SEQUENCE:0
ATTENDEE;ROLE=REQ-PARTICIPANT;RSVP=FALSE;CN=council@gnso.icann.org;PARTSTA
 T=NEEDS-ACTION:MAILTO:council@gnso.icann.org
ATTENDEE;ROLE=REQ-PARTICIPANT;RSVP=FALSE;CN="Steve
  Chan";PARTSTAT=NEEDS-ACTION:MAILTO:steve.chan@icann.org
ATTENDEE;ROLE=REQ-PARTICIPANT;RSVP=FALSE;CN="Caitlin
  Tubergen";PARTSTAT=NEEDS-ACTION:MAILTO:caitlin.tubergen@icann.org
ATTENDEE;ROLE=REQ-PARTICIPANT;RSVP=FALSE;CN="Julie
  Hedlund";PARTSTAT=NEEDS-ACTION:MAILTO:julie.hedlund@icann.org
ATTENDEE;ROLE=REQ-PARTICIPANT;RSVP=FALSE;CN="Saewon
  Lee";PARTSTAT=NEEDS-ACTION:MAILTO:saewon.lee@icann.org
ATTENDEE;ROLE=REQ-PARTICIPANT;RSVP=FALSE;CN="Berry
  Cobb";PARTSTAT=NEEDS-ACTION:MAILTO:Berry.Cobb@icann.org
ATTENDEE;ROLE=REQ-PARTICIPANT;RSVP=FALSE;CN="Mary
  Wong";PARTSTAT=NEEDS-ACTION:MAILTO:mary.wong@icann.org
ATTENDEE;ROLE=REQ-PARTICIPANT;RSVP=FALSE;CN="David
  Olive";PARTSTAT=NEEDS-ACTION:MAILTO:david.olive@icann.org
ATTENDEE;ROLE=REQ-PARTICIPANT;RSVP=FALSE;CN="Julie
  Bisland";PARTSTAT=NEEDS-ACTION:MAILTO:julie.bisland@icann.org
ATTENDEE;ROLE=REQ-PARTICIPANT;RSVP=FALSE;CN="Devan
  Reed";PARTSTAT=NEEDS-ACTION:MAILTO:devan.reed@icann.org
ATTENDEE;ROLE=REQ-PARTICIPANT;RSVP=FALSE;CN="Terri
  Agnew";PARTSTAT=NEEDS-ACTION:MAILTO:terri.agnew@icann.org
X-MICROSOFT-CDO-BUSYSTATUS:BUSY
X-MICROSOFT-CDO-ALLDAYEVENT:FALSE
X-MICROSOFT-DISALLOW-COUNTER:TRUE
X-MICROSOFT-DONOTFORWARDMEETING:FALSE
X-MICROSOFT-CDO-INSTTYPE:0
BEGIN:VALARM
ACTION:DISPLAY
DESCRIPTION:REMINDER
TRIGGER;RELATED=START:-PT00H15M00S
END:VALARM
END:VEVENT
END:VCALENDAR
