BEGIN:VCALENDAR
METHOD:REQUEST
PRODID:Microsoft Exchange Server 2010
VERSION:2.0
BEGIN:VTIMEZONE
TZID:(UTC) Coordinated Universal Time
BEGIN:STANDARD
DTSTART:16010101T000000
TZOFFSETFROM:+0000
TZOFFSETTO:+0000
END:STANDARD
BEGIN:DAYLIGHT
DTSTART:16010101T000000
TZOFFSETFROM:+0000
TZOFFSETTO:+0000
END:DAYLIGHT
END:VTIMEZONE
BEGIN:VEVENT
ORGANIZER;CN=ICANN Policy Calendar:MAILTO:PolicyCalendar@icann.org
ATTENDEE;ROLE=REQ-PARTICIPANT;PARTSTAT=NEEDS-ACTION;RSVP=TRUE;CN=Heidi Ullr
 ich:MAILTO:Heidi.Ullrich@icann.org
ATTENDEE;ROLE=REQ-PARTICIPANT;PARTSTAT=NEEDS-ACTION;RSVP=TRUE;CN=Gisella Gr
 uber:MAILTO:Gisella.Gruber@icann.org
ATTENDEE;ROLE=REQ-PARTICIPANT;PARTSTAT=NEEDS-ACTION;RSVP=TRUE;CN=Yesim Sagl
 am:MAILTO:yesim.nazlar@icann.org
ATTENDEE;ROLE=REQ-PARTICIPANT;PARTSTAT=NEEDS-ACTION;RSVP=TRUE;CN=Claudia Ru
 iz:MAILTO:claudia.ruiz@icann.org
ATTENDEE;ROLE=REQ-PARTICIPANT;PARTSTAT=NEEDS-ACTION;RSVP=TRUE;CN=Andrew Che
 n:MAILTO:andrew.chen@icann.org
ATTENDEE;ROLE=REQ-PARTICIPANT;PARTSTAT=NEEDS-ACTION;RSVP=TRUE;CN=Silvia Viv
 anco:MAILTO:silvia.vivanco@icann.org
ATTENDEE;ROLE=REQ-PARTICIPANT;PARTSTAT=NEEDS-ACTION;RSVP=TRUE;CN=Michelle D
 eSmyter:MAILTO:michelle.desmyter@icann.org
ATTENDEE;ROLE=REQ-PARTICIPANT;PARTSTAT=NEEDS-ACTION;RSVP=TRUE;CN=cpwg@icann
 .org:MAILTO:cpwg@icann.org
ATTENDEE;ROLE=REQ-PARTICIPANT;PARTSTAT=NEEDS-ACTION;RSVP=TRUE;CN=atlasiiipa
 rticipants@icann.org:MAILTO:atlasiiiparticipants@icann.org
ATTENDEE;ROLE=REQ-PARTICIPANT;PARTSTAT=NEEDS-ACTION;RSVP=TRUE;CN=lac-discus
 s-en@icann.org:MAILTO:lac-discuss-en@icann.org
ATTENDEE;ROLE=REQ-PARTICIPANT;PARTSTAT=NEEDS-ACTION;RSVP=TRUE;CN=euro-discu
 ss@atlarge-lists.icann.org:MAILTO:euro-discuss@atlarge-lists.icann.org
ATTENDEE;ROLE=REQ-PARTICIPANT;PARTSTAT=NEEDS-ACTION;RSVP=TRUE;CN=apac-discu
 ss@atlarge-lists.icann.org:MAILTO:apac-discuss@atlarge-lists.icann.org
ATTENDEE;ROLE=REQ-PARTICIPANT;PARTSTAT=NEEDS-ACTION;RSVP=TRUE;CN=afri-discu
 ss@atlarge-lists.icann.org:MAILTO:afri-discuss@atlarge-lists.icann.org
ATTENDEE;ROLE=REQ-PARTICIPANT;PARTSTAT=NEEDS-ACTION;RSVP=TRUE;CN=na-discuss
 @atlarge-lists.icann.org:MAILTO:na-discuss@atlarge-lists.icann.org
ATTENDEE;ROLE=REQ-PARTICIPANT;PARTSTAT=NEEDS-ACTION;RSVP=TRUE;CN=JZuck@inno
 vatorsnetwork.org:MAILTO:JZuck@innovatorsnetwork.org
ATTENDEE;ROLE=REQ-PARTICIPANT;PARTSTAT=NEEDS-ACTION;RSVP=TRUE;CN=ocl@gih.co
 m:MAILTO:ocl@gih.com
ATTENDEE;ROLE=REQ-PARTICIPANT;PARTSTAT=NEEDS-ACTION;RSVP=TRUE;CN=jamie@alac
 arteconnection.com:MAILTO:jamie@alacarteconnection.com
ATTENDEE;ROLE=REQ-PARTICIPANT;PARTSTAT=NEEDS-ACTION;RSVP=TRUE;CN=Sabrina Mo
 squera:MAILTO:sabrina.mosquera@icann.org
ATTENDEE;ROLE=REQ-PARTICIPANT;PARTSTAT=NEEDS-ACTION;RSVP=TRUE;CN=Maria Vila
 rdo:MAILTO:maria.vilardo@icann.org
ATTENDEE;ROLE=REQ-PARTICIPANT;PARTSTAT=NEEDS-ACTION;RSVP=TRUE;CN=Jessie Doh
 erty:MAILTO:jessie.doherty@icann.org
ATTENDEE;ROLE=REQ-PARTICIPANT;PARTSTAT=NEEDS-ACTION;RSVP=TRUE;CN=office@alc
 CART.com:MAILTO:office@alcCART.com
ATTENDEE;ROLE=OPT-PARTICIPANT;PARTSTAT=NEEDS-ACTION;RSVP=TRUE;CN=Mikhail An
 isimov:MAILTO:mikhail.anisimov@icann.org
ATTENDEE;ROLE=OPT-PARTICIPANT;PARTSTAT=NEEDS-ACTION;RSVP=TRUE;CN=Shah Zahid
 ur Rahman:MAILTO:shah.zahidur@gmail.com
ATTENDEE;ROLE=OPT-PARTICIPANT;PARTSTAT=NEEDS-ACTION;RSVP=TRUE;CN=Mahmoud La
 ttouf:MAILTO:mlattouf@agip.com
ATTENDEE;ROLE=OPT-PARTICIPANT;PARTSTAT=NEEDS-ACTION;RSVP=TRUE;CN=Joe Catapa
 no:MAILTO:joe.catapano@icann.org
ATTENDEE;ROLE=OPT-PARTICIPANT;PARTSTAT=NEEDS-ACTION;RSVP=TRUE;CN=Waqar Ahma
 d:MAILTO:waqar.ravian1@gmail.com
ATTENDEE;ROLE=OPT-PARTICIPANT;PARTSTAT=NEEDS-ACTION;RSVP=TRUE;CN=Abdalmonem
  Tharwat Galila:MAILTO:agalila@mcit.gov.eg
ATTENDEE;ROLE=OPT-PARTICIPANT;PARTSTAT=NEEDS-ACTION;RSVP=TRUE;CN=Fahd Batay
 neh:MAILTO:fahd.batayneh@icann.org
ATTENDEE;ROLE=OPT-PARTICIPANT;PARTSTAT=NEEDS-ACTION;RSVP=TRUE;CN=cubahiro f
 rancis olivier:MAILTO:frcubahiro@gmail.com
ATTENDEE;ROLE=OPT-PARTICIPANT;PARTSTAT=NEEDS-ACTION;RSVP=TRUE;CN=Frank Anat
 i:MAILTO:anatifrank@gmail.com
ATTENDEE;ROLE=OPT-PARTICIPANT;PARTSTAT=NEEDS-ACTION;RSVP=TRUE;CN=Houda CHIH
 I:MAILTO:houda.chihi@supcom.tn
ATTENDEE;ROLE=OPT-PARTICIPANT;PARTSTAT=NEEDS-ACTION;RSVP=TRUE;CN=Laura Marg
 olis:MAILTO:margolisl@gmail.com
ATTENDEE;ROLE=OPT-PARTICIPANT;PARTSTAT=NEEDS-ACTION;RSVP=TRUE;CN=Danko Jevt
 ović:MAILTO:danko@jevtovic.rs
ATTENDEE;ROLE=OPT-PARTICIPANT;PARTSTAT=NEEDS-ACTION;RSVP=TRUE;CN=Albert Dan
 iels:MAILTO:albert.daniels@icann.org
ATTENDEE;ROLE=OPT-PARTICIPANT;PARTSTAT=NEEDS-ACTION;RSVP=TRUE;CN=Stephen Da
 kyi:MAILTO:nanayawbotar@gmail.com
ATTENDEE;ROLE=OPT-PARTICIPANT;PARTSTAT=NEEDS-ACTION;RSVP=TRUE;CN=Mark Heale
 y:MAILTO:m@rk.me.uk
ATTENDEE;ROLE=OPT-PARTICIPANT;PARTSTAT=NEEDS-ACTION;RSVP=TRUE;CN=sam kinuth
 ia:MAILTO:samkih1@gmail.com
ATTENDEE;ROLE=OPT-PARTICIPANT;PARTSTAT=NEEDS-ACTION;RSVP=TRUE;CN=Vanda Scar
 tezini:MAILTO:vanda@scartezini.org
ATTENDEE;ROLE=OPT-PARTICIPANT;PARTSTAT=NEEDS-ACTION;RSVP=TRUE;CN=Angelo Kla
 nclounon:MAILTO:klanjo2001@gmail.com
ATTENDEE;ROLE=OPT-PARTICIPANT;PARTSTAT=NEEDS-ACTION;RSVP=TRUE;CN=Evin Erdog
 du:MAILTO:evin.erdogdu@icann.org
ATTENDEE;ROLE=OPT-PARTICIPANT;PARTSTAT=NEEDS-ACTION;RSVP=TRUE;CN=James Paek
 :MAILTO:jamespaek2@gmail.com
ATTENDEE;ROLE=OPT-PARTICIPANT;PARTSTAT=NEEDS-ACTION;RSVP=TRUE;CN=Pua Hunter
 :MAILTO:huntertepua@gmail.com
ATTENDEE;ROLE=OPT-PARTICIPANT;PARTSTAT=NEEDS-ACTION;RSVP=TRUE;CN=Gabdibé G
 AB-HINGONNE:MAILTO:gabdibegabhingonne@gmail.com
ATTENDEE;ROLE=OPT-PARTICIPANT;PARTSTAT=NEEDS-ACTION;RSVP=TRUE;CN=Bram Fudzu
 lani:MAILTO:beatblam@hotmail.com
ATTENDEE;ROLE=OPT-PARTICIPANT;PARTSTAT=NEEDS-ACTION;RSVP=TRUE;CN=Tijani:MAI
 LTO:tijani.benjemaa@topnet.tn
ATTENDEE;ROLE=OPT-PARTICIPANT;PARTSTAT=NEEDS-ACTION;RSVP=TRUE;CN=Maureen Hi
 lyard:MAILTO:maureen.hilyard@gmail.com
ATTENDEE;ROLE=OPT-PARTICIPANT;PARTSTAT=NEEDS-ACTION;RSVP=TRUE;CN=Cheryl Lan
 gdon-Orr:MAILTO:langdonorr@gmail.com
ATTENDEE;ROLE=OPT-PARTICIPANT;PARTSTAT=NEEDS-ACTION;RSVP=TRUE;CN=Natalia Fi
 lina:MAILTO:filinafilka@gmail.com
ATTENDEE;ROLE=OPT-PARTICIPANT;PARTSTAT=NEEDS-ACTION;RSVP=TRUE;CN=Nazmul Has
 an Majumder:MAILTO:nazmulmajumder@gmail.com
ATTENDEE;ROLE=OPT-PARTICIPANT;PARTSTAT=NEEDS-ACTION;RSVP=TRUE;CN=Folli Herb
 ert AMOUZOUGAN:MAILTO:1ganf2@gmail.com
ATTENDEE;ROLE=OPT-PARTICIPANT;PARTSTAT=NEEDS-ACTION;RSVP=TRUE;CN=Priyatosh 
 Jana:MAILTO:priyatoshjana@gmail.com
ATTENDEE;ROLE=OPT-PARTICIPANT;PARTSTAT=NEEDS-ACTION;RSVP=TRUE;CN=aicha abba
 ad:MAILTO:aichaabbadarpsha@gmail.com
ATTENDEE;ROLE=OPT-PARTICIPANT;PARTSTAT=NEEDS-ACTION;RSVP=TRUE;CN=Hong Xue:M
 AILTO:hong_xue@hotmail.com
ATTENDEE;ROLE=OPT-PARTICIPANT;PARTSTAT=NEEDS-ACTION;RSVP=TRUE;CN=Mabda Haer
 unnisa Fajrilla Sidiq:MAILTO:mabda.haerunnisa@gmail.com
ATTENDEE;ROLE=OPT-PARTICIPANT;PARTSTAT=NEEDS-ACTION;RSVP=TRUE;CN=Jia Rong L
 ow:MAILTO:jiarong.low@icann.org
ATTENDEE;ROLE=OPT-PARTICIPANT;PARTSTAT=NEEDS-ACTION;RSVP=TRUE;CN=Bendjedid 
 Rachad Sanoussi:MAILTO:rachadsanoussi@gmail.com
ATTENDEE;ROLE=OPT-PARTICIPANT;PARTSTAT=NEEDS-ACTION;RSVP=TRUE;CN=Nur Adlin 
 Hanisah Shahul Ikram:MAILTO:adlinhanisah92@gmail.com
ATTENDEE;ROLE=OPT-PARTICIPANT;PARTSTAT=NEEDS-ACTION;RSVP=TRUE;CN=Prateek Pa
 thak:MAILTO:pathakprateek28@gmail.com
ATTENDEE;ROLE=OPT-PARTICIPANT;PARTSTAT=NEEDS-ACTION;RSVP=TRUE;CN=Laxmi Pras
 ad Yadav:MAILTO:laxmiyadav@gmail.com
ATTENDEE;ROLE=OPT-PARTICIPANT;PARTSTAT=NEEDS-ACTION;RSVP=TRUE;CN=gopal:MAIL
 TO:gopal@annauniv.edu
ATTENDEE;ROLE=OPT-PARTICIPANT;PARTSTAT=NEEDS-ACTION;RSVP=TRUE;CN=Adrian Sch
 midt:MAILTO:aschmi@gmail.com
ATTENDEE;ROLE=OPT-PARTICIPANT;PARTSTAT=NEEDS-ACTION;RSVP=TRUE;CN=Seher Sagi
 roglu:MAILTO:seher.sagiroglu@icann.org
ATTENDEE;ROLE=OPT-PARTICIPANT;PARTSTAT=NEEDS-ACTION;RSVP=TRUE;CN=Nathalie P
 eregrine:MAILTO:nathalie.peregrine@icann.org
ATTENDEE;ROLE=OPT-PARTICIPANT;PARTSTAT=NEEDS-ACTION;RSVP=TRUE;CN=Aurelie Pi
 nzon:MAILTO:pinzon.inteam.icann@gmail.com
ATTENDEE;ROLE=OPT-PARTICIPANT;PARTSTAT=NEEDS-ACTION;RSVP=TRUE;CN=Dominique 
 Gutierrez:MAILTO:gutierrez.inteam.icann@gmail.com
ATTENDEE;ROLE=OPT-PARTICIPANT;PARTSTAT=NEEDS-ACTION;RSVP=TRUE;CN=Penelas IC
 ANN:MAILTO:penelas.inteam.icann@gmail.com
ATTENDEE;ROLE=OPT-PARTICIPANT;PARTSTAT=NEEDS-ACTION;RSVP=TRUE;CN=Epstein IC
 ANN:MAILTO:epstein.inteam.icann@gmail.com
ATTENDEE;ROLE=OPT-PARTICIPANT;PARTSTAT=NEEDS-ACTION;RSVP=TRUE;CN=Andrew Wil
 liams:MAILTO:andrew.williams@accan.org.au
ATTENDEE;ROLE=OPT-PARTICIPANT;PARTSTAT=NEEDS-ACTION;RSVP=TRUE;CN=Bob Ochien
 g:MAILTO:bob.ochieng@icann.org
ATTENDEE;ROLE=OPT-PARTICIPANT;PARTSTAT=NEEDS-ACTION;RSVP=TRUE;CN=Jonathan S
 hea:MAILTO:jonathan_shea@hotmail.com
ATTENDEE;ROLE=OPT-PARTICIPANT;PARTSTAT=NEEDS-ACTION;RSVP=TRUE;CN=Yaovi Atoh
 oun:MAILTO:yaovi.atohoun@icann.org
ATTENDEE;ROLE=OPT-PARTICIPANT;PARTSTAT=NEEDS-ACTION;RSVP=TRUE;CN=Pierre Dan
 djinou:MAILTO:pierre.dandjinou@icann.org
ATTENDEE;ROLE=OPT-PARTICIPANT;PARTSTAT=NEEDS-ACTION;RSVP=TRUE;CN=Executive 
 Director:MAILTO:execdir@ncf.ca
ATTENDEE;ROLE=OPT-PARTICIPANT;PARTSTAT=NEEDS-ACTION;RSVP=TRUE;CN=Andrea Bec
 calli:MAILTO:andrea.beccalli@icann.org
ATTENDEE;ROLE=OPT-PARTICIPANT;PARTSTAT=NEEDS-ACTION;RSVP=TRUE;CN=Natálie T
 erčová:MAILTO:natalie.tercova@gmail.com
ATTENDEE;ROLE=OPT-PARTICIPANT;PARTSTAT=NEEDS-ACTION;RSVP=TRUE;CN=Saima Nisa
 r:MAILTO:saimaanisar@gmail.com
ATTENDEE;ROLE=OPT-PARTICIPANT;PARTSTAT=NEEDS-ACTION;RSVP=TRUE;CN=Sergio Sal
 inas Porto:MAILTO:presidencia@internauta.org.ar
DESCRIPTION;LANGUAGE=en-US:**If you require a dial out or need to state an 
 apology\, please contact At-Large staff at staff@atlarge.icann.org<mailto:
 staff@atlarge.icann.org> with your preferred number***\nDear All\,\n\nThe 
 next At-Large Consolidated Policy Working Group (CPWG) Call is scheduled f
 or Wednesday\, 17 April 2024 at 15:00 UTC for 90 mins\,\n\nFor other times
 : https://tinyurl.com/4avbxt5v<http://tinyurl.com/bdcm479f>\n\nThe agenda 
 (to be updated) and call details can be found at:  https://community.icann
 .org/x/cABkEw\n\nZoom Room: https://icann.zoom.us/j/765717566?pwd=UTJCdWRS
 ZVdJNEhOYW02OVBqQVQ1Zz09 / Passcode: #CPWG2345*\n\nReal time transcription
  (RTT) available at (subject to availability): https://www.streamtext.net/
 player?event=ICANN\n\nADIGO Conference Bridge: (subject to availability)\n
 EN\, ES & FR: 3535\n\nToll-free access number (US and Canada): 800 550 686
 5\n\nOther toll-free numbers: https://www.adigo.com/icann\n\nAt-Large Cons
 olidated Policy Working Group (CPWG) Wiki Space: https://community.icann.o
 rg/x/jYDpB\n\nIf you require a dial-out please contact At-Large staff at: 
 staff@atlarge.icann.org<mailto:staff@atlarge.icann.org>\n\nThank you.\nKin
 d Regards\,\n\nAt-Large Staff\nICANN Policy Staff in support of the At-Lar
 ge Community\nWebsite: atlarge.icann.org<https://atlarge.icann.org/>\nFace
 book: facebook.com/icann<https://www.facebook.com/icannatlarge>atlarge<htt
 ps://www.facebook.com/icannatlarge>\nTwitter: @<https://twitter.com/ICANNA
 tLarge>ICANNAtLarge<https://twitter.com/ICANNAtLarge>\n\n
UID:040000008200E00074C5B7101A82E00800000000039B0503187ADA01000000000000000
 010000000EC2CA2067F607E4F806AD8156893B90E
SUMMARY;LANGUAGE=en-US:At-Large Consolidated Policy Working Group (CPWG) 
DTSTART;TZID=(UTC) Coordinated Universal Time:20240417T150000
DTEND;TZID=(UTC) Coordinated Universal Time:20240417T163000
CLASS:PUBLIC
PRIORITY:5
DTSTAMP:20240415T150916Z
TRANSP:OPAQUE
STATUS:CONFIRMED
SEQUENCE:6
LOCATION;LANGUAGE=en-US:15:00 UTC - Adigo: 3535 - Zoom: https://icann.zoom.
 us/j/765717566?pwd=UTJCdWRSZVdJNEhOYW02OVBqQVQ1Zz09
X-MICROSOFT-CDO-APPT-SEQUENCE:6
X-MICROSOFT-CDO-OWNERAPPTID:2122553347
X-MICROSOFT-CDO-BUSYSTATUS:TENTATIVE
X-MICROSOFT-CDO-INTENDEDSTATUS:BUSY
X-MICROSOFT-CDO-ALLDAYEVENT:FALSE
X-MICROSOFT-CDO-IMPORTANCE:1
X-MICROSOFT-CDO-INSTTYPE:0
X-MICROSOFT-DONOTFORWARDMEETING:FALSE
X-MICROSOFT-DISALLOW-COUNTER:FALSE
BEGIN:VALARM
DESCRIPTION:REMINDER
TRIGGER;RELATED=START:-PT15M
ACTION:DISPLAY
END:VALARM
X-MICROSOFT-LOCATIONDISPLAYNAME:15:00 UTC - Adigo: 3535 - Zoom: https://ica
 nn.zoom.us/j/765717566?pwd=UTJCdWRSZVdJNEhOYW02OVBqQVQ1Zz09
X-MICROSOFT-LOCATIONSOURCE:None
END:VEVENT
END:VCALENDAR
