BEGIN:VCALENDAR
METHOD:REQUEST
PRODID:Microsoft Exchange Server 2010
VERSION:2.0
BEGIN:VTIMEZONE
TZID:(UTC) Coordinated Universal Time
BEGIN:STANDARD
DTSTART:16010101T000000
TZOFFSETFROM:+0000
TZOFFSETTO:+0000
END:STANDARD
BEGIN:DAYLIGHT
DTSTART:16010101T000000
TZOFFSETFROM:+0000
TZOFFSETTO:+0000
END:DAYLIGHT
END:VTIMEZONE
BEGIN:VEVENT
ORGANIZER;CN=ICANN Policy Calendar:MAILTO:PolicyCalendar@icann.org
ATTENDEE;ROLE=REQ-PARTICIPANT;PARTSTAT=NEEDS-ACTION;RSVP=TRUE;CN=Heidi Ullr
 ich:MAILTO:Heidi.Ullrich@icann.org
ATTENDEE;ROLE=REQ-PARTICIPANT;PARTSTAT=NEEDS-ACTION;RSVP=TRUE;CN=Gisella Gr
 uber:MAILTO:Gisella.Gruber@icann.org
ATTENDEE;ROLE=REQ-PARTICIPANT;PARTSTAT=NEEDS-ACTION;RSVP=TRUE;CN=Claudia Ru
 iz:MAILTO:claudia.ruiz@icann.org
ATTENDEE;ROLE=REQ-PARTICIPANT;PARTSTAT=NEEDS-ACTION;RSVP=TRUE;CN=Michelle D
 eSmyter:MAILTO:michelle.desmyter@icann.org
ATTENDEE;ROLE=REQ-PARTICIPANT;PARTSTAT=NEEDS-ACTION;RSVP=TRUE;CN=Evin Erdog
 du:MAILTO:evin.erdogdu@icann.org
ATTENDEE;ROLE=REQ-PARTICIPANT;PARTSTAT=NEEDS-ACTION;RSVP=TRUE;CN=Silvia Viv
 anco:MAILTO:silvia.vivanco@icann.org
ATTENDEE;ROLE=REQ-PARTICIPANT;PARTSTAT=NEEDS-ACTION;RSVP=TRUE;CN=jamie@alac
 arteconnection.com:MAILTO:jamie@alacarteconnection.com
ATTENDEE;ROLE=REQ-PARTICIPANT;PARTSTAT=NEEDS-ACTION;RSVP=TRUE;CN=Office@ala
 carteconnection.com:MAILTO:Office@alacarteconnection.com
ATTENDEE;ROLE=REQ-PARTICIPANT;PARTSTAT=NEEDS-ACTION;RSVP=TRUE;CN=cpwg@icann
 .org:MAILTO:cpwg@icann.org
ATTENDEE;ROLE=REQ-PARTICIPANT;PARTSTAT=NEEDS-ACTION;RSVP=TRUE;CN=lac-discus
 s-en@icann.org:MAILTO:lac-discuss-en@icann.org
ATTENDEE;ROLE=REQ-PARTICIPANT;PARTSTAT=NEEDS-ACTION;RSVP=TRUE;CN=atlasiiipa
 rticipants@icann.org:MAILTO:atlasiiiparticipants@icann.org
ATTENDEE;ROLE=REQ-PARTICIPANT;PARTSTAT=NEEDS-ACTION;RSVP=TRUE;CN=herb.way@i
 cann.org:MAILTO:herb.way@icann.org
ATTENDEE;ROLE=REQ-PARTICIPANT;PARTSTAT=NEEDS-ACTION;RSVP=TRUE;CN=vanda@scar
 tezini.org:MAILTO:vanda@scartezini.org
ATTENDEE;ROLE=REQ-PARTICIPANT;PARTSTAT=NEEDS-ACTION;RSVP=TRUE;CN=yrjo_lansi
 puro@hotmail.com:MAILTO:yrjo_lansipuro@hotmail.com
ATTENDEE;ROLE=REQ-PARTICIPANT;PARTSTAT=NEEDS-ACTION;RSVP=TRUE;CN=amritachou
 dhury@ccaoi.in:MAILTO:amritachoudhury@ccaoi.in
ATTENDEE;ROLE=REQ-PARTICIPANT;PARTSTAT=NEEDS-ACTION;RSVP=TRUE;CN=roberto_ga
 etano@hotmail.com:MAILTO:roberto_gaetano@hotmail.com
ATTENDEE;ROLE=REQ-PARTICIPANT;PARTSTAT=NEEDS-ACTION;RSVP=TRUE;CN=Christina 
 Rodriguez:MAILTO:christina.rodriguez@icann.org
ATTENDEE;ROLE=REQ-PARTICIPANT;PARTSTAT=NEEDS-ACTION;RSVP=TRUE;CN=Rodrigo De
  La Parra:MAILTO:rodrigo.delaparra@icann.org
ATTENDEE;ROLE=REQ-PARTICIPANT;PARTSTAT=NEEDS-ACTION;RSVP=TRUE;CN=maureen.hi
 lyard@gmail.com:MAILTO:maureen.hilyard@gmail.com
ATTENDEE;ROLE=REQ-PARTICIPANT;PARTSTAT=NEEDS-ACTION;RSVP=TRUE;CN=langdonorr
 @gmail.com:MAILTO:langdonorr@gmail.com
ATTENDEE;ROLE=REQ-PARTICIPANT;PARTSTAT=NEEDS-ACTION;RSVP=TRUE;CN=beatblam@h
 otmail.com:MAILTO:beatblam@hotmail.com
ATTENDEE;ROLE=REQ-PARTICIPANT;PARTSTAT=NEEDS-ACTION;RSVP=TRUE;CN=harold.arc
 os@gmail.com:MAILTO:harold.arcos@gmail.com
ATTENDEE;ROLE=REQ-PARTICIPANT;PARTSTAT=NEEDS-ACTION;RSVP=TRUE;CN=chokribr@g
 mail.com:MAILTO:chokribr@gmail.com
ATTENDEE;ROLE=REQ-PARTICIPANT;PARTSTAT=NEEDS-ACTION;RSVP=TRUE;CN=oloyede.aa
 @unilorin.edu.ng:MAILTO:oloyede.aa@unilorin.edu.ng
ATTENDEE;ROLE=REQ-PARTICIPANT;PARTSTAT=NEEDS-ACTION;RSVP=TRUE;CN=sb.inapp@g
 mail.com:MAILTO:sb.inapp@gmail.com
ATTENDEE;ROLE=REQ-PARTICIPANT;PARTSTAT=NEEDS-ACTION;RSVP=TRUE;CN=matthias@h
 udobnik.at:MAILTO:matthias@hudobnik.at
ATTENDEE;ROLE=REQ-PARTICIPANT;PARTSTAT=NEEDS-ACTION;RSVP=TRUE;CN=alberto@so
 to.net.ar:MAILTO:alberto@soto.net.ar
ATTENDEE;ROLE=REQ-PARTICIPANT;PARTSTAT=NEEDS-ACTION;RSVP=TRUE;CN=JZuck@inno
 vatorsnetwork.org:MAILTO:JZuck@innovatorsnetwork.org
ATTENDEE;ROLE=REQ-PARTICIPANT;PARTSTAT=NEEDS-ACTION;RSVP=TRUE;CN=Albert Dan
 iels:MAILTO:albert.daniels@icann.org
ATTENDEE;ROLE=REQ-PARTICIPANT;PARTSTAT=NEEDS-ACTION;RSVP=TRUE;CN=clairecrai
 g@gmail.com:MAILTO:clairecraig@gmail.com
ATTENDEE;ROLE=REQ-PARTICIPANT;PARTSTAT=NEEDS-ACTION;RSVP=TRUE;CN=joanhopek@
 gmail.com:MAILTO:joanhopek@gmail.com
ATTENDEE;ROLE=REQ-PARTICIPANT;PARTSTAT=NEEDS-ACTION;RSVP=TRUE;CN=mamattah.r
 aymond@gmail.com:MAILTO:mamattah.raymond@gmail.com
DESCRIPTION;LANGUAGE=en-US:***If you require a dial out or need to state an
  apology\, please contact At-Large staff at staff@atlarge.icann.org<mailto
 :staff@atlarge.icann.org> with your preferred number***\n\nDear All\,\n\nT
 he next At-Large Consolidated Policy Working Group (CPWG) Call is schedule
 d for Wednesday\, 12 January 2022 at 19:00 UTC for 90 mins.\n\nFor other t
 imes: https://tinyurl.com/nhhyrfn4\n\nThe agenda and call details can be f
 ound at: https://community.icann.org/x/QM0GCw<https://community.icann.org/
 x/-IrOCg>\n\n\nZoom Room: https://icann.zoom.us/j/765717566?pwd=UTJCdWRSZV
 dJNEhOYW02OVBqQVQ1Zz09\n\nPasscode: #CPWG2345*\n\nReal time transcription 
 (RTT) available at (subject to availability): https://www.streamtext.net/p
 layer?event=ICANN\n\nADIGO Conference Bridge:\nEN: 1638\n\nES: 1638\n\nFR:
  1638\n\n\nToll-free access number (US and Canada): 800 550 686\n\nOther t
 oll-free numbers: https://www.adigo.com/icann\n\n\nAt-Large Consolidated P
 olicy Working Group (CPWG) Wiki Space: https://community.icann.org/x/jYDpB
 \n\nIf you require a dial-out please contact At-Large staff at: staff@atla
 rge.icann.org<mailto:staff@atlarge.icann.org>\n\nThank you.\n\nKind Regard
 s\,\n\nAt-Large Staff\n\nICANN Policy Staff in support of the At-Large Com
 munity\n\nWebsite: atlarge.icann.org<https://atlarge.icann.org/>\n\nFacebo
 ok: facebook.com/icann<https://www.facebook.com/icannatlarge>atlarge<https
 ://www.facebook.com/icannatlarge>\n\nTwitter: @<https://twitter.com/ICANNA
 tLarge>ICANNAtLarge<https://twitter.com/ICANNAtLarge>\n\n\n
UID:040000008200E00074C5B7101A82E0080000000092CDE6A8FFDBD701000000000000000
 0100000005FB2FA2C34EE914F92E7323B542084F1
SUMMARY;LANGUAGE=en-US:At-Large Consolidated Policy Working Group (CPWG)
DTSTART;TZID=(UTC) Coordinated Universal Time:20220112T190000
DTEND;TZID=(UTC) Coordinated Universal Time:20220112T203000
CLASS:PUBLIC
PRIORITY:5
DTSTAMP:20220105T162227Z
TRANSP:OPAQUE
STATUS:CONFIRMED
SEQUENCE:1
LOCATION;LANGUAGE=en-US:19:00 UTC / Zoom: https://icann.zoom.us/j/765717566
 ?pwd=UTJCdWRSZVdJNEhOYW02OVBqQVQ1Zz09/
X-MICROSOFT-CDO-APPT-SEQUENCE:1
X-MICROSOFT-CDO-OWNERAPPTID:2119928466
X-MICROSOFT-CDO-BUSYSTATUS:TENTATIVE
X-MICROSOFT-CDO-INTENDEDSTATUS:BUSY
X-MICROSOFT-CDO-ALLDAYEVENT:FALSE
X-MICROSOFT-CDO-IMPORTANCE:1
X-MICROSOFT-CDO-INSTTYPE:0
X-MICROSOFT-DONOTFORWARDMEETING:FALSE
X-MICROSOFT-DISALLOW-COUNTER:FALSE
BEGIN:VALARM
DESCRIPTION:REMINDER
TRIGGER;RELATED=START:-PT15M
ACTION:DISPLAY
END:VALARM
X-MICROSOFT-LOCATIONDISPLAYNAME:19:00 UTC / Zoom: https://icann.zoom.us/j/7
 65717566?pwd=UTJCdWRSZVdJNEhOYW02OVBqQVQ1Zz09/
X-MICROSOFT-LOCATIONSOURCE:None
END:VEVENT
END:VCALENDAR
