BEGIN:VCALENDAR
METHOD:REQUEST
PRODID:Microsoft Exchange Server 2010
VERSION:2.0
BEGIN:VTIMEZONE
TZID:Pacific Standard Time
BEGIN:STANDARD
DTSTART:16010101T020000
TZOFFSETFROM:-0700
TZOFFSETTO:-0800
RRULE:FREQ=YEARLY;INTERVAL=1;BYDAY=1SU;BYMONTH=11
END:STANDARD
BEGIN:DAYLIGHT
DTSTART:16010101T020000
TZOFFSETFROM:-0800
TZOFFSETTO:-0700
RRULE:FREQ=YEARLY;INTERVAL=1;BYDAY=2SU;BYMONTH=3
END:DAYLIGHT
END:VTIMEZONE
BEGIN:VEVENT
ORGANIZER;CN=ICANN Policy Calendar:MAILTO:PolicyCalendar@icann.org
ATTENDEE;ROLE=REQ-PARTICIPANT;PARTSTAT=NEEDS-ACTION;RSVP=TRUE;CN=Heidi Ullr
 ich:MAILTO:Heidi.Ullrich@icann.org
ATTENDEE;ROLE=REQ-PARTICIPANT;PARTSTAT=NEEDS-ACTION;RSVP=TRUE;CN=Silvia Viv
 anco:MAILTO:silvia.vivanco@icann.org
ATTENDEE;ROLE=REQ-PARTICIPANT;PARTSTAT=NEEDS-ACTION;RSVP=TRUE;CN=Gisella Gr
 uber:MAILTO:Gisella.Gruber@icann.org
ATTENDEE;ROLE=REQ-PARTICIPANT;PARTSTAT=NEEDS-ACTION;RSVP=TRUE;CN=Evin Erdog
 du:MAILTO:evin.erdogdu@icann.org
ATTENDEE;ROLE=REQ-PARTICIPANT;PARTSTAT=NEEDS-ACTION;RSVP=TRUE;CN=Yesim Nazl
 ar:MAILTO:yesim.nazlar@icann.org
ATTENDEE;ROLE=REQ-PARTICIPANT;PARTSTAT=NEEDS-ACTION;RSVP=TRUE;CN=Michelle D
 eSmyter:MAILTO:michelle.desmyter@icann.org
ATTENDEE;ROLE=REQ-PARTICIPANT;PARTSTAT=NEEDS-ACTION;RSVP=TRUE;CN=Alperen Ek
 en:MAILTO:alperen.eken@icann.org
ATTENDEE;ROLE=REQ-PARTICIPANT;PARTSTAT=NEEDS-ACTION;RSVP=TRUE;CN=Claudia Ru
 iz:MAILTO:claudia.ruiz@icann.org
ATTENDEE;ROLE=REQ-PARTICIPANT;PARTSTAT=NEEDS-ACTION;RSVP=TRUE;CN=Jamie:MAIL
 TO:jamie@alacarteconnection.com
ATTENDEE;ROLE=REQ-PARTICIPANT;PARTSTAT=NEEDS-ACTION;RSVP=TRUE;CN=office@ala
 carteconnection.com:MAILTO:office@alacarteconnection.com
ATTENDEE;ROLE=REQ-PARTICIPANT;PARTSTAT=NEEDS-ACTION;RSVP=TRUE;CN=Sabrina Mo
 squera:MAILTO:sabrina.mosquera@icann.org
ATTENDEE;ROLE=REQ-PARTICIPANT;PARTSTAT=NEEDS-ACTION;RSVP=TRUE;CN=TEL ES-Tel
 econf-Interpretation:MAILTO:ES-Teleconf-Interpretation@icann.org
ATTENDEE;ROLE=REQ-PARTICIPANT;PARTSTAT=NEEDS-ACTION;RSVP=TRUE;CN=lac-discus
 s-en:MAILTO:lac-discuss-en@atlarge-lists.icann.org
ATTENDEE;ROLE=REQ-PARTICIPANT;PARTSTAT=NEEDS-ACTION;RSVP=TRUE;CN=cpwg@icann
 .org:MAILTO:cpwg@icann.org
DESCRIPTION;LANGUAGE=en-US:Dear All\,\n\n\n\nThe next At-Large Consolidated
  Policy Working Group (CPWG) Call is scheduled for Wednesday\, 16 October 
 2019 at 13:00 UTC for 90 mins.\n\n\n\nFor other times: https://tinyurl.com
 /y4kjofjx\n\n\n\nThe agenda (to be updated) and call details can be found 
 at: https://community.icann.org/x/F4AzBw\n\n\n\n\n\nZoom Room: https://ica
 nn.zoom.us/j/765717566 / Meeting ID: 765-717-566 – Please note\, the zoo
 m room link and Meeting ID will remain the same for each weekly meeting.\n
 \n\n\n\n\nReal time transcription (RTT) available at: https://www.streamte
 xt.net/player?event=ICANN [streamtext.net] [streamtext.net]<https://urldef
 ense.proofpoint.com/v2/url?u=https-3A__www.streamtext.net_player-3Fevent-3
 DICANN-2520-255bstreamtext.net-255d&d=DwMFAw&c=FmY1u3PJp6wrcrwll3mSVzgfkbP
 SS6sJms7xcl4I5cM&r=ds9md1zoepmwqw2nfk-Vs9ssxn1I3jPs97ekKkctEkM&m=3swqZGyi6
 FKCwbtdXsS00KG30nSf_mvmyNeQfXOhtnE&s=Lv8slVV_rkW85WWduFmCXZqG6gKKvj2Dqn_0O
 bROKVs&e=>\n\n\n\nADIGO Conference Bridge:\n\nEN: 1638\n\nES: 1738\n\n\n\n
 Toll-free access number (US and Canada): 800 550 6865\n\n\n\nOther toll-fr
 ee numbers: https://www.adigo.com/icann [adigo.com]<https://urldefense.pro
 ofpoint.com/v2/url?u=https-3A__www.adigo.com_icann&d=DwMFAw&c=FmY1u3PJp6wr
 crwll3mSVzgfkbPSS6sJms7xcl4I5cM&r=8_WhWIPqsLT6TmF1Zmyci866vcPSFO4VShFqESGe
 _5iHWGlBLwwwehFBfjrsjWv9&m=v_dW7H6jSlA9nOi38W8-O0NNugHRJaIXFir99n2INTw&s=2
 UDiAMNbva1Qtvc7Gxe4uYEmKjLJ0Ue93B3VR6GVJPw&e=>\n\n\n\nAt-Large Consolidate
 d Policy Working Group (CPWG) Wiki Space: https://community.icann.org/x/jY
 DpB\n\n\n\nIf you require a dial-out please contact At-Large staff at: sta
 ff@atlarge.icann.org<mailto:staff@atlarge.icann.org>\n\n\n\n\n\nThank you.
 \n\nKind regards\,\n\n\n\nAt-Large Staff\n\n\n\nICANN Policy Staff in supp
 ort of the At-Large Community\n\nWebsite: atlarge.icann.org [atlarge.icann
 .org]<https://urldefense.proofpoint.com/v2/url?u=https-3A__atlarge.icann.o
 rg_&d=DwMFAw&c=FmY1u3PJp6wrcrwll3mSVzgfkbPSS6sJms7xcl4I5cM&r=8_WhWIPqsLT6T
 mF1Zmyci866vcPSFO4VShFqESGe_5iHWGlBLwwwehFBfjrsjWv9&m=v_dW7H6jSlA9nOi38W8-
 O0NNugHRJaIXFir99n2INTw&s=v19gDlbD6ophiMt9ufJIv1R-D0W1elKhT4Lr3BZO0wg&e=>\
 n\nFacebook: facebook.com/icann [facebook.com]<https://urldefense.proofpoi
 nt.com/v2/url?u=https-3A__www.facebook.com_icannatlarge&d=DwMFAw&c=FmY1u3P
 Jp6wrcrwll3mSVzgfkbPSS6sJms7xcl4I5cM&r=8_WhWIPqsLT6TmF1Zmyci866vcPSFO4VShF
 qESGe_5iHWGlBLwwwehFBfjrsjWv9&m=v_dW7H6jSlA9nOi38W8-O0NNugHRJaIXFir99n2INT
 w&s=ZjUmWomW9ZWPwChdZ8ohPcIctTziWmMWuHf4498fao8&e=>atlarge [facebook.com]<
 https://urldefense.proofpoint.com/v2/url?u=https-3A__www.facebook.com_ican
 natlarge&d=DwMFAw&c=FmY1u3PJp6wrcrwll3mSVzgfkbPSS6sJms7xcl4I5cM&r=8_WhWIPq
 sLT6TmF1Zmyci866vcPSFO4VShFqESGe_5iHWGlBLwwwehFBfjrsjWv9&m=v_dW7H6jSlA9nOi
 38W8-O0NNugHRJaIXFir99n2INTw&s=ZjUmWomW9ZWPwChdZ8ohPcIctTziWmMWuHf4498fao8
 &e=>\n\nTwitter: @ [twitter.com]<https://urldefense.proofpoint.com/v2/url?
 u=https-3A__twitter.com_ICANNAtLarge&d=DwMFAw&c=FmY1u3PJp6wrcrwll3mSVzgfkb
 PSS6sJms7xcl4I5cM&r=8_WhWIPqsLT6TmF1Zmyci866vcPSFO4VShFqESGe_5iHWGlBLwwweh
 FBfjrsjWv9&m=v_dW7H6jSlA9nOi38W8-O0NNugHRJaIXFir99n2INTw&s=37f38QxH9lAkOhW
 D6g92CVLt6u5Ald3upGmzB2GFSC4&e=>ICANNAtLarge [twitter.com]<https://urldefe
 nse.proofpoint.com/v2/url?u=https-3A__twitter.com_ICANNAtLarge&d=DwMFAw&c=
 FmY1u3PJp6wrcrwll3mSVzgfkbPSS6sJms7xcl4I5cM&r=8_WhWIPqsLT6TmF1Zmyci866vcPS
 FO4VShFqESGe_5iHWGlBLwwwehFBfjrsjWv9&m=v_dW7H6jSlA9nOi38W8-O0NNugHRJaIXFir
 99n2INTw&s=37f38QxH9lAkOhWD6g92CVLt6u5Ald3upGmzB2GFSC4&e=>\n\n\n
SUMMARY;LANGUAGE=en-US:At-Large Consolidated Policy Working Group (CPWG) Ca
 ll 
DTSTART;TZID=Pacific Standard Time:20191016T060000
DTEND;TZID=Pacific Standard Time:20191016T073000
UID:DD964F26-DB2D-4025-9701-EFB3A3C8D560
CLASS:PUBLIC
PRIORITY:5
DTSTAMP:20191011T060307Z
TRANSP:OPAQUE
STATUS:CONFIRMED
SEQUENCE:0
LOCATION;LANGUAGE=en-US:13:00 UTC - ADIGO EN:1638 ES:1738 - https://icann.z
 oom.us/j/765717566 
X-MICROSOFT-CDO-APPT-SEQUENCE:0
X-MICROSOFT-CDO-OWNERAPPTID:2117751115
X-MICROSOFT-CDO-BUSYSTATUS:TENTATIVE
X-MICROSOFT-CDO-INTENDEDSTATUS:BUSY
X-MICROSOFT-CDO-ALLDAYEVENT:FALSE
X-MICROSOFT-CDO-IMPORTANCE:1
X-MICROSOFT-CDO-INSTTYPE:0
X-MICROSOFT-DISALLOW-COUNTER:FALSE
BEGIN:VALARM
DESCRIPTION:REMINDER
TRIGGER;RELATED=START:-PT15M
ACTION:DISPLAY
END:VALARM
END:VEVENT
END:VCALENDAR
