BEGIN:VCALENDAR
METHOD:REQUEST
PRODID:Microsoft Exchange Server 2010
VERSION:2.0
BEGIN:VTIMEZONE
TZID:Egypt Standard Time
BEGIN:STANDARD
DTSTART:16010101T000000
TZOFFSETFROM:+0200
TZOFFSETTO:+0200
END:STANDARD
BEGIN:DAYLIGHT
DTSTART:16010101T000000
TZOFFSETFROM:+0200
TZOFFSETTO:+0200
END:DAYLIGHT
END:VTIMEZONE
BEGIN:VEVENT
ORGANIZER;CN=Hadia  Abdelsalam Mokhtar EL miniawi:MAILTO:Hadia@tra.gov.eg
ATTENDEE;ROLE=REQ-PARTICIPANT;PARTSTAT=NEEDS-ACTION;RSVP=TRUE;CN=Alaniz ICA
 NN (alaniz.inteam.icann@gmail.com):MAILTO:alaniz.inteam.icann@gmail.com
ATTENDEE;ROLE=REQ-PARTICIPANT;PARTSTAT=NEEDS-ACTION;RSVP=TRUE;CN=Albert Dan
 iels:MAILTO:albert.daniels@icann.org
ATTENDEE;ROLE=REQ-PARTICIPANT;PARTSTAT=NEEDS-ACTION;RSVP=TRUE;CN=Alperen Ek
 en:MAILTO:alperen.eken@icann.org
ATTENDEE;ROLE=REQ-PARTICIPANT;PARTSTAT=NEEDS-ACTION;RSVP=TRUE;CN=Andrew Mac
 k:MAILTO:AMack@amglobal.com
ATTENDEE;ROLE=REQ-PARTICIPANT;PARTSTAT=NEEDS-ACTION;RSVP=TRUE;CN=Christina 
 Rodriguez:MAILTO:christina.rodriguez@icann.org
ATTENDEE;ROLE=REQ-PARTICIPANT;PARTSTAT=NEEDS-ACTION;RSVP=TRUE;CN=Claudia Ru
 iz:MAILTO:claudia.ruiz@icann.org
ATTENDEE;ROLE=REQ-PARTICIPANT;PARTSTAT=NEEDS-ACTION;RSVP=TRUE;CN=DANIEL NAN
 GHAKA:MAILTO:dndannang@gmail.com
ATTENDEE;ROLE=REQ-PARTICIPANT;PARTSTAT=NEEDS-ACTION;RSVP=TRUE;CN=Epstein IC
 ANN (epstein.inteam.icann@gmail.com):MAILTO:epstein.inteam.icann@gmail.com
ATTENDEE;ROLE=REQ-PARTICIPANT;PARTSTAT=NEEDS-ACTION;RSVP=TRUE;CN=Evin Erdog
 du:MAILTO:evin.erdogdu@icann.org
ATTENDEE;ROLE=REQ-PARTICIPANT;PARTSTAT=NEEDS-ACTION;RSVP=TRUE;CN=Gisella Gr
 uber:MAILTO:Gisella.Gruber@icann.org
ATTENDEE;ROLE=REQ-PARTICIPANT;PARTSTAT=NEEDS-ACTION;RSVP=TRUE;CN=Heidi Ullr
 ich:MAILTO:Heidi.Ullrich@icann.org
ATTENDEE;ROLE=REQ-PARTICIPANT;PARTSTAT=NEEDS-ACTION;RSVP=TRUE;CN=Herb Waye:
 MAILTO:herb.waye@icann.org
ATTENDEE;ROLE=REQ-PARTICIPANT;PARTSTAT=NEEDS-ACTION;RSVP=TRUE;CN=Jamie:MAIL
 TO:jamie@alacarteconnection.com
ATTENDEE;ROLE=REQ-PARTICIPANT;PARTSTAT=NEEDS-ACTION;RSVP=TRUE;CN=Joel Thaye
 r:MAILTO:JThayer@innovatorsnetwork.org
ATTENDEE;ROLE=REQ-PARTICIPANT;PARTSTAT=NEEDS-ACTION;RSVP=TRUE;CN=John Lapri
 se:MAILTO:jlaprise@gmail.com
ATTENDEE;ROLE=REQ-PARTICIPANT;PARTSTAT=NEEDS-ACTION;RSVP=TRUE;CN=Maritza Y.
  Aguero Minano:MAILTO:myaguero@msn.com
ATTENDEE;ROLE=REQ-PARTICIPANT;PARTSTAT=NEEDS-ACTION;RSVP=TRUE;CN=Michele Ne
 ylon - Blacknight:MAILTO:michele@blacknight.com
ATTENDEE;ROLE=REQ-PARTICIPANT;PARTSTAT=NEEDS-ACTION;RSVP=TRUE;CN=Michelle D
 eSmyter:MAILTO:michelle.desmyter@icann.org
ATTENDEE;ROLE=REQ-PARTICIPANT;PARTSTAT=NEEDS-ACTION;RSVP=TRUE;CN=Office:MAI
 LTO:Office@alacarteconnection.com
ATTENDEE;ROLE=REQ-PARTICIPANT;PARTSTAT=NEEDS-ACTION;RSVP=TRUE;CN=Penelas IC
 ANN:MAILTO:penelas.inteam.icann@gmail.com
ATTENDEE;ROLE=REQ-PARTICIPANT;PARTSTAT=NEEDS-ACTION;RSVP=TRUE;CN=Pou ICANN 
 (pou.inteam.icann@gmail.com):MAILTO:pou.inteam.icann@gmail.com
ATTENDEE;ROLE=REQ-PARTICIPANT;PARTSTAT=NEEDS-ACTION;RSVP=TRUE;CN=Roberto Ga
 etano:MAILTO:roberto_gaetano@hotmail.com
ATTENDEE;ROLE=REQ-PARTICIPANT;PARTSTAT=NEEDS-ACTION;RSVP=TRUE;CN=Sabrina Mo
 squera:MAILTO:sabrina.mosquera@icann.org
ATTENDEE;ROLE=REQ-PARTICIPANT;PARTSTAT=NEEDS-ACTION;RSVP=TRUE;CN=Sebicann B
 achollet:MAILTO:sebicann@bachollet.fr
ATTENDEE;ROLE=REQ-PARTICIPANT;PARTSTAT=NEEDS-ACTION;RSVP=TRUE;CN=Silvia Viv
 anco:MAILTO:silvia.vivanco@icann.org
ATTENDEE;ROLE=REQ-PARTICIPANT;PARTSTAT=NEEDS-ACTION;RSVP=TRUE;CN=Skok ICANN
 :MAILTO:skok.inteam.icann@gmail.com
ATTENDEE;ROLE=REQ-PARTICIPANT;PARTSTAT=NEEDS-ACTION;RSVP=TRUE;CN=TEL ES-Tel
 econf-Interpretation:MAILTO:ES-Teleconf-Interpretation@icann.org
ATTENDEE;ROLE=REQ-PARTICIPANT;PARTSTAT=NEEDS-ACTION;RSVP=TRUE;CN=Vanda Scar
 tezini:MAILTO:vanda@etges.com.br
ATTENDEE;ROLE=REQ-PARTICIPANT;PARTSTAT=NEEDS-ACTION;RSVP=TRUE;CN=Vanda Scar
 tezini:MAILTO:vanda@scartezini.org
ATTENDEE;ROLE=REQ-PARTICIPANT;PARTSTAT=NEEDS-ACTION;RSVP=TRUE;CN=Yesim Nazl
 ar:MAILTO:yesim.nazlar@icann.org
ATTENDEE;ROLE=REQ-PARTICIPANT;PARTSTAT=NEEDS-ACTION;RSVP=TRUE;CN=cpwg@icann
 .org:MAILTO:cpwg@icann.org
ATTENDEE;ROLE=REQ-PARTICIPANT;PARTSTAT=NEEDS-ACTION;RSVP=TRUE;CN=fahd.batay
 neh:MAILTO:fahd.batayneh@icann.org
ATTENDEE;ROLE=REQ-PARTICIPANT;PARTSTAT=NEEDS-ACTION;RSVP=TRUE;CN=gordontc@g
 mail.com:MAILTO:gordontc@gmail.com
ATTENDEE;ROLE=REQ-PARTICIPANT;PARTSTAT=NEEDS-ACTION;RSVP=TRUE;CN=joserlebro
 n@gmail.com:MAILTO:joserlebron@gmail.com
ATTENDEE;ROLE=REQ-PARTICIPANT;PARTSTAT=NEEDS-ACTION;RSVP=TRUE;CN=kerrkerry@
 gmail.com:MAILTO:kerrkerry@gmail.com
ATTENDEE;ROLE=REQ-PARTICIPANT;PARTSTAT=NEEDS-ACTION;RSVP=TRUE;CN=korniiets.
 maria.mail@gmail.com:MAILTO:korniiets.maria.mail@gmail.com
ATTENDEE;ROLE=REQ-PARTICIPANT;PARTSTAT=NEEDS-ACTION;RSVP=TRUE;CN=lac-discus
 s-en:MAILTO:lac-discuss-en@atlarge-lists.icann.org
ATTENDEE;ROLE=REQ-PARTICIPANT;PARTSTAT=NEEDS-ACTION;RSVP=TRUE;CN=leon.sanch
 ez@board.icann.org:MAILTO:leon.sanchez@board.icann.org
ATTENDEE;ROLE=REQ-PARTICIPANT;PARTSTAT=NEEDS-ACTION;RSVP=TRUE;CN=vrikson.i.
 acosta.v@gmail.com:MAILTO:vrikson.i.acosta.v@gmail.com
DESCRIPTION;LANGUAGE=en-US:Dear All\,\n\n\n\n\n\n\n\nThe next At-Large Cons
 olidated Policy Working Group (CPWG) Call is scheduled for Wednesday\, 20 
 November 2019 at 21:00 UTC for 90 mins.\n\n\n\n\n\n\n\nFor other times: ht
 tps://tinyurl.com/vje7825\n\n\n\n\n\n\n\nThe agenda (to be updated) and ca
 ll details can be found at: https://community.icann.org/x/OpMzBw\n\n\n\n\n
 \n\n\n\n\n\n\nZoom Room: https://icann.zoom.us/j/765717566 / Meeting ID: 7
 65-717-566 – Please note\, the zoom room link and Meeting ID will remain
  the same for each weekly meeting.\n\n\n\n\n\n\n\n\n\n\n\nReal time transc
 ription (RTT) available at (subject to availability): https://www.streamte
 xt.net/player?event=ICANN [streamtext.net] [streamtext.net]<https://urldef
 ense.proofpoint.com/v2/url?u=https-3A__www.streamtext.net_player-3Fevent-3
 DICANN-2520-255bstreamtext.net-255d&d=DwMFAw&c=FmY1u3PJp6wrcrwll3mSVzgfkbP
 SS6sJms7xcl4I5cM&r=ds9md1zoepmwqw2nfk-Vs9ssxn1I3jPs97ekKkctEkM&m=3swqZGyi6
 FKCwbtdXsS00KG30nSf_mvmyNeQfXOhtnE&s=Lv8slVV_rkW85WWduFmCXZqG6gKKvj2Dqn_0O
 bROKVs&e=>\n\n\n\n\n\n\n\nADIGO Conference Bridge:\n\n\n\nEN: 1638\n\n\n\n
 ES: 1738\n\n\n\n\n\n\n\nToll-free access number (US and Canada): 800 550 6
 865\n\n\n\n\n\n\n\nOther toll-free numbers: https://www.adigo.com/icann [a
 digo.com]<https://urldefense.proofpoint.com/v2/url?u=https-3A__www.adigo.c
 om_icann&d=DwMFAw&c=FmY1u3PJp6wrcrwll3mSVzgfkbPSS6sJms7xcl4I5cM&r=8_WhWIPq
 sLT6TmF1Zmyci866vcPSFO4VShFqESGe_5iHWGlBLwwwehFBfjrsjWv9&m=v_dW7H6jSlA9nOi
 38W8-O0NNugHRJaIXFir99n2INTw&s=2UDiAMNbva1Qtvc7Gxe4uYEmKjLJ0Ue93B3VR6GVJPw
 &e=>\n\n\n\n\n\n\n\nAt-Large Consolidated Policy Working Group (CPWG) Wiki
  Space: https://community.icann.org/x/jYDpB\n\n\n\n\n\n\n\nIf you require 
 a dial-out please contact At-Large staff at: staff@atlarge.icann.org<mailt
 o:staff@atlarge.icann.org>\n\n\n\n\n\n\n\n\n\n\n\nThank you.\n\n\n\nKind r
 egards\,\n\n\n\n\n\n\n\nAt-Large Staff\n\n\n\n\n\n\n\nICANN Policy Staff i
 n support of the At-Large Community\n\n\n\nWebsite: atlarge.icann.org [atl
 arge.icann.org]<https://urldefense.proofpoint.com/v2/url?u=https-3A__atlar
 ge.icann.org_&d=DwMFAw&c=FmY1u3PJp6wrcrwll3mSVzgfkbPSS6sJms7xcl4I5cM&r=8_W
 hWIPqsLT6TmF1Zmyci866vcPSFO4VShFqESGe_5iHWGlBLwwwehFBfjrsjWv9&m=v_dW7H6jSl
 A9nOi38W8-O0NNugHRJaIXFir99n2INTw&s=v19gDlbD6ophiMt9ufJIv1R-D0W1elKhT4Lr3B
 ZO0wg&e=>\n\n\n\nFacebook: facebook.com/icann [facebook.com]<https://urlde
 fense.proofpoint.com/v2/url?u=https-3A__www.facebook.com_icannatlarge&d=Dw
 MFAw&c=FmY1u3PJp6wrcrwll3mSVzgfkbPSS6sJms7xcl4I5cM&r=8_WhWIPqsLT6TmF1Zmyci
 866vcPSFO4VShFqESGe_5iHWGlBLwwwehFBfjrsjWv9&m=v_dW7H6jSlA9nOi38W8-O0NNugHR
 JaIXFir99n2INTw&s=ZjUmWomW9ZWPwChdZ8ohPcIctTziWmMWuHf4498fao8&e=>atlarge [
 facebook.com]<https://urldefense.proofpoint.com/v2/url?u=https-3A__www.fac
 ebook.com_icannatlarge&d=DwMFAw&c=FmY1u3PJp6wrcrwll3mSVzgfkbPSS6sJms7xcl4I
 5cM&r=8_WhWIPqsLT6TmF1Zmyci866vcPSFO4VShFqESGe_5iHWGlBLwwwehFBfjrsjWv9&m=v
 _dW7H6jSlA9nOi38W8-O0NNugHRJaIXFir99n2INTw&s=ZjUmWomW9ZWPwChdZ8ohPcIctTziW
 mMWuHf4498fao8&e=>\n\n\n\nTwitter: @ [twitter.com]<https://urldefense.proo
 fpoint.com/v2/url?u=https-3A__twitter.com_ICANNAtLarge&d=DwMFAw&c=FmY1u3PJ
 p6wrcrwll3mSVzgfkbPSS6sJms7xcl4I5cM&r=8_WhWIPqsLT6TmF1Zmyci866vcPSFO4VShFq
 ESGe_5iHWGlBLwwwehFBfjrsjWv9&m=v_dW7H6jSlA9nOi38W8-O0NNugHRJaIXFir99n2INTw
 &s=37f38QxH9lAkOhWD6g92CVLt6u5Ald3upGmzB2GFSC4&e=>ICANNAtLarge [twitter.co
 m]<https://urldefense.proofpoint.com/v2/url?u=https-3A__twitter.com_ICANNA
 tLarge&d=DwMFAw&c=FmY1u3PJp6wrcrwll3mSVzgfkbPSS6sJms7xcl4I5cM&r=8_WhWIPqsL
 T6TmF1Zmyci866vcPSFO4VShFqESGe_5iHWGlBLwwwehFBfjrsjWv9&m=v_dW7H6jSlA9nOi38
 W8-O0NNugHRJaIXFir99n2INTw&s=37f38QxH9lAkOhWD6g92CVLt6u5Ald3upGmzB2GFSC4&e
 =>\n
SUMMARY;LANGUAGE=en-US:[CPWG] At-Large Consolidated Policy Working Group (C
 PWG) Call
DTSTART;TZID=Egypt Standard Time:20191119T230000
DTEND;TZID=Egypt Standard Time:20191120T003000
UID:1E8CC883222C45178E63F9D43FAF9E490
CLASS:PUBLIC
PRIORITY:5
DTSTAMP:20191119T130616Z
TRANSP:OPAQUE
STATUS:CONFIRMED
SEQUENCE:0
LOCATION;LANGUAGE=en-US:21:00 UTC - ADIGO EN:1638 ES:1738 - https://icann.z
 oom.us/j/765717566 
X-MICROSOFT-CDO-APPT-SEQUENCE:0
X-MICROSOFT-CDO-BUSYSTATUS:TENTATIVE
X-MICROSOFT-CDO-INTENDEDSTATUS:BUSY
X-MICROSOFT-CDO-ALLDAYEVENT:FALSE
X-MICROSOFT-CDO-IMPORTANCE:1
X-MICROSOFT-CDO-INSTTYPE:0
X-MICROSOFT-DISALLOW-COUNTER:FALSE
BEGIN:VALARM
DESCRIPTION:REMINDER
TRIGGER;RELATED=START:-PT15M
ACTION:DISPLAY
END:VALARM
END:VEVENT
END:VCALENDAR
