BEGIN:VCALENDAR
METHOD:REQUEST
PRODID:Microsoft Exchange Server 2010
VERSION:2.0
BEGIN:VTIMEZONE
TZID:(UTC) Coordinated Universal Time
BEGIN:STANDARD
DTSTART:16010101T000000
TZOFFSETFROM:+0000
TZOFFSETTO:+0000
END:STANDARD
BEGIN:DAYLIGHT
DTSTART:16010101T000000
TZOFFSETFROM:+0000
TZOFFSETTO:+0000
END:DAYLIGHT
END:VTIMEZONE
BEGIN:VEVENT
ORGANIZER;CN=ICANN Policy Calendar:MAILTO:PolicyCalendar@icann.org
ATTENDEE;ROLE=REQ-PARTICIPANT;PARTSTAT=NEEDS-ACTION;RSVP=TRUE;CN=Heidi Ullr
 ich:MAILTO:Heidi.Ullrich@icann.org
ATTENDEE;ROLE=REQ-PARTICIPANT;PARTSTAT=NEEDS-ACTION;RSVP=TRUE;CN=Gisella Gr
 uber:MAILTO:Gisella.Gruber@icann.org
ATTENDEE;ROLE=REQ-PARTICIPANT;PARTSTAT=NEEDS-ACTION;RSVP=TRUE;CN=Yesim Sagl
 am:MAILTO:yesim.nazlar@icann.org
ATTENDEE;ROLE=REQ-PARTICIPANT;PARTSTAT=NEEDS-ACTION;RSVP=TRUE;CN=Ozan Sahin
 :MAILTO:ozan.sahin@icann.org
ATTENDEE;ROLE=REQ-PARTICIPANT;PARTSTAT=NEEDS-ACTION;RSVP=TRUE;CN=Michelle D
 eSmyter:MAILTO:michelle.desmyter@icann.org
ATTENDEE;ROLE=REQ-PARTICIPANT;PARTSTAT=NEEDS-ACTION;RSVP=TRUE;CN=Sabrina Mo
 squera:MAILTO:sabrina.mosquera@icann.org
ATTENDEE;ROLE=REQ-PARTICIPANT;PARTSTAT=NEEDS-ACTION;RSVP=TRUE;CN=Maria Vila
 rdo:MAILTO:maria.vilardo@icann.org
ATTENDEE;ROLE=REQ-PARTICIPANT;PARTSTAT=NEEDS-ACTION;RSVP=TRUE;CN=Jessie Doh
 erty:MAILTO:jessie.doherty@icann.org
ATTENDEE;ROLE=REQ-PARTICIPANT;PARTSTAT=NEEDS-ACTION;RSVP=TRUE;CN=office@alc
 cart.com:MAILTO:office@alccart.com
ATTENDEE;ROLE=REQ-PARTICIPANT;PARTSTAT=NEEDS-ACTION;RSVP=TRUE;CN=ocl@gih.co
 m:MAILTO:ocl@gih.com
ATTENDEE;ROLE=REQ-PARTICIPANT;PARTSTAT=NEEDS-ACTION;RSVP=TRUE;CN=avri@doria
 .org:MAILTO:avri@doria.org
ATTENDEE;ROLE=REQ-PARTICIPANT;PARTSTAT=NEEDS-ACTION;RSVP=TRUE;CN=cpwg@icann
 .org:MAILTO:cpwg@icann.org
ATTENDEE;ROLE=REQ-PARTICIPANT;PARTSTAT=NEEDS-ACTION;RSVP=TRUE;CN=langdonorr
 @gmail.com:MAILTO:langdonorr@gmail.com
ATTENDEE;ROLE=REQ-PARTICIPANT;PARTSTAT=NEEDS-ACTION;RSVP=TRUE;CN=greenberg.
 alan@gmail.com:MAILTO:greenberg.alan@gmail.com
ATTENDEE;ROLE=REQ-PARTICIPANT;PARTSTAT=NEEDS-ACTION;RSVP=TRUE;CN=JZuck@inno
 vatorsnetwork.org:MAILTO:JZuck@innovatorsnetwork.org
DESCRIPTION;LANGUAGE=en-US:Dear All\,\n\n\n\nThe next At-Large Consolidated
  Policy Working Group (CPWG) Call has been scheduled for Wednesday\, 04 Fe
 bruary 2026 at 14:00 UTC for 90 mins. (We are keeping at 14 UTC due to the
  conflict with AFRALO monthly at the same time)\n\n\n\nFor other times: <h
 ttps://tinyurl.com/ynfbz3v5> <https://icann-community.atlassian.net/wiki/x
 /AQADK> <https://tinyurl.com/ywc3jd27> <https://tinyurl.com/29997727> <htt
 ps://tinyurl.com/ywfwxsme> <https://tinyurl.com/ywfwxsme> <https://tinyurl
 .com/ywfwxsme> HERE<https://tinyurl.com/5c8ta3k4>\n\n\n\nThe agenda (to be
  updated) and call details can be found at: https://icann-community.atlass
 ian.net/wiki/x/BIBeM\n\n\n\nZoom Room: https://icann.zoom.us/j/765717566?p
 wd=UTJCdWRSZVdJNEhOYW02OVBqQVQ1Zz09 / Passcode: #CPWG2345*\n\nReal time tr
 anscription (RTT) available at (subject to availability): https://www.stre
 amtext.net/player?event=ICANN\n\nAt-Large Consolidated Policy Working Grou
 p (CPWG) Wiki Space: https://community.icann.org/x/jYDpB\n\n\n\n\nThank yo
 u.\n\nKind regards\,\n\n\n\nAt-Large Staff\n\nICANN Policy Staff in suppor
 t of the At-Large Community\n\nwww.icann.org<http://www.icann.org/>\n\n\n
UID:040000008200E00074C5B7101A82E00800000000B1232A16F88ADC01000000000000000
 0100000007E2D076A8840814B8DD5B1C515220538
SUMMARY;LANGUAGE=en-US:At-Large Consolidated Policy Working Group (CPWG)
DTSTART;TZID=(UTC) Coordinated Universal Time:20260204T140000
DTEND;TZID=(UTC) Coordinated Universal Time:20260204T153000
CLASS:PUBLIC
PRIORITY:5
DTSTAMP:20260201T170454Z
TRANSP:OPAQUE
STATUS:CONFIRMED
SEQUENCE:2
LOCATION;LANGUAGE=en-US:14:00 UTC 
X-MICROSOFT-CDO-APPT-SEQUENCE:2
X-MICROSOFT-CDO-OWNERAPPTID:2124523697
X-MICROSOFT-CDO-BUSYSTATUS:TENTATIVE
X-MICROSOFT-CDO-INTENDEDSTATUS:BUSY
X-MICROSOFT-CDO-ALLDAYEVENT:FALSE
X-MICROSOFT-CDO-IMPORTANCE:1
X-MICROSOFT-CDO-INSTTYPE:0
X-MICROSOFT-DONOTFORWARDMEETING:FALSE
X-MICROSOFT-DISALLOW-COUNTER:FALSE
X-MICROSOFT-LOCATIONDISPLAYNAME:14:00 UTC 
X-MICROSOFT-LOCATIONSOURCE:None
END:VEVENT
END:VCALENDAR
