BEGIN:VCALENDAR
VERSION:2.0
PRODID:-//Microsoft Corporation//Outlook for Mac MIMEDIR//EN
METHOD:PUBLISH
BEGIN:VTIMEZONE
TZID:UTC
X-ENTOURAGE-CFTIMEZONE:Etc/GMT
X-ENTOURAGE-TZID:160
BEGIN:STANDARD
TZOFFSETFROM:+0000
TZOFFSETTO:+0000
DTSTART:16010101T000000
END:STANDARD
END:VTIMEZONE
BEGIN:VEVENT
UID:040000008200E00074C5B7101A82E00800000000E599288D495BDC0100000000000000
 001000000050B3E1000350F64DB72992B57DAB7645
X-ENTOURAGE_UUID:991D72A4-43FD-4E52-BB10-EF574262123C
X-MICROSOFT-EXCHANGE-ID:AAMkADFlMDNlNjQ5LTNjNTUtNDJkMC04ZTI0LWFiMTFkOTgwND
 JhMQBGAAAAAAAdZPIZTDF9SJl4Q9bAl0gQBwAFskP3JLIoSYZSK2rNBQTXAIjV8WqdAACjhqXC
 SbKVRZwH7aZE5XhKAAULctHTAAA=
CATEGORIES:
X-MICROSOFT-EXCHANGE-CHANGEKEY:DwAAABYAAACjhqXCSbKVRZwH7aZE5XhKAAUdwvaQ
DTSTAMP:20251218T162610Z
DTSTART;TZID=UTC:20260107T190000
DTEND;TZID=UTC:20260107T203000
LAST-MODIFIED:20251218T162610Z
SUMMARY:At-Large Consolidated Policy Working Group (CPWG)
DESCRIPTION:Dear All\,\n\n \n\nThe next At-Large Consolidated Policy
  Working Group (CPWG) Call has been scheduled for Wednesday\, 07 January
  2026 at 19:00 UTC for 90 mins.\n\n \n\nFor other times: HERE\n\n \n\nThe
  agenda (to be updated) and call details can be found at:
  https://icann-community.atlassian.net/wiki/x/2IDcKQ\n\n \n\nZoom Room:
  https://icann.zoom.us/j/765717566?pwd=UTJCdWRSZVdJNEhOYW02OVBqQVQ1Zz09 /
  Passcode: #CPWG2345*\n\nReal time transcription (RTT) available at
  (subject to availability): https://www.streamtext.net/player?event=ICANN
   \n\n\nAt-Large Consolidated Policy Working Group (CPWG) Wiki Space:
  https://community.icann.org/x/jYDpB\n \n\n \n\nThank you.\n\nKind
  regards\,\n\n \n\nAt-Large Staff\n\nICANN Policy Staff in support of the
  At-Large Community\n\nwww.icann.org\n\n\n\n\n
LOCATION:19:00 UTC
ORGANIZER:MAILTO:PolicyCalendar@icann.org
SEQUENCE:1
ATTENDEE;ROLE=REQ-PARTICIPANT;RSVP=FALSE;CN="Heidi
  Ullrich";PARTSTAT=NEEDS-ACTION:MAILTO:Heidi.Ullrich@icann.org
ATTENDEE;ROLE=REQ-PARTICIPANT;RSVP=FALSE;CN="Gisella
  Gruber";PARTSTAT=NEEDS-ACTION:MAILTO:Gisella.Gruber@icann.org
ATTENDEE;ROLE=REQ-PARTICIPANT;RSVP=FALSE;CN="Yesim
  Saglam";PARTSTAT=NEEDS-ACTION:MAILTO:yesim.nazlar@icann.org
ATTENDEE;ROLE=REQ-PARTICIPANT;RSVP=FALSE;CN="Silvia
  Vivanco";PARTSTAT=NEEDS-ACTION:MAILTO:silvia.vivanco@icann.org
ATTENDEE;ROLE=REQ-PARTICIPANT;RSVP=FALSE;CN="Ozan
  Sahin";PARTSTAT=NEEDS-ACTION:MAILTO:ozan.sahin@icann.org
ATTENDEE;ROLE=REQ-PARTICIPANT;RSVP=FALSE;CN="Brenda
  Brewer";PARTSTAT=NEEDS-ACTION:MAILTO:brenda.brewer@icann.org
ATTENDEE;ROLE=REQ-PARTICIPANT;RSVP=FALSE;CN="Sabrina
  Mosquera";PARTSTAT=NEEDS-ACTION:MAILTO:sabrina.mosquera@icann.org
ATTENDEE;ROLE=REQ-PARTICIPANT;RSVP=FALSE;CN="Maria
  Vilardo";PARTSTAT=NEEDS-ACTION:MAILTO:maria.vilardo@icann.org
ATTENDEE;ROLE=REQ-PARTICIPANT;RSVP=FALSE;CN="Jessie
  Doherty";PARTSTAT=NEEDS-ACTION:MAILTO:jessie.doherty@icann.org
ATTENDEE;ROLE=REQ-PARTICIPANT;RSVP=FALSE;CN=office@alccart.com;PARTSTAT=NE
 EDS-ACTION:MAILTO:office@alccart.com
ATTENDEE;ROLE=REQ-PARTICIPANT;RSVP=FALSE;CN=ocl@gih.com;PARTSTAT=NEEDS-ACT
 ION:MAILTO:ocl@gih.com
ATTENDEE;ROLE=REQ-PARTICIPANT;RSVP=FALSE;CN=avri@doria.org;PARTSTAT=NEEDS-
 ACTION:MAILTO:avri@doria.org
ATTENDEE;ROLE=REQ-PARTICIPANT;RSVP=FALSE;CN=JZuck@innovatorsnetwork.org;PA
 RTSTAT=NEEDS-ACTION:MAILTO:JZuck@innovatorsnetwork.org
ATTENDEE;ROLE=REQ-PARTICIPANT;RSVP=FALSE;CN=langdonorr@gmail.com;PARTSTAT=
 NEEDS-ACTION:MAILTO:langdonorr@gmail.com
ATTENDEE;ROLE=REQ-PARTICIPANT;RSVP=FALSE;CN=greenberg.alan@gmail.com;PARTS
 TAT=NEEDS-ACTION:MAILTO:greenberg.alan@gmail.com
X-MICROSOFT-CDO-BUSYSTATUS:BUSY
X-MICROSOFT-CDO-ALLDAYEVENT:FALSE
X-MICROSOFT-DISALLOW-COUNTER:FALSE
X-MICROSOFT-DONOTFORWARDMEETING:FALSE
X-MICROSOFT-CDO-INSTTYPE:0
END:VEVENT
END:VCALENDAR
