BEGIN:VCALENDAR
METHOD:REQUEST
PRODID:Microsoft Exchange Server 2010
VERSION:2.0
BEGIN:VTIMEZONE
TZID:(UTC) Coordinated Universal Time
BEGIN:STANDARD
DTSTART:16010101T000000
TZOFFSETFROM:+0000
TZOFFSETTO:+0000
END:STANDARD
BEGIN:DAYLIGHT
DTSTART:16010101T000000
TZOFFSETFROM:+0000
TZOFFSETTO:+0000
END:DAYLIGHT
END:VTIMEZONE
BEGIN:VEVENT
ORGANIZER;CN=ICANN Policy Calendar:MAILTO:PolicyCalendar@icann.org
ATTENDEE;ROLE=REQ-PARTICIPANT;PARTSTAT=NEEDS-ACTION;RSVP=FALSE;CN=Heidi Ull
 rich:MAILTO:Heidi.Ullrich@icann.org
ATTENDEE;ROLE=REQ-PARTICIPANT;PARTSTAT=NEEDS-ACTION;RSVP=FALSE;CN=Gisella G
 ruber:MAILTO:Gisella.Gruber@icann.org
ATTENDEE;ROLE=REQ-PARTICIPANT;PARTSTAT=NEEDS-ACTION;RSVP=FALSE;CN=Yesim Sag
 lam:MAILTO:yesim.nazlar@icann.org
ATTENDEE;ROLE=REQ-PARTICIPANT;PARTSTAT=NEEDS-ACTION;RSVP=FALSE;CN=Silvia Vi
 vanco:MAILTO:silvia.vivanco@icann.org
ATTENDEE;ROLE=REQ-PARTICIPANT;PARTSTAT=NEEDS-ACTION;RSVP=FALSE;CN=Andrew Ch
 en:MAILTO:andrew.chen@icann.org
ATTENDEE;ROLE=REQ-PARTICIPANT;PARTSTAT=NEEDS-ACTION;RSVP=FALSE;CN=Brenda Br
 ewer:MAILTO:brenda.brewer@icann.org
ATTENDEE;ROLE=REQ-PARTICIPANT;PARTSTAT=NEEDS-ACTION;RSVP=FALSE;CN=Michelle 
 DeSmyter:MAILTO:michelle.desmyter@icann.org
ATTENDEE;ROLE=REQ-PARTICIPANT;PARTSTAT=NEEDS-ACTION;RSVP=FALSE;CN=Sabrina M
 osquera:MAILTO:sabrina.mosquera@icann.org
ATTENDEE;ROLE=REQ-PARTICIPANT;PARTSTAT=NEEDS-ACTION;RSVP=FALSE;CN=Maria Vil
 ardo:MAILTO:maria.vilardo@icann.org
ATTENDEE;ROLE=REQ-PARTICIPANT;PARTSTAT=NEEDS-ACTION;RSVP=FALSE;CN=Jessie Do
 herty:MAILTO:jessie.doherty@icann.org
ATTENDEE;ROLE=REQ-PARTICIPANT;PARTSTAT=NEEDS-ACTION;RSVP=FALSE;CN=office@al
 ccart.com:MAILTO:office@alccart.com
ATTENDEE;ROLE=REQ-PARTICIPANT;PARTSTAT=NEEDS-ACTION;RSVP=FALSE;CN=ocl@gih.c
 om:MAILTO:ocl@gih.com
ATTENDEE;ROLE=REQ-PARTICIPANT;PARTSTAT=NEEDS-ACTION;RSVP=FALSE;CN=avri@dori
 a.org:MAILTO:avri@doria.org
ATTENDEE;ROLE=REQ-PARTICIPANT;PARTSTAT=NEEDS-ACTION;RSVP=FALSE;CN=cpwg@ican
 n.org:MAILTO:cpwg@icann.org
DESCRIPTION;LANGUAGE=en-US:Dear All\,\n\n\n\nThe next At-Large Consolidated
  Policy Working Group (CPWG) Call has been scheduled for Wednesday\, 17 Se
 ptember 2025 at 19:00 UTC for 90 mins.\n\n\n\nFor other times: <https://ww
 w.timeanddate.com/worldclock/fixedtime.html?msg=At-Large+Consolidated+Poli
 cy+Working+Group+%28CPWG%29&iso=20250827T14&p1=1440&ah=1&am=30> <https://i
 cann-community.atlassian.net/wiki/x/I4C6Gw> see HERE<https://tinyurl.com/3
 yrrkk38>\n\n\n\nThe agenda (to be updated) and call details can be found a
 t: https://icann-community.atlassian.net/wiki/x/WABHH\n\n\n\nZoom Room: ht
 tps://icann.zoom.us/j/765717566?pwd=UTJCdWRSZVdJNEhOYW02OVBqQVQ1Zz09 / Pas
 scode: #CPWG2345*\n\nReal time transcription (RTT) available at (subject t
 o availability): https://www.streamtext.net/player?event=ICANN\n\nAt-Large
  Consolidated Policy Working Group (CPWG) Wiki Space: https://community.ic
 ann.org/x/jYDpB\n\nIf you require a dial-out please contact At-Large staff
  at: staff@atlarge.icann.org<mailto:staff@atlarge.icann.org>\n\n\n\nThank 
 you.\n\nKind regards\,\n\n\n\nAt-Large Staff\n\nICANN Policy Staff in supp
 ort of the At-Large Community\n\nwww.icann.org<http://www.icann.org/>\n\n\
 n\n
UID:040000008200E00074C5B7101A82E008000000001172CADBC2F5DB01000000000000000
 0100000008B950C01B6601C4F900F54017421436F
SUMMARY;LANGUAGE=en-US:At-Large Consolidated Policy Working Group (CPWG)
DTSTART;TZID=(UTC) Coordinated Universal Time:20250917T190000
DTEND;TZID=(UTC) Coordinated Universal Time:20250917T203000
CLASS:PUBLIC
PRIORITY:5
DTSTAMP:20250910T161934Z
TRANSP:OPAQUE
STATUS:CONFIRMED
SEQUENCE:1
LOCATION;LANGUAGE=en-US:19:00 UTC
X-MICROSOFT-CDO-APPT-SEQUENCE:1
X-MICROSOFT-CDO-OWNERAPPTID:2123857681
X-MICROSOFT-CDO-BUSYSTATUS:TENTATIVE
X-MICROSOFT-CDO-INTENDEDSTATUS:BUSY
X-MICROSOFT-CDO-ALLDAYEVENT:FALSE
X-MICROSOFT-CDO-IMPORTANCE:1
X-MICROSOFT-CDO-INSTTYPE:0
X-MICROSOFT-DONOTFORWARDMEETING:FALSE
X-MICROSOFT-DISALLOW-COUNTER:FALSE
X-MICROSOFT-LOCATIONDISPLAYNAME:19:00 UTC
X-MICROSOFT-LOCATIONSOURCE:None
END:VEVENT
END:VCALENDAR
