BEGIN:VCALENDAR
METHOD:REQUEST
PRODID:Microsoft Exchange Server 2010
VERSION:2.0
BEGIN:VTIMEZONE
TZID:UTC
BEGIN:STANDARD
DTSTART:16010101T000000
TZOFFSETFROM:+0000
TZOFFSETTO:+0000
END:STANDARD
BEGIN:DAYLIGHT
DTSTART:16010101T000000
TZOFFSETFROM:+0000
TZOFFSETTO:+0000
END:DAYLIGHT
END:VTIMEZONE
BEGIN:VEVENT
ORGANIZER;CN=ICANN Policy Calendar:MAILTO:PolicyCalendar@icann.org
ATTENDEE;ROLE=REQ-PARTICIPANT;PARTSTAT=NEEDS-ACTION;RSVP=FALSE;CN=atlasiiip
 articipants@icann.org:MAILTO:atlasiiiparticipants@icann.org
ATTENDEE;ROLE=REQ-PARTICIPANT;PARTSTAT=NEEDS-ACTION;RSVP=FALSE;CN=CPWG :MAI
 LTO:cpwg@icann.org
ATTENDEE;ROLE=REQ-PARTICIPANT;PARTSTAT=NEEDS-ACTION;RSVP=FALSE;CN=lac-discu
 ss-en:MAILTO:mailman-bounces@icann.org
ATTENDEE;ROLE=REQ-PARTICIPANT;PARTSTAT=NEEDS-ACTION;RSVP=FALSE;CN=ICANN At-
 Large Staff:MAILTO:staff@atlarge.icann.org
ATTENDEE;ROLE=REQ-PARTICIPANT;PARTSTAT=NEEDS-ACTION;RSVP=FALSE;CN=Jamie A L
 a CARTe Connection:MAILTO:jamie@alacarteconnection.com
ATTENDEE;ROLE=REQ-PARTICIPANT;PARTSTAT=NEEDS-ACTION;RSVP=FALSE;CN=Maureen H
 ilyard:MAILTO:maureen.hilyard@gmail.com
ATTENDEE;ROLE=REQ-PARTICIPANT;PARTSTAT=NEEDS-ACTION;RSVP=FALSE;CN=ocl999@gm
 ail.com:MAILTO:ocl999@gmail.com
ATTENDEE;ROLE=REQ-PARTICIPANT;PARTSTAT=NEEDS-ACTION;RSVP=FALSE;CN=Cheryl La
 ngdon-Orr:MAILTO:langdonorr@gmail.com
DESCRIPTION;LANGUAGE=en-US:***If you require a dial out or need to state an
  apology\, please contact At-Large staff at staff@atlarge.icann.org<mailto
 :staff@atlarge.icann.org> with your preferred number***\n\nDear All\,\n\nT
 he next At-Large Consolidated Policy Working Group (CPWG) Call is schedule
 d for Wednesday\, 23 June 2021 at 13:00 UTC for 90 mins.\n\nFor other time
 s: https://tinyurl.com/39yddy4s\n\nThe agenda (to be updated) and call det
 ails can be found at: https://community.icann.org/x/AgbpCQ\n\n\nZoom Room:
  https://icann.zoom.us/j/765717566?pwd=UTJCdWRSZVdJNEhOYW02OVBqQVQ1Zz09/ P
 asscode: #CPWG2345*\n\nReal time transcription (RTT) available at (subject
  to availability): https://www.streamtext.net/player?event=ICANN\n\nADIGO 
 Conference Bridge:\nEN: 1638\n\nES: 1738\n\nFR: 1838\n\nToll-free access n
 umber (US and Canada): 800 550 686\n\nOther toll-free numbers: https://www
 .adigo.com/icann\n\n\nAt-Large Consolidated Policy Working Group (CPWG) Wi
 ki Space: https://community.icann.org/x/jYDpB\n\nIf you require a dial-out
  please contact At-Large staff at: staff@atlarge.icann.org<mailto:staff@at
 large.icann.org>\n\n\n\nThank you.\nKind Regards\,\nAt-Large Staff\nICANN 
 Policy Staff in support of the At-Large Community\nWebsite: atlarge.icann.
 org<https://atlarge.icann.org/>\nFacebook: facebook.com/icann<https://www.
 facebook.com/icannatlarge>atlarge<https://www.facebook.com/icannatlarge>\n
 Twitter: @<https://twitter.com/ICANNAtLarge>ICANNAtLarge<https://twitter.c
 om/ICANNAtLarge>\n\n\n\n
UID:C396B6D6-56D3-4B18-9302-AB936D88B90B
SUMMARY;LANGUAGE=en-US:At-Large Consolidated Policy Working Group (CPWG) Ca
 ll
DTSTART;TZID=UTC:20210623T130000
DTEND;TZID=UTC:20210623T143000
CLASS:PUBLIC
PRIORITY:5
DTSTAMP:20210611T172232Z
TRANSP:OPAQUE
STATUS:CONFIRMED
SEQUENCE:0
LOCATION;LANGUAGE=en-US:13:00 UTC - ADIGO EN: 1638 ES: 1738 FR: 1838 - http
 s://icann.zoom.us/j/765717566?pwd=UTJCdWRSZVdJNEhOYW02OVBqQVQ1Zz09/
X-MICROSOFT-CDO-APPT-SEQUENCE:0
X-MICROSOFT-CDO-OWNERAPPTID:2119589820
X-MICROSOFT-CDO-BUSYSTATUS:TENTATIVE
X-MICROSOFT-CDO-INTENDEDSTATUS:BUSY
X-MICROSOFT-CDO-ALLDAYEVENT:FALSE
X-MICROSOFT-CDO-IMPORTANCE:1
X-MICROSOFT-CDO-INSTTYPE:0
X-MICROSOFT-DONOTFORWARDMEETING:FALSE
X-MICROSOFT-DISALLOW-COUNTER:FALSE
BEGIN:VALARM
DESCRIPTION:REMINDER
TRIGGER;RELATED=START:-PT15M
ACTION:DISPLAY
END:VALARM
END:VEVENT
END:VCALENDAR
