BEGIN:VCALENDAR
METHOD:REQUEST
PRODID:Microsoft Exchange Server 2010
VERSION:2.0
BEGIN:VTIMEZONE
TZID:UTC
BEGIN:STANDARD
DTSTART:16010101T000000
TZOFFSETFROM:+0000
TZOFFSETTO:+0000
END:STANDARD
BEGIN:DAYLIGHT
DTSTART:16010101T000000
TZOFFSETFROM:+0000
TZOFFSETTO:+0000
END:DAYLIGHT
END:VTIMEZONE
BEGIN:VEVENT
ORGANIZER;CN=ICANN Policy Calendar:MAILTO:PolicyCalendar@icann.org
ATTENDEE;ROLE=REQ-PARTICIPANT;PARTSTAT=NEEDS-ACTION;RSVP=TRUE;CN=Heidi Ullr
 ich:MAILTO:Heidi.Ullrich@icann.org
ATTENDEE;ROLE=REQ-PARTICIPANT;PARTSTAT=NEEDS-ACTION;RSVP=TRUE;CN=Silvia Viv
 anco:MAILTO:silvia.vivanco@icann.org
ATTENDEE;ROLE=REQ-PARTICIPANT;PARTSTAT=NEEDS-ACTION;RSVP=TRUE;CN=Gisella Gr
 uber:MAILTO:Gisella.Gruber@icann.org
ATTENDEE;ROLE=REQ-PARTICIPANT;PARTSTAT=NEEDS-ACTION;RSVP=TRUE;CN=Evin Erdog
 du:MAILTO:evin.erdogdu@icann.org
ATTENDEE;ROLE=REQ-PARTICIPANT;PARTSTAT=NEEDS-ACTION;RSVP=TRUE;CN=Andrea Gla
 ndon:MAILTO:andrea.glandon@icann.org
ATTENDEE;ROLE=REQ-PARTICIPANT;PARTSTAT=NEEDS-ACTION;RSVP=TRUE;CN=Claudia Ru
 iz:MAILTO:claudia.ruiz@icann.org
ATTENDEE;ROLE=REQ-PARTICIPANT;PARTSTAT=NEEDS-ACTION;RSVP=TRUE;CN=Michelle D
 eSmyter:MAILTO:michelle.desmyter@icann.org
ATTENDEE;ROLE=REQ-PARTICIPANT;PARTSTAT=NEEDS-ACTION;RSVP=TRUE;CN=Yesim Nazl
 ar:MAILTO:yesim.nazlar@icann.org
ATTENDEE;ROLE=REQ-PARTICIPANT;PARTSTAT=NEEDS-ACTION;RSVP=TRUE;CN=Sabrina Mo
 squera:MAILTO:sabrina.mosquera@icann.org
ATTENDEE;ROLE=REQ-PARTICIPANT;PARTSTAT=NEEDS-ACTION;RSVP=TRUE;CN=Pou ICANN 
 (pou.inteam.icann@gmail.com):MAILTO:pou.inteam.icann@gmail.com
ATTENDEE;ROLE=REQ-PARTICIPANT;PARTSTAT=NEEDS-ACTION;RSVP=TRUE;CN=TEL ES-Tel
 econf-Interpretation:MAILTO:ES-Teleconf-Interpretation@icann.org
ATTENDEE;ROLE=REQ-PARTICIPANT;PARTSTAT=NEEDS-ACTION;RSVP=TRUE;CN=Epstein IC
 ANN (epstein.inteam.icann@gmail.com):MAILTO:epstein.inteam.icann@gmail.com
ATTENDEE;ROLE=REQ-PARTICIPANT;PARTSTAT=NEEDS-ACTION;RSVP=TRUE;CN=Maria Vila
 rdo:MAILTO:maria.vilardo@icann.org
ATTENDEE;ROLE=REQ-PARTICIPANT;PARTSTAT=NEEDS-ACTION;RSVP=TRUE;CN=Skok ICANN
  (skok.inteam.icann@gmail.com):MAILTO:skok.inteam.icann@gmail.com
ATTENDEE;ROLE=REQ-PARTICIPANT;PARTSTAT=NEEDS-ACTION;RSVP=TRUE;CN=Alaniz ICA
 NN (alaniz.inteam.icann@gmail.com):MAILTO:alaniz.inteam.icann@gmail.com
ATTENDEE;ROLE=REQ-PARTICIPANT;PARTSTAT=NEEDS-ACTION;RSVP=TRUE;CN=Penelas IC
 ANN (penelas.inteam.icann@gmail.com):MAILTO:penelas.inteam.icann@gmail.com
ATTENDEE;ROLE=REQ-PARTICIPANT;PARTSTAT=NEEDS-ACTION;RSVP=TRUE;CN=cpwg@icann
 .org:MAILTO:cpwg@icann.org
DESCRIPTION;LANGUAGE=en-US:Dear All\,\n\n\n\nThe next At-Large Consolidated
  Policy Working Group (CPWG) Call is scheduled for Wednesday 15 May 2019 a
 t 19:00 UTC for 90 mins.\n\n\n\nFor other times: https://tinyurl.com/y45qn
 n9n\n\n\n\nThe agenda (to be updated) and call details can be found at:  h
 ttps://community.icann.org/x/4pGGBg\n\n\n\nZoom Room:  https://icann.zoom.
 us/j/472454279\n\n\n\nADIGO Conference Bridge:\n\nEN: 1638\n\nES: 1738\n\n
 \n\nToll-free access number (US and Canada):  800 550 6865\n\n\n\nOther to
 ll-free numbers: https://www.adigo.com/icann\n\n\n\nAt-Large Consolidated 
 Policy Working Group (CPWG) Wiki Space: https://community.icann.org/x/jYDp
 B\n\n\n\nIf you require a dial-out please contact At-Large staff at:  staf
 f@atlarge.icann.org<mailto:staff@atlarge.icann.org>\n\n\n\n\n\nThank you.\
 n\nKind regards\,\n\n\n\nAt-Large Staff\n\nICANN Policy Staff in support o
 f the At-Large Community\n\nWebsite: atlarge.icann.org<https://atlarge.ica
 nn.org/>\n\nFacebook: facebook.com/icann<https://www.facebook.com/icannatl
 arge>atlarge<https://www.facebook.com/icannatlarge>\n\nTwitter: @<https://
 twitter.com/ICANNAtLarge>ICANNAtLarge<https://twitter.com/ICANNAtLarge>\n\
 n\n
SUMMARY;LANGUAGE=en-US:At-Large Consolidated Policy Working Group (CPWG) Ca
 ll
DTSTART;TZID=UTC:20190515T190000
DTEND;TZID=UTC:20190515T203000
UID:50DCEAEC-FAD2-4105-97F9-50D5A8BB0E05
CLASS:PUBLIC
PRIORITY:5
DTSTAMP:20190510T162105Z
TRANSP:OPAQUE
STATUS:CONFIRMED
SEQUENCE:0
LOCATION;LANGUAGE=en-US:19:00 UTC - ADIGO 1638 - https://icann.zoom.us/j/47
 2454279
X-MICROSOFT-CDO-APPT-SEQUENCE:0
X-MICROSOFT-CDO-OWNERAPPTID:2117424552
X-MICROSOFT-CDO-BUSYSTATUS:TENTATIVE
X-MICROSOFT-CDO-INTENDEDSTATUS:BUSY
X-MICROSOFT-CDO-ALLDAYEVENT:FALSE
X-MICROSOFT-CDO-IMPORTANCE:1
X-MICROSOFT-CDO-INSTTYPE:0
X-MICROSOFT-DISALLOW-COUNTER:FALSE
END:VEVENT
END:VCALENDAR
