BEGIN:VCALENDAR
METHOD:REQUEST
PRODID:Microsoft Exchange Server 2010
VERSION:2.0
BEGIN:VTIMEZONE
TZID:UTC
BEGIN:STANDARD
DTSTART:16010101T000000
TZOFFSETFROM:+0000
TZOFFSETTO:+0000
END:STANDARD
BEGIN:DAYLIGHT
DTSTART:16010101T000000
TZOFFSETFROM:+0000
TZOFFSETTO:+0000
END:DAYLIGHT
END:VTIMEZONE
BEGIN:VEVENT
ORGANIZER;CN=ICANN Policy Calendar:MAILTO:PolicyCalendar@icann.org
ATTENDEE;ROLE=REQ-PARTICIPANT;PARTSTAT=NEEDS-ACTION;RSVP=FALSE;CN=cpwg@ican
 n.org:MAILTO:cpwg@icann.org
ATTENDEE;ROLE=REQ-PARTICIPANT;PARTSTAT=NEEDS-ACTION;RSVP=FALSE;CN=Heidi Ull
 rich:MAILTO:Heidi.Ullrich@icann.org
ATTENDEE;ROLE=REQ-PARTICIPANT;PARTSTAT=NEEDS-ACTION;RSVP=FALSE;CN=Pou ICANN
  (pou.inteam.icann@gmail.com):MAILTO:pou.inteam.icann@gmail.com
ATTENDEE;ROLE=REQ-PARTICIPANT;PARTSTAT=NEEDS-ACTION;RSVP=FALSE;CN=TEL ES-Te
 leconf-Interpretation:MAILTO:ES-Teleconf-Interpretation@icann.org
ATTENDEE;ROLE=REQ-PARTICIPANT;PARTSTAT=NEEDS-ACTION;RSVP=FALSE;CN=Maria Vil
 ardo:MAILTO:maria.vilardo@icann.org
ATTENDEE;ROLE=REQ-PARTICIPANT;PARTSTAT=NEEDS-ACTION;RSVP=FALSE;CN=Yesim Naz
 lar:MAILTO:yesim.nazlar@icann.org
ATTENDEE;ROLE=REQ-PARTICIPANT;PARTSTAT=NEEDS-ACTION;RSVP=FALSE;CN=Evin Erdo
 gdu:MAILTO:evin.erdogdu@icann.org
ATTENDEE;ROLE=REQ-PARTICIPANT;PARTSTAT=NEEDS-ACTION;RSVP=FALSE;CN=Gisella G
 ruber:MAILTO:Gisella.Gruber@icann.org
ATTENDEE;ROLE=REQ-PARTICIPANT;PARTSTAT=NEEDS-ACTION;RSVP=FALSE;CN=Epstein I
 CANN (epstein.inteam.icann@gmail.com):MAILTO:epstein.inteam.icann@gmail.co
 m
ATTENDEE;ROLE=REQ-PARTICIPANT;PARTSTAT=NEEDS-ACTION;RSVP=FALSE;CN=Silvia Vi
 vanco:MAILTO:silvia.vivanco@icann.org
ATTENDEE;ROLE=REQ-PARTICIPANT;PARTSTAT=NEEDS-ACTION;RSVP=FALSE;CN=Claudia R
 uiz:MAILTO:claudia.ruiz@icann.org
ATTENDEE;ROLE=REQ-PARTICIPANT;PARTSTAT=NEEDS-ACTION;RSVP=FALSE;CN=Andrea Gl
 andon:MAILTO:andrea.glandon@icann.org
ATTENDEE;ROLE=REQ-PARTICIPANT;PARTSTAT=NEEDS-ACTION;RSVP=FALSE;CN=Sabrina M
 osquera:MAILTO:sabrina.mosquera@icann.org
ATTENDEE;ROLE=REQ-PARTICIPANT;PARTSTAT=NEEDS-ACTION;RSVP=FALSE;CN=Penelas I
 CANN:MAILTO:penelas.inteam.icann@gmail.com
DESCRIPTION;LANGUAGE=en-US:***** UPDATED: We will be using Zoom for this ca
 ll *****\n\n\n\n\n\n\n\nThe agenda (to be updated) and call details can be
  found at: https://community.icann.org/x/WIOGBg\n\n\n\nZoom Room: https://
 icann.zoom.us/j/407784499\n\n\n\nZoom Dial-in Numbers: https://zoom.us/u/a
 yXQGOHVG  / Meeting ID: 407 784 499\n\n\n\n\n\nADIGO Conference Bridge:\n\
 nEN: 1638\n\nES: 1738\n\n\n\nOther toll-free numbers: https://www.adigo.co
 m/icann\n\n\n\nAt-Large Consolidated Policy Working Group (CPWG) Wiki Spac
 e: https://community.icann.org/x/jYDpB\n\n\n\nIf you require a dial-out pl
 ease contact At-Large staff at: staff@atlarge.icann.org<mailto:staff@atlar
 ge.icann.org>\n\n\n\n\n\nThank you.\n\nKind Regards\,\n\n\n\nAt-Large Staf
 f\n\nICANN Policy Staff in support of the At-Large Community\n\nWebsite: a
 tlarge.icann.org<https://atlarge.icann.org/>\n\nFacebook: facebook.com/ica
 nn<https://www.facebook.com/icannatlarge>atlarge<https://www.facebook.com/
 icannatlarge>\n\nTwitter: @<https://twitter.com/ICANNAtLarge>ICANNAtLarge<
 https://twitter.com/ICANNAtLarge>\n\n\n\n\n\n\n\n\n\n\n\n\n\n\n
SUMMARY;LANGUAGE=en-US:At-Large Consolidated Policy Working Group (CPWG) Ca
 ll
DTSTART;TZID=UTC:20190430T210000
DTEND;TZID=UTC:20190430T223000
UID:62F75C22-FDD1-4DB9-B347-6E22525AF695
CLASS:PUBLIC
PRIORITY:5
DTSTAMP:20190425T214400Z
TRANSP:OPAQUE
STATUS:CONFIRMED
SEQUENCE:1
LOCATION;LANGUAGE=en-US:21:00 UTC - ADIGO EN: 1638 ES: 1738 - https://parti
 cipate.icann.org/cpwg/
X-MICROSOFT-CDO-APPT-SEQUENCE:1
X-MICROSOFT-CDO-OWNERAPPTID:2117388568
X-MICROSOFT-CDO-BUSYSTATUS:TENTATIVE
X-MICROSOFT-CDO-INTENDEDSTATUS:BUSY
X-MICROSOFT-CDO-ALLDAYEVENT:FALSE
X-MICROSOFT-CDO-IMPORTANCE:1
X-MICROSOFT-CDO-INSTTYPE:0
X-MICROSOFT-DISALLOW-COUNTER:TRUE
BEGIN:VALARM
DESCRIPTION:REMINDER
TRIGGER;RELATED=START:-PT15M
ACTION:DISPLAY
END:VALARM
END:VEVENT
END:VCALENDAR
