BEGIN:VCALENDAR
METHOD:REQUEST
PRODID:Microsoft Exchange Server 2010
VERSION:2.0
BEGIN:VTIMEZONE
TZID:UTC
BEGIN:STANDARD
DTSTART:16010101T000000
TZOFFSETFROM:+0000
TZOFFSETTO:+0000
END:STANDARD
BEGIN:DAYLIGHT
DTSTART:16010101T000000
TZOFFSETFROM:+0000
TZOFFSETTO:+0000
END:DAYLIGHT
END:VTIMEZONE
BEGIN:VEVENT
ORGANIZER;CN=ICANN Policy Calendar:MAILTO:PolicyCalendar@icann.org
ATTENDEE;ROLE=REQ-PARTICIPANT;PARTSTAT=NEEDS-ACTION;RSVP=FALSE;CN=ICANN At-
 Large Staff:MAILTO:staff@atlarge.icann.org
ATTENDEE;ROLE=REQ-PARTICIPANT;PARTSTAT=NEEDS-ACTION;RSVP=FALSE;CN=CPWG :MAI
 LTO:cpwg@icann.org
ATTENDEE;ROLE=REQ-PARTICIPANT;PARTSTAT=NEEDS-ACTION;RSVP=FALSE;CN=atlasiiip
 articipants@icann.org:MAILTO:atlasiiiparticipants@icann.org
ATTENDEE;ROLE=REQ-PARTICIPANT;PARTSTAT=NEEDS-ACTION;RSVP=FALSE;CN=lac-discu
 ss-en:MAILTO:lac-discuss-en@atlarge-lists.icann.org
ATTENDEE;ROLE=REQ-PARTICIPANT;PARTSTAT=NEEDS-ACTION;RSVP=FALSE;CN=Jamie A L
 a CARTe Connection:MAILTO:jamie@alacarteconnection.com
ATTENDEE;ROLE=REQ-PARTICIPANT;PARTSTAT=NEEDS-ACTION;RSVP=FALSE;CN=Office A 
 La CARTe Connection:MAILTO:office@alacarteconnection.com
DESCRIPTION;LANGUAGE=en-US:***If you require a dial out or need to state an
  apology\, please contact At-Large staff at staff@atlarge.icann.org<mailto
 :staff@atlarge.icann.org> with your preferred number***\n\nDear All\,\n\nT
 he next At-Large Consolidated Policy Working Group (CPWG) Call is schedule
 d for Wednesday\, 20 October 2021 at 13:00 UTC for 90 mins.\n\nFor other t
 imes:   https://tinyurl.com/5xjcsbmu\n\nThe agenda and call details can be
  found at:  https://community.icann.org/x/dg6HCg\n\nZoom Room: https://ica
 nn.zoom.us/j/765717566?pwd=UTJCdWRSZVdJNEhOYW02OVBqQVQ1Zz09/\n\nPasscode: 
 #CPWG2345*\n\nReal time transcription (RTT) available at (subject to avail
 ability): https://www.streamtext.net/player?event=ICANN\n\nADIGO Conferenc
 e Bridge:\nEN: 1638\n\nES: 1738\n\nFR: 1838\n\nToll-free access number (US
  and Canada): 800 550 686\n\nOther toll-free numbers: https://www.adigo.co
 m/icann\n\n\nAt-Large Consolidated Policy Working Group (CPWG) Wiki Space:
  https://community.icann.org/x/jYDpB\n\nIf you require a dial-out please c
 ontact At-Large staff at: staff@atlarge.icann.org<mailto:staff@atlarge.ica
 nn.org>\n\nThank you.\n\nKind Regards\,\n\nAt-Large Staff\n\nICANN Policy 
 Staff in support of the At-Large Community\n\nWebsite: atlarge.icann.org<h
 ttps://atlarge.icann.org/>\n\nFacebook: facebook.com/icann<https://www.fac
 ebook.com/icannatlarge>atlarge<https://www.facebook.com/icannatlarge>\n\nT
 witter: @<https://twitter.com/ICANNAtLarge>ICANNAtLarge<https://twitter.co
 m/ICANNAtLarge>\n
UID:D91D07DD-B939-42DD-904C-5CB186C17EED
SUMMARY;LANGUAGE=en-US:At-Large Consolidated Policy Working Group (CPWG) Ca
 ll 
DTSTART;TZID=UTC:20211020T130000
DTEND;TZID=UTC:20211020T143000
CLASS:PUBLIC
PRIORITY:5
DTSTAMP:20211013T211021Z
TRANSP:OPAQUE
STATUS:CONFIRMED
SEQUENCE:0
LOCATION;LANGUAGE=en-US:13:00 UTC - ADIGO EN: 1638 ES: 1738 FR: 1838 - Zoom
 : https://icann.zoom.us/j/765717566?pwd=UTJCdWRSZVdJNEhOYW02OVBqQVQ1Zz09/
X-MICROSOFT-CDO-APPT-SEQUENCE:0
X-MICROSOFT-CDO-OWNERAPPTID:2119854878
X-MICROSOFT-CDO-BUSYSTATUS:TENTATIVE
X-MICROSOFT-CDO-INTENDEDSTATUS:BUSY
X-MICROSOFT-CDO-ALLDAYEVENT:FALSE
X-MICROSOFT-CDO-IMPORTANCE:1
X-MICROSOFT-CDO-INSTTYPE:0
X-MICROSOFT-DONOTFORWARDMEETING:FALSE
X-MICROSOFT-DISALLOW-COUNTER:TRUE
BEGIN:VALARM
DESCRIPTION:REMINDER
TRIGGER;RELATED=START:-PT15M
ACTION:DISPLAY
END:VALARM
END:VEVENT
END:VCALENDAR
