BEGIN:VCALENDAR
METHOD:REQUEST
PRODID:Microsoft Exchange Server 2010
VERSION:2.0
BEGIN:VTIMEZONE
TZID:UTC
BEGIN:STANDARD
DTSTART:16010101T000000
TZOFFSETFROM:+0000
TZOFFSETTO:+0000
END:STANDARD
BEGIN:DAYLIGHT
DTSTART:16010101T000000
TZOFFSETFROM:+0000
TZOFFSETTO:+0000
END:DAYLIGHT
END:VTIMEZONE
BEGIN:VEVENT
ORGANIZER;CN=MSSI Secretariat:MAILTO:mssi-secretariat@icann.org
ATTENDEE;ROLE=REQ-PARTICIPANT;PARTSTAT=NEEDS-ACTION;RSVP=TRUE;CN=DNSsecurit
 y-SSR2-RT@icann.org:MAILTO:DNSsecurity-SSR2-RT@icann.org
DESCRIPTION;LANGUAGE=en-US:Location: Adobe Connect via this link: https://p
 articipate.icann.org/SSR2_dnssecurity\n\nPrimary Mobile:  tel://1-605-475-
 5619\,*\,\, 2767339263\n-  dial number\, enter passcode:  2767339263\, the
 n hit #  |  (For International Numbers\, click here<https://www.myrcplus.c
 om/cnums.asp?bwebid=8369444&ppc=2767339263&num=1-605-475-5619> or see belo
 w)\n\n\nDear DNS Security – SSR2 Subtopic Team\,\n\nGood day. You are in
 vited to attend the Subtopic – DNS Security - Meeting #4\nPlease see sch
 eduling details and phone information below…\n\nDATE:     Monday\, 14 Au
 gust 2017\nTIME:     20:00 UTC – 21:00 UTC (1 hour)\n      – 1pm PST |
  4pm EST\n•       For additional local times click here.<https://www.tim
 eanddate.com/worldclock/fixedtime.html?msg=DNS+Security+Subtopic+-+Meeting
 +%234&iso=20170814T20&p1=1440&ah=1>\n•       For UTC time converter\, cl
 ick here<https://savvytime.com/converter/utc-to-ist-est-australia-sydney/j
 un-13-2017/06-00>.\n\n**For Dial Out requests:  if you would like to recei
 ve a dial-out for this meeting\, please email your phone number of prefere
 nce to mssi-secretariat@icann.org<mailto:mssi-secretariat@icann.org> at le
 ast 24 hours prior to the call and we’ll gladly dial you in.**\n\n\nPlea
 se join the meeting via Adobe Connect via this link: https://participate.i
 cann.org/SSR2_dnssecurity\n\n•       Upon logging into Adobe Connect\, a
  pop up window will provide you the option to Dial Out to your Phone.\n•
        Enter your Phone Number* (Remember to change the Country Code if ne
 eded).\n•       After joining the call\, as a courtesy to others and the
  presenters\, please MUTE your phone.\n•       This can be done by selec
 ting *6 on your keypad. To UNMUTE select *6 again.\n\n\nIf you are unable 
 to log into Adobe Connect and can only join via phone\,\nYou can join by d
 ialing one of the access numbers below…\n\nDial In Phone Numbers:\nParti
 cipant Passcode: 2767339263\n\n   USA:         1-605-475-5619\n   USA:    
      1-712-770-4218\n   Canada\, Calgary:             +1 403 407 5801\n   
 Canada\, Montreal:            +1 514 669 5926\n   Canada\, Toronto:       
       +1 647 426 9175\n   Canada\, Vancouver:           +1 604 224 6903\n 
   Argentina\, Buenos Aires:             +54 (0) 11 5172 6020\n   Argentina
  (toll free):               0800 800 1252\n   Australia\, Sydney:         
   +61 (0) 2 8017 5796\n   Australia\, Melbourne:                +61 (0) 3 
 8687 0554\n   Australia\, Brisbane:         +61 (0) 7 3015 0544\n   Austra
 lia (toll free):               1 800 448 693\n   Austria\, Vienna:        
      +43 (0) 1 25302 1786\n   Austria (toll free):         0800 8866 3414\
 n   Bahrain\, Manama:             +973 1619 8750\n   Bahrain (toll free): 
         800 81231\n   Belarus (toll free):         8 820 0011 0342\n   Bel
 gium\, Brussels:           +32 (0) 2 400 6929\n   Belgium (toll free):    
      0800 39280\n   Brazil\, Sao Paulo:           +55 11 4935 7170\n   Bra
 zil\, Rio de Janeiro:              +55 21 4560 0071\n   Brazil (toll free)
 :          0800 887 0244\n   Bulgaria\, Sofia:             +359 (0) 2 491 
 6054\n   Bulgaria (toll free):                00800 111 4951\n   Cambodia\
 , Phnom Penh:                +855 23 962 580\n   Canada (toll free):      
     1 855 950 3725\n   Chile\, Santiago:             +56 (0) 2 2666 0712\n
    Chile (toll free):           171 800 835 945\n   China (national):     
        +400 613 8105\n   China\, Beijing:              +86 10 5667 0006\n 
   China\, Shanghai:             +86 21 2039 7083\n   Colombia\, Bogota:   
          +57 1 508 8125\n   Colombia (toll free):                01 800 75
 5 0054\n   Costa Rica (toll free):              800 542 5351\n   Croatia (
 toll free):         0800 222 836\n   Cyprus (toll free):          800 9742
 9\n   Czech Republic\, Prague:              +420 225 986 566\n   Czech Rep
 ublic (toll free):          800 701 533\n   Denmark\, Copenhagen:         
 +45 32 72 78 11\n   Denmark (toll free):         80 70 35 87\n   Egypt (to
 ll free):           0800 000 0541\n   Estonia\, Tallinn:            +372 6
 22 6569\n   Estonia (toll free):         800 011 1577\n   Fiji (toll free)
 :            00800 3329\n   Finland\, Helsinki:           +358 (0) 9 2310 
 1676\n   Finland (toll free):         0800 772 237\n   France\, Paris:    
            +33 (0) 1 70 37 16 57\n   France (toll free):          0800 946
  532\n   France (national):           0811 655 102\n   France (national): 
           0821 231 688\n   Georgia\, Tbilisi:            +995 32 2 053 083
 \n   Germany\, Frankfurt:          +49 (0) 69 2222 10613\n   Germany\, Mun
 ich:             +49 (0) 89 2030 31208\n   Germany (national):          01
 801 000 891\n   Germany (toll free):         0800 588 9171\n   Greece\, At
 hens:              +30 211 181 3825\n   Greece (toll free):          00800
  128 906\n   Hong Kong:           +852 3018 9119\n   Hong Kong (toll free)
 :               800 901 914\n   Hungary\, Budapest:           +36 1408 896
 8\n   Hungary (toll free):         068 001 9675\n   Iceland (toll free):  
        800 9004\n   India\, Delhi:                +91 (0) 11 6641 1393\n  
  India\, Bangalore:            +91 (0) 80 6127 6713\n   India\, Mumbai:   
             +91 (0)22 6187 5029\n   India\, Chennai:              +91 (0)4
 4 6688 6069\n   India (toll free):           1800 200 9472\n   Indonesia\,
  Jakarta:          +62 21 2188 9094\n   Indonesia (toll free):            
    007 803 321 8918\n   Ireland\, Dublin:             +353 (0) 1 526 9422\
 n   Ireland (national):          0818 270 288\n   Ireland (toll free):    
      1800 937 650\n   Ireland (national):          1890 907 631\n   Israel
 \, Tel Aviv:            +972 (0)3 721 7954\n   Israel (toll free):        
   1809 213 173\n   Italy\, Milan:                +39 02 3600 8007\n   Ital
 y\, Rome:         +39 06 8750 0677\n   Italy (toll free):           800 14
 6 095\n   Japan\, Tokyo:                +81 (0) 3 4588 9606\n   Japan\, Os
 aka:                +81 (0) 6 4560 2417\n   Japan (mobile):              0
 120 538 611\n   Japan (toll free):           0120 759 200\n   Japan (natio
 nal):            0570 063 744\n   Jordan (toll free):          0800 22157\
 n   Kazakhstan (toll free):              8800 333 7556\n   Kenya\, Nairobi
 :              +254 (0)20 529 3597\n   South Korea\, Seoul:          +82 (
 0) 2 6007 0087\n   South Korea (toll free):             00798 6136 1526\n 
   Latvia\, Riga:                +371 6601 3641\n   Latvia (toll free):    
       8000 4412\n   Lithuania\, Vilnius:          +370 5205 5486\n   Lithu
 ania (toll free):               8800 31443\n   Luxembourg:          +352 2
 088 1910\n   Luxembourg (toll free):              800 28437\n   Malaysia\,
  Kuala Lumpur:              +60 (0) 3 7724 8003\n   Malaysia (toll free): 
                1 800 816 165\n   Mexico\, Guadalajara:         +52 33 4162
  3995\n   Mexico\, Mexico City:         +52 55 8421 0858\n   Mexico\, Mont
 errey:           +52 81 4162 3851\n   Mexico (toll free):          01 800 
 283 3131\n   Morocco\, Casablanca:         +212 (0) 520 48 0023\n   Morocc
 o (toll free):         0800 091 297\n   Netherlands\, Amsterdam:          
     +31 (0) 20 716 8346\n   Netherlands (toll free):             0800 020 
 2598\n   New Zealand\, Christchurch:           +64 (0) 3 974 2592\n   New 
 Zealand\, Wellington:             +64 (0) 4 909 4679\n   New Zealand\, Auc
 kland:               +64 (0) 9 929 1832\n   New Zealand (toll free):      
        0800 440 096\n   Nigeria\, Lagos:              +234 1 277 3948\n   
 Norway\, Oslo:                +47 21 00 48 16\n   Norway (toll free):     
      800 56082\n   Oman (toll free):            800 77243\n   Panama\, Pan
 ama City:         +507 8 339 783\n   Panama (toll free):          00800 22
 3 1431\n   Peru\, Lima:          +51 (0) 1 700 9588\n   Peru (toll free): 
            0800 78127\n   Philippines\, Manila:         +63 (0)2 395 3435\
 n   Philippines (toll free):             1 800 111 014 18\n   Poland\, War
 saw:              +48 22 295 3584\n   Poland (toll free):          00 800 
 121 4357\n   Portugal\, Lisbon:            +351 21 424 5134\n   Portugal (
 toll free):                800 784 443\n   Qatar (toll free):           00
  800 100 501\n   Romania\, Bucharest:          +40 (0) 21 529 1307\n   Rom
 ania (toll free):         0800 801 036\n   Russia\, Moscow:              +
 7 495 705 9452\n   Russia (toll free):          8 800 500 9272\n   Saudi A
 rabia (toll free):            800 844 9140\n   Saudi Arabia (toll free):  
           800 850 0228\n   Serbia (toll free):          0800 190 700\n   S
 ingapore:           +65 6654 9115\n   Singapore (toll free):              
  800 616 3193\n   Slovakia\, Bratislava:                +421 (0)2 3321 550
 8\n   Slovakia (toll free):                0800 002 003\n   Slovenia (toll
  free):                0800 80594\n   Slovenia\, Ljubljana:         1 888 
 8200\n   South Africa\, Johannesburg:          +27 (0)11 589 8334\n   Sout
 h Africa (toll free):            0800 999 598\n   Spain\, Madrid:         
       +34 91 114 6654\n   Spain\, Barcelona:            +34 93 800 1947\n 
   Spain (toll free):           900 828 036\n   Sri Lanka\, Sri Lanka:     
            +94 720 910 349\n   Sweden\, Stockholm:           +46 (0) 8 506
 5 3957\n   Sweden (toll free):          0200 125 589\n   Switzerland\, Gen
 eva:         +41 (0) 22 595 4796\n   Switzerland\, Zurich:         +41 (0)
  44 580 7208\n   Switzerland (toll free):             0800 740 361\n   Tai
 wan\, Taipei:              +886 (0) 2 2650 7322\n   Taiwan (toll free):   
        00 801 615 190\n   Thailand\, Bangkok:           +66 (0) 2104 0766\
 n   Thailand (toll free):                001 800 6136 1530\n   Tunisia\, T
 unis:              +216 31 378 110\n   Turkey\, Istanbul:            +90 2
 12 375 5032\n   Turkey (toll free):          00 800 448829138\n   Ukraine 
 (toll free):         0800 500 923\n   UAE (toll free):             8000 35
 70 2658\n   UK (03):             +44 (0)330 336 6011\n   UK (toll free):  
             0800 358 6387\n   UK (national):               0844 473 5018\n
    UK (national):               0845 545 0016\n   USA /Canada (toll free):
              1-866-546-3377\n   Uruguay (toll free):         0004 019 0305
 \n   Venezuela\, Caracas:          +58 212 720 2580\n   Venezuela (toll fr
 ee):               0 800 100 8373\n   Vietnam\, Hanoi:              +84 24
  4458 3324\n   Vietnam\, Ho Chi Minh:                +84 28 4458 1334\n   
 Vietnam (toll free):         1201 1444\n\n\n\n\n\n\n\n
SUMMARY;LANGUAGE=en-US:REMINDER - DNS SSR (DNS Security) - SSR2 Subtopic - 
 Meeting #4 |  Monday\, 14 August 2017 @ 20:00 UTC
DTSTART;TZID=UTC:20170814T200000
DTEND;TZID=UTC:20170814T210000
UID:040000008200E00074C5B7101A82E00800000000700455946B0CD301000000000000000
 010000000BC5A3F2DE28D2A4495C823058FF2B79C
CLASS:PUBLIC
PRIORITY:5
DTSTAMP:20170803T223739Z
TRANSP:OPAQUE
STATUS:CONFIRMED
SEQUENCE:2
LOCATION;LANGUAGE=en-US:https://participate.icann.org/SSR2_dnssecurity  |  
  tel://1-605-475-5619\,*\,\, 2767339263 
X-MICROSOFT-CDO-APPT-SEQUENCE:2
X-MICROSOFT-CDO-OWNERAPPTID:1893959649
X-MICROSOFT-CDO-BUSYSTATUS:TENTATIVE
X-MICROSOFT-CDO-INTENDEDSTATUS:BUSY
X-MICROSOFT-CDO-ALLDAYEVENT:FALSE
X-MICROSOFT-CDO-IMPORTANCE:1
X-MICROSOFT-CDO-INSTTYPE:0
X-MICROSOFT-DISALLOW-COUNTER:FALSE
BEGIN:VALARM
DESCRIPTION:REMINDER
TRIGGER;RELATED=START:-PT30M
ACTION:DISPLAY
END:VALARM
END:VEVENT
END:VCALENDAR
