BEGIN:VCALENDAR
METHOD:REQUEST
PRODID:Microsoft Exchange Server 2010
VERSION:2.0
BEGIN:VTIMEZONE
TZID:(UTC) Coordinated Universal Time
BEGIN:STANDARD
DTSTART:16010101T000000
TZOFFSETFROM:+0000
TZOFFSETTO:+0000
END:STANDARD
BEGIN:DAYLIGHT
DTSTART:16010101T000000
TZOFFSETFROM:+0000
TZOFFSETTO:+0000
END:DAYLIGHT
END:VTIMEZONE
BEGIN:VEVENT
ORGANIZER;CN=ICANN Policy Calendar:MAILTO:PolicyCalendar@icann.org
ATTENDEE;ROLE=REQ-PARTICIPANT;PARTSTAT=NEEDS-ACTION;RSVP=TRUE;CN=Heidi Ullr
 ich:MAILTO:Heidi.Ullrich@icann.org
ATTENDEE;ROLE=REQ-PARTICIPANT;PARTSTAT=NEEDS-ACTION;RSVP=TRUE;CN=Gisella Gr
 uber:MAILTO:Gisella.Gruber@icann.org
ATTENDEE;ROLE=REQ-PARTICIPANT;PARTSTAT=NEEDS-ACTION;RSVP=TRUE;CN=Yesim Sagl
 am:MAILTO:yesim.nazlar@icann.org
ATTENDEE;ROLE=REQ-PARTICIPANT;PARTSTAT=NEEDS-ACTION;RSVP=TRUE;CN=Claudia Ru
 iz:MAILTO:claudia.ruiz@icann.org
ATTENDEE;ROLE=REQ-PARTICIPANT;PARTSTAT=NEEDS-ACTION;RSVP=TRUE;CN=Silvia Viv
 anco:MAILTO:silvia.vivanco@icann.org
ATTENDEE;ROLE=REQ-PARTICIPANT;PARTSTAT=NEEDS-ACTION;RSVP=TRUE;CN=Chantelle 
 Doerksen:MAILTO:chantelle.doerksen@icann.org
ATTENDEE;ROLE=REQ-PARTICIPANT;PARTSTAT=NEEDS-ACTION;RSVP=TRUE;CN=Michelle D
 eSmyter:MAILTO:michelle.desmyter@icann.org
ATTENDEE;ROLE=REQ-PARTICIPANT;PARTSTAT=NEEDS-ACTION;RSVP=TRUE;CN=Sabrina Mo
 squera:MAILTO:sabrina.mosquera@icann.org
ATTENDEE;ROLE=REQ-PARTICIPANT;PARTSTAT=NEEDS-ACTION;RSVP=TRUE;CN=Maria Vila
 rdo:MAILTO:maria.vilardo@icann.org
ATTENDEE;ROLE=REQ-PARTICIPANT;PARTSTAT=NEEDS-ACTION;RSVP=TRUE;CN=Christina 
 Rodriguez:MAILTO:christina.rodriguez@icann.org
ATTENDEE;ROLE=REQ-PARTICIPANT;PARTSTAT=NEEDS-ACTION;RSVP=TRUE;CN=Adam Peake
 :MAILTO:adam.peake@icann.org
ATTENDEE;ROLE=REQ-PARTICIPANT;PARTSTAT=NEEDS-ACTION;RSVP=TRUE;CN=euro-discu
 ss@atlarge-lists.icann.org:MAILTO:euro-discuss@atlarge-lists.icann.org
ATTENDEE;ROLE=REQ-PARTICIPANT;PARTSTAT=NEEDS-ACTION;RSVP=TRUE;CN=filinafilk
 a@gmail.com:MAILTO:filinafilka@gmail.com
ATTENDEE;ROLE=REQ-PARTICIPANT;PARTSTAT=NEEDS-ACTION;RSVP=TRUE;CN=ocl@gih.co
 m:MAILTO:ocl@gih.com
ATTENDEE;ROLE=REQ-PARTICIPANT;PARTSTAT=NEEDS-ACTION;RSVP=TRUE;CN=dagnazza@g
 mail.com:MAILTO:dagnazza@gmail.com
ATTENDEE;ROLE=REQ-PARTICIPANT;PARTSTAT=NEEDS-ACTION;RSVP=TRUE;CN=roberto_ga
 etano@hotmail.com:MAILTO:roberto_gaetano@hotmail.com
ATTENDEE;ROLE=REQ-PARTICIPANT;PARTSTAT=NEEDS-ACTION;RSVP=TRUE;CN=pariesfand
 iari@gmail.com:MAILTO:pariesfandiari@gmail.com
ATTENDEE;ROLE=REQ-PARTICIPANT;PARTSTAT=NEEDS-ACTION;RSVP=TRUE;CN=sebicann@b
 achollet.fr:MAILTO:sebicann@bachollet.fr
ATTENDEE;ROLE=REQ-PARTICIPANT;PARTSTAT=NEEDS-ACTION;RSVP=TRUE;CN=Mikhail An
 isimov:MAILTO:mikhail.anisimov@icann.org
ATTENDEE;ROLE=REQ-PARTICIPANT;PARTSTAT=NEEDS-ACTION;RSVP=TRUE;CN=jkuleszaic
 ann@gmail.com:MAILTO:jkuleszaicann@gmail.com
ATTENDEE;ROLE=OPT-PARTICIPANT;PARTSTAT=NEEDS-ACTION;RSVP=TRUE;CN=Evin Erdog
 du:MAILTO:evin.erdogdu@icann.org
ATTENDEE;ROLE=OPT-PARTICIPANT;PARTSTAT=NEEDS-ACTION;RSVP=TRUE;CN=Fahd Batay
 neh:MAILTO:fahd.batayneh@icann.org
ATTENDEE;ROLE=OPT-PARTICIPANT;PARTSTAT=NEEDS-ACTION;RSVP=TRUE;CN=Maya Smund
 ak:MAILTO:maya.smundak@icann.org
ATTENDEE;ROLE=OPT-PARTICIPANT;PARTSTAT=NEEDS-ACTION;RSVP=TRUE;CN=Jessie Doh
 erty:MAILTO:jessie.doherty@icann.org
ATTENDEE;ROLE=OPT-PARTICIPANT;PARTSTAT=NEEDS-ACTION;RSVP=TRUE;CN=Danko Jevt
 ović:MAILTO:danko@jevtovic.rs
ATTENDEE;ROLE=OPT-PARTICIPANT;PARTSTAT=NEEDS-ACTION;RSVP=TRUE;CN=liubomirgn
 ikiforov@gmail.com:MAILTO:liubomirgnikiforov@gmail.com
ATTENDEE;ROLE=OPT-PARTICIPANT;PARTSTAT=NEEDS-ACTION;RSVP=TRUE;CN=Siranush V
 ardanyan:MAILTO:siranush.vardanyan@icann.org
ATTENDEE;ROLE=OPT-PARTICIPANT;PARTSTAT=NEEDS-ACTION;RSVP=TRUE;CN=Andrea Bec
 calli:MAILTO:andrea.beccalli@icann.org
ATTENDEE;ROLE=OPT-PARTICIPANT;PARTSTAT=NEEDS-ACTION;RSVP=TRUE;CN=Betty Faus
 ta - IPEOS:MAILTO:bf@ipeos.com
ATTENDEE;ROLE=OPT-PARTICIPANT;PARTSTAT=NEEDS-ACTION;RSVP=TRUE;CN=Rosa DELGA
 DO:MAILTO:rosa@delgado.aero
ATTENDEE;ROLE=OPT-PARTICIPANT;PARTSTAT=NEEDS-ACTION;RSVP=TRUE;CN=Epstein IC
 ANN:MAILTO:epstein.inteam.icann@gmail.com
ATTENDEE;ROLE=OPT-PARTICIPANT;PARTSTAT=NEEDS-ACTION;RSVP=TRUE;CN=Skok ICANN
 :MAILTO:skok.inteam.icann@gmail.com
DESCRIPTION;LANGUAGE=en-US:*If you require a dial-out or need to state an a
 pology\, please contact At-Large staff ONLY at staff@atlarge.icann.org<mai
 lto:staff@atlarge.icann.org> with your preferred number.**\n\n\nDear all\,
 \n\n\nThe next EURALO Members Monthly teleconference has been rescheduled 
 to Tuesday\, 25 April 2023 at 17:00 UTC for 120 minutes. (Please adjust yo
 ur calendars accordingly)\n\n\nFor other times: https://tinyurl.com/y6am45
 f9<https://tinyurl.com/yt583mm5>\n\nWiki agenda: https://community.icann.o
 rg/x/mQU5Dg\n\n\nZOOM Link: https://icann.zoom.us/j/98332357195?pwd=TzBtej
 hOZGcrNGxIcHlWS1I4MDJUZz09  PASSWORD: EURAAPR18*\n\n\n\nADIGO Conf. ID:\n\
 nEN\, ES\, FR & RU: 3535 (Subject to availability)\n\n\n\nToll-free access
  number (US and Canada): 800 550 686\n\n\nOther toll-free numbers: http://
 adigo.com/icann/ [adigo.com]<https://urldefense.com/v3/__http:/adigo.com/i
 cann/__\;!!PtGJab4!qpdT6wPlznu1cZaF28sNxXv7eue6aOORhUk9qRc_8FCjJExyOipinkN
 BA8tcw1Z--JIhZg6h4w$>\n\n\nThank you.\n\nKind Regards\,\n\nAt-Large Staff\
 n\nICANN Policy Staff in support of the At-Large Community\n\nWebsite: atl
 arge.icann.org [atlarge.icann.org]<https://urldefense.com/v3/__https:/atla
 rge.icann.org/__\;!!PtGJab4!tsy02psFePTWC5SnHRalM4cOl8V8xOcqMZ_TuvLKPIwwhq
 qZMe6MmmIsOz6IMsUKZtpLgPB_xA$>\n\nFacebook: facebook.com/icann [facebook.c
 om]<https://urldefense.com/v3/__https:/www.facebook.com/icannatlarge__\;!!
 PtGJab4!tsy02psFePTWC5SnHRalM4cOl8V8xOcqMZ_TuvLKPIwwhqqZMe6MmmIsOz6IMsUKZt
 pSqXIymQ$>atlarge [facebook.com]<https://urldefense.com/v3/__https:/www.fa
 cebook.com/icannatlarge__\;!!PtGJab4!tsy02psFePTWC5SnHRalM4cOl8V8xOcqMZ_Tu
 vLKPIwwhqqZMe6MmmIsOz6IMsUKZtpSqXIymQ$>\n\nTwitter: @ [twitter.com]<https:
 //urldefense.com/v3/__https:/twitter.com/ICANNAtLarge__\;!!PtGJab4!tsy02ps
 FePTWC5SnHRalM4cOl8V8xOcqMZ_TuvLKPIwwhqqZMe6MmmIsOz6IMsUKZto6YWduQw$>ICANN
 AtLarge [twitter.com]<https://urldefense.com/v3/__https:/twitter.com/ICANN
 AtLarge__\;!!PtGJab4!tsy02psFePTWC5SnHRalM4cOl8V8xOcqMZ_TuvLKPIwwhqqZMe6Mm
 mIsOz6IMsUKZto6YWduQw$>\n\n
UID:040000008200E00074C5B7101A82E00800000000215CEE11B368D901000000000000000
 01000000058E9969A1AC49B43866D40B8F3E6533D
SUMMARY;LANGUAGE=en-US:EURALO Members Monthly Teleconference
DTSTART;TZID=(UTC) Coordinated Universal Time:20230425T170000
DTEND;TZID=(UTC) Coordinated Universal Time:20230425T190000
CLASS:PUBLIC
PRIORITY:5
DTSTAMP:20230411T134918Z
TRANSP:OPAQUE
STATUS:CONFIRMED
SEQUENCE:1
LOCATION;LANGUAGE=en-US:17:00 UTC - Adigo: 3535 - Zoom: https://icann.zoom.
 us/j/98332357195?pwd=TzBtejhOZGcrNGxIcHlWS1I4MDJUZz09
X-MICROSOFT-CDO-APPT-SEQUENCE:1
X-MICROSOFT-CDO-OWNERAPPTID:2121543969
X-MICROSOFT-CDO-BUSYSTATUS:TENTATIVE
X-MICROSOFT-CDO-INTENDEDSTATUS:BUSY
X-MICROSOFT-CDO-ALLDAYEVENT:FALSE
X-MICROSOFT-CDO-IMPORTANCE:1
X-MICROSOFT-CDO-INSTTYPE:0
X-MICROSOFT-DONOTFORWARDMEETING:FALSE
X-MICROSOFT-DISALLOW-COUNTER:FALSE
BEGIN:VALARM
DESCRIPTION:REMINDER
TRIGGER;RELATED=START:-PT15M
ACTION:DISPLAY
END:VALARM
X-MICROSOFT-LOCATIONDISPLAYNAME:17:00 UTC - Adigo: 3535 - Zoom: https://ica
 nn.zoom.us/j/98332357195?pwd=TzBtejhOZGcrNGxIcHlWS1I4MDJUZz09
X-MICROSOFT-LOCATIONSOURCE:None
END:VEVENT
END:VCALENDAR
