BEGIN:VCALENDAR
METHOD:REQUEST
PRODID:Microsoft Exchange Server 2010
VERSION:2.0
BEGIN:VTIMEZONE
TZID:(UTC) Coordinated Universal Time
BEGIN:STANDARD
DTSTART:16010101T000000
TZOFFSETFROM:+0000
TZOFFSETTO:+0000
END:STANDARD
BEGIN:DAYLIGHT
DTSTART:16010101T000000
TZOFFSETFROM:+0000
TZOFFSETTO:+0000
END:DAYLIGHT
END:VTIMEZONE
BEGIN:VEVENT
ORGANIZER;CN=ICANN Policy Calendar:MAILTO:PolicyCalendar@icann.org
ATTENDEE;ROLE=REQ-PARTICIPANT;PARTSTAT=NEEDS-ACTION;RSVP=TRUE;CN=Heidi Ullr
 ich:MAILTO:Heidi.Ullrich@icann.org
ATTENDEE;ROLE=REQ-PARTICIPANT;PARTSTAT=NEEDS-ACTION;RSVP=TRUE;CN=Gisella Gr
 uber:MAILTO:Gisella.Gruber@icann.org
ATTENDEE;ROLE=REQ-PARTICIPANT;PARTSTAT=NEEDS-ACTION;RSVP=TRUE;CN=Yesim Sagl
 am:MAILTO:yesim.nazlar@icann.org
ATTENDEE;ROLE=REQ-PARTICIPANT;PARTSTAT=NEEDS-ACTION;RSVP=TRUE;CN=Claudia Ru
 iz:MAILTO:claudia.ruiz@icann.org
ATTENDEE;ROLE=REQ-PARTICIPANT;PARTSTAT=NEEDS-ACTION;RSVP=TRUE;CN=Silvia Viv
 anco:MAILTO:silvia.vivanco@icann.org
ATTENDEE;ROLE=REQ-PARTICIPANT;PARTSTAT=NEEDS-ACTION;RSVP=TRUE;CN=Andrew Che
 n:MAILTO:andrew.chen@icann.org
ATTENDEE;ROLE=REQ-PARTICIPANT;PARTSTAT=NEEDS-ACTION;RSVP=TRUE;CN=Michelle D
 eSmyter:MAILTO:michelle.desmyter@icann.org
ATTENDEE;ROLE=REQ-PARTICIPANT;PARTSTAT=NEEDS-ACTION;RSVP=TRUE;CN=Sabrina Mo
 squera:MAILTO:sabrina.mosquera@icann.org
ATTENDEE;ROLE=REQ-PARTICIPANT;PARTSTAT=NEEDS-ACTION;RSVP=TRUE;CN=Maria Vila
 rdo:MAILTO:maria.vilardo@icann.org
ATTENDEE;ROLE=REQ-PARTICIPANT;PARTSTAT=NEEDS-ACTION;RSVP=TRUE;CN=Chris Mond
 ini:MAILTO:chris.mondini@icann.org
ATTENDEE;ROLE=REQ-PARTICIPANT;PARTSTAT=NEEDS-ACTION;RSVP=TRUE;CN=Adam Peake
 :MAILTO:adam.peake@icann.org
ATTENDEE;ROLE=REQ-PARTICIPANT;PARTSTAT=NEEDS-ACTION;RSVP=TRUE;CN=euro-discu
 ss@atlarge-lists.icann.org:MAILTO:euro-discuss@atlarge-lists.icann.org
ATTENDEE;ROLE=OPT-PARTICIPANT;PARTSTAT=NEEDS-ACTION;RSVP=TRUE;CN=Skok ICANN
 :MAILTO:skok.inteam.icann@gmail.com
ATTENDEE;ROLE=OPT-PARTICIPANT;PARTSTAT=NEEDS-ACTION;RSVP=TRUE;CN=Pou ICANN:
 MAILTO:pou.inteam.icann@gmail.com
ATTENDEE;ROLE=OPT-PARTICIPANT;PARTSTAT=NEEDS-ACTION;RSVP=TRUE;CN=Jacques La
 cava:MAILTO:lacava.inteam.icann@gmail.com
ATTENDEE;ROLE=OPT-PARTICIPANT;PARTSTAT=NEEDS-ACTION;RSVP=TRUE;CN=Dominique 
 Gutierrez:MAILTO:gutierrez.inteam.icann@gmail.com
DESCRIPTION;LANGUAGE=en-US:\nDear All\,\n\n\n\nThe EURALO Members Monthly M
 eeting (MMM2 2024) is scheduled on Tuesday\, 21 May 2024 at 17:30 UTC.\n\n
 \n\nFor other times: https://tinyurl.com/67sw2nx9\n\n\n\nThe draft agenda 
 details: https://community.icann.org/x/C4IEF\n\n\n\nPlease register for th
 e Zoom link: https://icann.zoom.us/meeting/register/tJ0scuGorz4jE9BBuauhGG
 rCTcOfUE4zvnDb PASSWORD: EURAMAY21*\n\n\n\nEnglish\, French\, Spanish and 
 Russian interpretation will be provided.\n\n\nADIGO Conference Bridge:\nEN
 \, ES & FR: 3535\n\n\n\nIf you require a dial-out or need to state an apol
 ogy\, please email At-Large Staff only (don’t reply to all) with your pr
 eferred number.\n\n\n\n\n\nThank you.\n\nKind regards\,\n\n\n\nAt-Large St
 aff\n\nICANN Policy Team in support of the At-Large Community\n\nWebsite: 
 atlarge.icann.org [atlarge.icann.org]<https://urldefense.com/v3/__https:/a
 tlarge.icann.org/__\;!!PtGJab4!_FMj7a2EPuPDkroB-rK14maJu_K60gc2PNnv3Fj8Xoe
 N21t64MmZnYifVKY5LWA-qFvnjB9Kvznf0E5mzRRf_g$>\n\nFacebook: facebook.com/ic
 ann [facebook.com]<https://urldefense.com/v3/__https:/www.facebook.com/ica
 nnatlarge__\;!!PtGJab4!_FMj7a2EPuPDkroB-rK14maJu_K60gc2PNnv3Fj8XoeN21t64Mm
 ZnYifVKY5LWA-qFvnjB9Kvznf0E4tVpOlVg$>atlarge [facebook.com]<https://urldef
 ense.com/v3/__https:/www.facebook.com/icannatlarge__\;!!PtGJab4!_FMj7a2EPu
 PDkroB-rK14maJu_K60gc2PNnv3Fj8XoeN21t64MmZnYifVKY5LWA-qFvnjB9Kvznf0E4tVpOl
 Vg$>\n\nTwitter: @ [twitter.com]<https://urldefense.com/v3/__https:/twitte
 r.com/ICANNAtLarge__\;!!PtGJab4!_FMj7a2EPuPDkroB-rK14maJu_K60gc2PNnv3Fj8Xo
 eN21t64MmZnYifVKY5LWA-qFvnjB9Kvznf0E7Zq3NYPg$>ICANNAtLarge [twitter.com]<h
 ttps://urldefense.com/v3/__https:/twitter.com/ICANNAtLarge__\;!!PtGJab4!_F
 Mj7a2EPuPDkroB-rK14maJu_K60gc2PNnv3Fj8XoeN21t64MmZnYifVKY5LWA-qFvnjB9Kvznf
 0E7Zq3NYPg$>\n\n\n
UID:040000008200E00074C5B7101A82E0080000000048513C83CAA0DA01000000000000000
 010000000EFC4FDCC8FAA80418211FA2F7DEDCF44
SUMMARY;LANGUAGE=en-US:EURALO Members Monthly Call 
DTSTART;TZID=(UTC) Coordinated Universal Time:20240521T173000
DTEND;TZID=(UTC) Coordinated Universal Time:20240521T193000
CLASS:PUBLIC
PRIORITY:5
DTSTAMP:20240516T161440Z
TRANSP:OPAQUE
STATUS:CONFIRMED
SEQUENCE:1
LOCATION;LANGUAGE=en-US:17:30 UTC - Zoom Registration Link: https://icann.z
 oom.us/meeting/register/tJ0scuGorz4jE9BBuauhGGrCTcOfUE4zvnDb
X-MICROSOFT-CDO-APPT-SEQUENCE:1
X-MICROSOFT-CDO-OWNERAPPTID:2122661448
X-MICROSOFT-CDO-BUSYSTATUS:TENTATIVE
X-MICROSOFT-CDO-INTENDEDSTATUS:BUSY
X-MICROSOFT-CDO-ALLDAYEVENT:FALSE
X-MICROSOFT-CDO-IMPORTANCE:1
X-MICROSOFT-CDO-INSTTYPE:0
X-MICROSOFT-DONOTFORWARDMEETING:FALSE
X-MICROSOFT-DISALLOW-COUNTER:FALSE
BEGIN:VALARM
DESCRIPTION:REMINDER
TRIGGER;RELATED=START:-PT15M
ACTION:DISPLAY
END:VALARM
X-MICROSOFT-LOCATIONDISPLAYNAME:17:30 UTC - Zoom Registration Link: https:/
 /icann.zoom.us/meeting/register/tJ0scuGorz4jE9BBuauhGGrCTcOfUE4zvnDb
X-MICROSOFT-LOCATIONSOURCE:None
END:VEVENT
END:VCALENDAR
