BEGIN:VCALENDAR
VERSION:2.0
PRODID:-//Microsoft Corporation//Outlook for Mac MIMEDIR//EN
METHOD:PUBLISH
BEGIN:VTIMEZONE
TZID:Coordinated Universal Time
X-ENTOURAGE-CFTIMEZONE:UTC
X-ENTOURAGE-TZID:93
BEGIN:STANDARD
TZOFFSETFROM:+0000
TZOFFSETTO:+0000
DTSTART:16010101T000000
END:STANDARD
END:VTIMEZONE
BEGIN:VEVENT
UID:A2254751-7006-4F7F-8A84-CCF29EBDE91E
X-ENTOURAGE_UUID:A2254751-7006-4F7F-8A84-CCF29EBDE91E
X-MICROSOFT-EXCHANGE-ID:AAMkADFlMDNlNjQ5LTNjNTUtNDJkMC04ZTI0LWFiMTFkOTgwND
 JhMQBGAAAAAAAdZPIZTDF9SJl4Q9bAl0gQBwAFskP3JLIoSYZSK2rNBQTXAIjV8WqdAACjhqXC
 SbKVRZwH7aZE5XhKAABsCmcBAAA=
X-MICROSOFT-EXCHANGE-CHANGEKEY:DwAAABYAAACjhqXCSbKVRZwH7aZE5XhKAABsDtLG
DTSTAMP:20201210T110133Z
DTSTART;TZID="Coordinated Universal Time":20201214T170000
DTEND;TZID="Coordinated Universal Time":20201214T180000
LAST-MODIFIED:20201210T110133Z
SUMMARY:Finance and Budget Subcommittee (FBSC) Working Group Call 
DESCRIPTION:**If you require a dial-out or need to state an apology\,
  please contact At-Large staff ONLY at staff@atlarge.icann.org with your
  preferred number.**\n\n \n\nDear All\,\n\nFurther to the Doodle poll\,
  the next Finance and Budget Subcommittee (FBSC) Working Group Call is
  scheduled for Monday\, 14 December 2020 at 17:00 UTC. \n\n \n\nFor other
  times:  https://tinyurl.com/yxrq6ou7 \n\n \n\nThe agenda (to be updated)
  and call details can be found at: https://community.icann.org/x/U4UmCQ
  \n\n \n\nADIGO Conference Bridge:\n\nEN: 3535\n\nES: 1738\n\nFR:
  1838\n\n \n\nToll-free access number (US and Canada): 800 550 6865\n\n
  \n\nOther toll free numbers: http://adigo.com/icann/\n\n \n\nZoom Room:
  https://icann.zoom.us/j/98201152829?pwd=cDZOTkJBT1d0VWsybkxrOStGU3JwUT09
   / Meeting ID: 982 0115 2829\n\nPasscode: FBSC-01234\n\n \n\nWiki Space:
  https://community.icann.org/x/n4XT\n\n \n\nIf you require a dial-out
  please contact At-Large staff at: staff@atlarge.icann.org\n\n \n\nThank
  you.\n\nKind Regards\,\n\n \n\nAt-Large Staff\n\nICANN Policy Staff in
  support of the At-Large Community\n\nWebsite:
  atlarge.icann.org\n\nFacebook: facebook.com/icannatlarge\n\nTwitter:
  @ICANNAtLarge\n\n\n
LOCATION:17:00 UTC - ADIGO EN:3535 ES:1738 FR:1838 -
  https://icann.zoom.us/j/98201152829?pwd=cDZOTkJBT1d0VWsybkxrOStGU3JwUT09
   
ORGANIZER:MAILTO:PolicyCalendar@icann.org
SEQUENCE:0
ATTENDEE;ROLE=REQ-PARTICIPANT;RSVP=FALSE;CN="Heidi
  Ullrich";PARTSTAT=NEEDS-ACTION:MAILTO:Heidi.Ullrich@icann.org
ATTENDEE;ROLE=REQ-PARTICIPANT;RSVP=FALSE;CN="Silvia
  Vivanco";PARTSTAT=NEEDS-ACTION:MAILTO:silvia.vivanco@icann.org
ATTENDEE;ROLE=REQ-PARTICIPANT;RSVP=FALSE;CN="Gisella
  Gruber";PARTSTAT=NEEDS-ACTION:MAILTO:Gisella.Gruber@icann.org
ATTENDEE;ROLE=REQ-PARTICIPANT;RSVP=FALSE;CN="Evin
  Erdogdu";PARTSTAT=NEEDS-ACTION:MAILTO:evin.erdogdu@icann.org
ATTENDEE;ROLE=REQ-PARTICIPANT;RSVP=FALSE;CN="Claudia
  Ruiz";PARTSTAT=NEEDS-ACTION:MAILTO:claudia.ruiz@icann.org
ATTENDEE;ROLE=REQ-PARTICIPANT;RSVP=FALSE;CN="Michelle
  DeSmyter";PARTSTAT=NEEDS-ACTION:MAILTO:michelle.desmyter@icann.org
ATTENDEE;ROLE=REQ-PARTICIPANT;RSVP=FALSE;CN="Alperen
  Eken";PARTSTAT=NEEDS-ACTION:MAILTO:alperen.eken@icann.org
ATTENDEE;ROLE=REQ-PARTICIPANT;RSVP=FALSE;CN="Yesim
  Nazlar";PARTSTAT=ACCEPTED:MAILTO:yesim.nazlar@icann.org
ATTENDEE;ROLE=REQ-PARTICIPANT;RSVP=FALSE;CN="Sabrina
  Mosquera";PARTSTAT=NEEDS-ACTION:MAILTO:sabrina.mosquera@icann.org
ATTENDEE;ROLE=REQ-PARTICIPANT;RSVP=FALSE;CN="Maria
  Vilardo";PARTSTAT=NEEDS-ACTION:MAILTO:maria.vilardo@icann.org
ATTENDEE;ROLE=REQ-PARTICIPANT;RSVP=FALSE;CN="TEL
  ES-Teleconf-Interpretation";PARTSTAT=NEEDS-ACTION:MAILTO:ES-Teleconf-Inte
 rpretation@icann.org
ATTENDEE;ROLE=REQ-PARTICIPANT;RSVP=FALSE;CN="TEL
  FR-Teleconf-Interpretation";PARTSTAT=NEEDS-ACTION:MAILTO:FR-Teleconf-Inte
 rpretation@icann.org
ATTENDEE;ROLE=REQ-PARTICIPANT;RSVP=FALSE;CN=finance-sc@atlarge-lists.icann
 .org;PARTSTAT=NEEDS-ACTION:MAILTO:finance-sc@atlarge-lists.icann.org
ATTENDEE;ROLE=REQ-PARTICIPANT;RSVP=FALSE;CN="Nadira
  Alaraj";PARTSTAT=NEEDS-ACTION:MAILTO:nadira.araj@gmail.com
ATTENDEE;ROLE=REQ-PARTICIPANT;RSVP=FALSE;CN="Matthias M.
  Hudobnik";PARTSTAT=NEEDS-ACTION:MAILTO:matthias@hudobnik.at
ATTENDEE;ROLE=REQ-PARTICIPANT;RSVP=FALSE;CN="Lilian Ivette De
  Luque";PARTSTAT=NEEDS-ACTION:MAILTO:lilidebru@hotmail.com
ATTENDEE;ROLE=REQ-PARTICIPANT;RSVP=FALSE;CN="Shani
  Quidwai";PARTSTAT=NEEDS-ACTION:MAILTO:shani.quidwai@icann.org
ATTENDEE;ROLE=REQ-PARTICIPANT;RSVP=FALSE;CN="Ankur
  Chugh";PARTSTAT=NEEDS-ACTION:MAILTO:ankur.chugh@icann.org
ATTENDEE;ROLE=REQ-PARTICIPANT;RSVP=FALSE;CN="Kirsten
  Wattson";PARTSTAT=NEEDS-ACTION:MAILTO:kirsten.wattson@icann.org
X-MICROSOFT-CDO-BUSYSTATUS:BUSY
X-MICROSOFT-CDO-ALLDAYEVENT:FALSE
X-MICROSOFT-DISALLOW-COUNTER:FALSE
X-MICROSOFT-DONOTFORWARDMEETING:FALSE
X-MICROSOFT-CDO-INSTTYPE:0
BEGIN:VALARM
ACTION:DISPLAY
DESCRIPTION:REMINDER
TRIGGER;RELATED=START:-PT00H15M00S
END:VALARM
END:VEVENT
END:VCALENDAR
