BEGIN:VCALENDAR
VERSION:2.0
PRODID:-//Microsoft Corporation//Outlook for Mac MIMEDIR//EN
METHOD:PUBLISH
BEGIN:VTIMEZONE
TZID:Coordinated Universal Time
X-ENTOURAGE-CFTIMEZONE:UTC
X-ENTOURAGE-TZID:93
BEGIN:STANDARD
TZOFFSETFROM:+0000
TZOFFSETTO:+0000
DTSTART:16010101T000000
END:STANDARD
END:VTIMEZONE
BEGIN:VEVENT
UID:52B6746E-86C4-4CBB-94F5-DA328F16B262
X-ENTOURAGE_UUID:7C275D96-F39C-4BBD-A06E-A1121D008BFE
X-MICROSOFT-EXCHANGE-ID:AAMkADFlMDNlNjQ5LTNjNTUtNDJkMC04ZTI0LWFiMTFkOTgwND
 JhMQBGAAAAAAAdZPIZTDF9SJl4Q9bAl0gQBwAFskP3JLIoSYZSK2rNBQTXAIjV8WqdAACjhqXC
 SbKVRZwH7aZE5XhKAANdlYRpAAA=
X-MICROSOFT-EXCHANGE-CHANGEKEY:DwAAABYAAACjhqXCSbKVRZwH7aZE5XhKAANdudBh
DTSTAMP:20240206T134458Z
DTSTART;TZID="Coordinated Universal Time":20240208T120000
DTEND;TZID="Coordinated Universal Time":20240208T140000
LAST-MODIFIED:20240206T134458Z
SUMMARY:IDNs EPDP Team
DESCRIPTION:Meeting: IDNs EPDP Team \n\nDate/Time: Thursday\, 08 February
  2024 at 12:00 UTC for 2 hours.\n\n \n\nPlease click link to join the
  webinar:
  https://icann.zoom.us/j/94276275950?pwd=dG5hanFzMlpsYmh0NnFjTEQwOUV1dz09
    \n\nPasscode: !!0tV0Wh&K\n\n \n\nFor Audio only:\n\nOne tap mobile
  :\n\nUS: +13017158592\,\,94276275950#\,\,\,\,*5259149775#  or
  +13126266799\,\,94276275950#\,\,\,\,*5259149775#\n\n \n\nWebinar ID: 942
  7627 5950\n\nPasscode: 5259149775\n\nInternational numbers available:
  https://icann.zoom.us/u/adP1jJ0gRH \n\n \n\nIf this is your first time
  with Zoom\, please take a look here: Welcome to Zoom \n\n \n\n
                     Members\, participants\, and observers all have
  different access and participation directions\, please read below!\n\n
  \n\nALL: Before joining the call \nPlease send dial out requests to
  gnso-secs@icann.org only\nPlease be sure you have read the ICANN
  Expected Standards of Behavior \nVisit the Wiki page:
  https://community.icann.org/x/d4D6EQ \nCheck your time zone:
  http://tinyurl.com/2p4aj3zp \nONLY for Members and Participants \nPlease
  join via the above Main Zoom Webinar link and staff will promote you to
  panelist. \nPlease select Everyone\, when posting to the chat in order
  for everyone to see and to be captured afterwards.\nOnly for Observers:
  \nObservers will have ability to view member chat and information shared
  in the zoom webinar room. \nObservers will not be able to use chat or
  raise hands.  \n \n\n \n
LOCATION:12:00 UTC |
  https://icann.zoom.us/j/94276275950?pwd=dG5hanFzMlpsYmh0NnFjTEQwOUV1dz09
    
ORGANIZER:MAILTO:PolicyCalendar@icann.org
SEQUENCE:0
ATTENDEE;ROLE=REQ-PARTICIPANT;RSVP=FALSE;CN=gnso-epdp-idn-team@icann.org;P
 ARTSTAT=NEEDS-ACTION:MAILTO:gnso-epdp-idn-team@icann.org
ATTENDEE;ROLE=REQ-PARTICIPANT;RSVP=FALSE;CN="Board
  Calendaring";PARTSTAT=NEEDS-ACTION:MAILTO:Board-Calendaring@icann.org
ATTENDEE;ROLE=REQ-PARTICIPANT;RSVP=FALSE;CN=alan.barrett@board.icann.org;P
 ARTSTAT=NEEDS-ACTION:MAILTO:alan.barrett@board.icann.org
ATTENDEE;ROLE=REQ-PARTICIPANT;RSVP=FALSE;CN=edmon.chung@board.icann.org;PA
 RTSTAT=NEEDS-ACTION:MAILTO:edmon.chung@board.icann.org
ATTENDEE;ROLE=REQ-PARTICIPANT;RSVP=FALSE;CN="Steve
  Chan";PARTSTAT=NEEDS-ACTION:MAILTO:steve.chan@icann.org
ATTENDEE;ROLE=REQ-PARTICIPANT;RSVP=FALSE;CN="Ariel
  Liang";PARTSTAT=NEEDS-ACTION:MAILTO:ariel.liang@icann.org
ATTENDEE;ROLE=REQ-PARTICIPANT;RSVP=FALSE;CN="Terri
  Agnew";PARTSTAT=NEEDS-ACTION:MAILTO:terri.agnew@icann.org
ATTENDEE;ROLE=REQ-PARTICIPANT;RSVP=FALSE;CN="Michelle
  DeSmyter";PARTSTAT=NEEDS-ACTION:MAILTO:michelle.desmyter@icann.org
ATTENDEE;ROLE=REQ-PARTICIPANT;RSVP=FALSE;CN="Daniel
  Gluck";PARTSTAT=NEEDS-ACTION:MAILTO:daniel.gluck@icann.org
ATTENDEE;ROLE=REQ-PARTICIPANT;RSVP=FALSE;CN="Devan
  Reed";PARTSTAT=NEEDS-ACTION:MAILTO:devan.reed@icann.org
ATTENDEE;ROLE=REQ-PARTICIPANT;RSVP=FALSE;CN="Julie
  Bisland";PARTSTAT=NEEDS-ACTION:MAILTO:julie.bisland@icann.org
X-MICROSOFT-CDO-BUSYSTATUS:BUSY
X-MICROSOFT-CDO-ALLDAYEVENT:FALSE
X-MICROSOFT-DISALLOW-COUNTER:TRUE
X-MICROSOFT-DONOTFORWARDMEETING:FALSE
X-MICROSOFT-CDO-INSTTYPE:0
BEGIN:VALARM
ACTION:DISPLAY
DESCRIPTION:REMINDER
TRIGGER;RELATED=START:-PT00H15M00S
END:VALARM
END:VEVENT
END:VCALENDAR
