BEGIN:VCALENDAR
METHOD:REQUEST
PRODID:Microsoft Exchange Server 2010
VERSION:2.0
BEGIN:VTIMEZONE
TZID:UTC
BEGIN:STANDARD
DTSTART:16010101T000000
TZOFFSETFROM:+0000
TZOFFSETTO:+0000
END:STANDARD
BEGIN:DAYLIGHT
DTSTART:16010101T000000
TZOFFSETFROM:+0000
TZOFFSETTO:+0000
END:DAYLIGHT
END:VTIMEZONE
BEGIN:VEVENT
ORGANIZER;CN=ICANN Policy Calendar:MAILTO:PolicyCalendar@icann.org
ATTENDEE;ROLE=REQ-PARTICIPANT;PARTSTAT=NEEDS-ACTION;RSVP=FALSE;CN=gnso-epdp
 -idn-team@icann.org:MAILTO:gnso-epdp-idn-team@icann.org
ATTENDEE;ROLE=REQ-PARTICIPANT;PARTSTAT=NEEDS-ACTION;RSVP=FALSE;CN=Board Cal
 endaring:MAILTO:Board-Calendaring@icann.org
ATTENDEE;ROLE=REQ-PARTICIPANT;PARTSTAT=NEEDS-ACTION;RSVP=FALSE;CN=Alan Barr
 ett:MAILTO:alan.barrett@board.icann.org
ATTENDEE;ROLE=REQ-PARTICIPANT;PARTSTAT=NEEDS-ACTION;RSVP=FALSE;CN=edmon.chu
 ng@board.icann.org:MAILTO:edmon.chung@board.icann.org
ATTENDEE;ROLE=REQ-PARTICIPANT;PARTSTAT=NEEDS-ACTION;RSVP=FALSE;CN=Marika Ko
 nings:MAILTO:marika.konings@icann.org
ATTENDEE;ROLE=REQ-PARTICIPANT;PARTSTAT=NEEDS-ACTION;RSVP=FALSE;CN=Steve Cha
 n:MAILTO:steve.chan@icann.org
ATTENDEE;ROLE=REQ-PARTICIPANT;PARTSTAT=NEEDS-ACTION;RSVP=FALSE;CN=Ariel Lia
 ng:MAILTO:ariel.liang@icann.org
ATTENDEE;ROLE=REQ-PARTICIPANT;PARTSTAT=NEEDS-ACTION;RSVP=FALSE;CN=Terri Agn
 ew:MAILTO:terri.agnew@icann.org
ATTENDEE;ROLE=REQ-PARTICIPANT;PARTSTAT=NEEDS-ACTION;RSVP=FALSE;CN=Michelle 
 DeSmyter:MAILTO:michelle.desmyter@icann.org
ATTENDEE;ROLE=REQ-PARTICIPANT;PARTSTAT=NEEDS-ACTION;RSVP=FALSE;CN=Julie Bis
 land:MAILTO:julie.bisland@icann.org
ATTENDEE;ROLE=REQ-PARTICIPANT;PARTSTAT=NEEDS-ACTION;RSVP=FALSE;CN=Daniel Gl
 uck:MAILTO:daniel.gluck@icann.org
ATTENDEE;ROLE=REQ-PARTICIPANT;PARTSTAT=NEEDS-ACTION;RSVP=FALSE;CN=Devan Ree
 d:MAILTO:devan.reed@icann.org
DESCRIPTION;LANGUAGE=en-US:Meeting: IDNs EPDP Team\nDate/time: Thursday\, 1
 6 November 2023 at 12:00 UTC for 2 hours\n\nPlease click link to join the 
 webinar: https://icann.zoom.us/j/94276275950?pwd=dG5hanFzMlpsYmh0NnFjTEQwO
 UV1dz09 <https://urldefense.com/v3/__https:/icann.zoom.us/j/94276275950?pw
 d=dG5hanFzMlpsYmh0NnFjTEQwOUV1dz09__\;!!PtGJab4!vhdeRRwE98BlkOd2PUPsFRTYJK
 aFKeyQpBgGXP-i_wtca2IEoW8Q1QEmNd_NZqgl_cfuT6Y$>\nPasscode: !!0tV0Wh&amp\;K
 \n\nFor Audio only:\nOne tap mobile :\nUS: &#43\;13017158592\,\,9427627595
 0#\,\,\,\,*5259149775#  or &#43\;13126266799\,\,94276275950#\,\,\,\,*52591
 49775#\n\nWebinar ID: 942 7627 5950\nPasscode: 5259149775\nInternational n
 umbers available: https://icann.zoom.us/u/adP1jJ0gRH <https://urldefense.c
 om/v3/__https:/icann.zoom.us/u/adP1jJ0gRH__\;!!PtGJab4!vanPD1fIfUET-x0XQvl
 g6JcetmJBlVYK3RYkK6talajROC0sPlwOCjlpxBDsXNJK4gB0qhKg-g$>\n\nIf this is yo
 ur first time with Zoom\, please take a look here: Welcome to Zoom <https:
 //urldefense.com/v3/__https:/gnso.icann.org/sites/default/files/policy/202
 0/presentation/welcometozoom-gnso-27apr20-en.pdf__\;!!PtGJab4!tsJj5IoP00gC
 Z3NQG24dUo3ickZCBj1_3KrYNlJrupEm0oreD2gEkgjcXukr6-lmrALx_wlyMQ$>\n\n      
               Members\, participants\, and observers all have different ac
 cess and participation directions\, please read below!\n\nALL: Before join
 ing the call\n   *   Please send dial out requests to gnso-secs@icann.org<
 mailto:gnso-secs@icann.org> only\n   *   Please be sure you have read the 
 ICANN Expected Standards of Behavior <https://urldefense.com/v3/__https:/w
 ww.icann.org/resources/pages/expected-standards-2016-06-28-en__\;!!PtGJab4
 !qTujILFv0Cs7zDTfO6l6F4sGBGn-ps__98Xyocm3IfF4Hkbm7fE5RbGBuHjy-SveLvg7QDTTX
 g$>\n   *   Visit the Wiki page: https://community.icann.org/x/FQGfE\n   *
    Check your time zone: https://tinyurl.com/mupkv6xb\n\n\nONLY for Member
 s and Participants\n   *   Please join via the above Main Zoom Webinar lin
 k and staff will promote you to panelist.\n   *   Please select Everyone\,
  when posting to the chat in order for everyone to see and to be captured 
 afterwards.\nOnly for Observers:\n   *   Observers will have ability to vi
 ew member chat and information shared in the zoom webinar room.\n   *   Ob
 servers will not be able to use chat or raise hands.\n\n\n\n\n
UID:CB978BB8-BEEE-4853-88C5-774FCCF3AB24
SUMMARY;LANGUAGE=en-US:IDNs EPDP Team meeting 
DTSTART;TZID=UTC:20231116T120000
DTEND;TZID=UTC:20231116T140000
CLASS:PUBLIC
PRIORITY:5
DTSTAMP:20231107T135325Z
TRANSP:OPAQUE
STATUS:CONFIRMED
SEQUENCE:0
LOCATION;LANGUAGE=en-US:12:00 UTC | https://icann.zoom.us/j/94276275950?pwd
 =dG5hanFzMlpsYmh0NnFjTEQwOUV1dz09
X-MICROSOFT-CDO-APPT-SEQUENCE:0
X-MICROSOFT-CDO-OWNERAPPTID:2122006384
X-MICROSOFT-CDO-BUSYSTATUS:TENTATIVE
X-MICROSOFT-CDO-INTENDEDSTATUS:BUSY
X-MICROSOFT-CDO-ALLDAYEVENT:FALSE
X-MICROSOFT-CDO-IMPORTANCE:1
X-MICROSOFT-CDO-INSTTYPE:0
X-MICROSOFT-DONOTFORWARDMEETING:FALSE
X-MICROSOFT-DISALLOW-COUNTER:TRUE
BEGIN:VALARM
DESCRIPTION:REMINDER
TRIGGER;RELATED=START:-PT15M
ACTION:DISPLAY
END:VALARM
END:VEVENT
END:VCALENDAR
