BEGIN:VCALENDAR
VERSION:2.0
PRODID:-//Microsoft Corporation//Outlook for Mac MIMEDIR//EN
METHOD:PUBLISH
BEGIN:VTIMEZONE
TZID:Coordinated Universal Time
X-ENTOURAGE-CFTIMEZONE:UTC
X-ENTOURAGE-TZID:93
BEGIN:STANDARD
TZOFFSETFROM:+0000
TZOFFSETTO:+0000
DTSTART:16010101T000000
END:STANDARD
END:VTIMEZONE
BEGIN:VEVENT
UID:81253CAF-A983-4FB8-A71A-FF26F8967EE1
X-ENTOURAGE_UUID:81253CAF-A983-4FB8-A71A-FF26F8967EE1
X-MICROSOFT-EXCHANGE-ID:AAMkADFlMDNlNjQ5LTNjNTUtNDJkMC04ZTI0LWFiMTFkOTgwND
 JhMQBGAAAAAAAdZPIZTDF9SJl4Q9bAl0gQBwAFskP3JLIoSYZSK2rNBQTXAIjV8WqdAACjhqXC
 SbKVRZwH7aZE5XhKAAIEJihbAAA=
X-MICROSOFT-EXCHANGE-CHANGEKEY:DwAAABYAAACjhqXCSbKVRZwH7aZE5XhKAAIfQ8B4
DTSTAMP:20221020T143728Z
DTSTART;TZID="Coordinated Universal Time":20221006T133000
DTEND;TZID="Coordinated Universal Time":20221006T150000
LAST-MODIFIED:20221020T143728Z
SUMMARY:IDNs EPDP Team meeting 
DESCRIPTION:Meeting:  IDNs EPDP Team meeting \n\nPattern: Weekly on
  Thursday���s 06 October ��� 27 October 2022 at 13:30 UTC for 90
  minutes\n\n \n\nPlease click the link to join the webinar:
  https://icann.zoom.us/j/94276275950?pwd=dG5hanFzMlpsYmh0NnFjTEQwOUV1dz09\
 n\nPasscode: !!0tV0Wh&K \n\n \n\nFor Audio only:\n\nOne tap mobile :
  \n\nUS: +13017158592\,\,94276275950#\,\,\,\,*5259149775# or
  +13126266799\,\,94276275950#\,\,\,\,*5259149775#\n\n \n\nWebinar ID: 942
  7627 5950\n\nPasscode: 5259149775\n\nInternational numbers available:
  https://icann.zoom.us/u/adP1jJ0gRH \n\n \n\nIf this is your first time
  with Zoom\, please take a look here: Welcome to Zoom \n\n \n\nMembers\,
  participants\, and observers all have different access and participation
  directions\, please read below!\n\n \n\nALL: Before joining the call
  \nPlease send dial out requests to gnso-secs@icann.org only\nPlease be
  sure you have read the ICANN Expected Standards of Behavior \nVisit the
  agenda wiki page (06 October): https://community.icann.org/x/PIKkD \nFor
  other places see (06 October): https://tinyurl.com/32wmcuvz\n \n\nONLY
  for Members and Participants \nPlease join via the above Main Zoom
  Webinar link and staff will promote you to panelist. \nPlease select
  Everyone\, when posting to the chat in order for everyone to see and to
  be captured afterwards.\n Only for Observers: \nObservers will have
  ability to view member chat and information shared in the zoom webinar
  room.\nObservers will not be able to use chat or raise hands. \n \n\n
  \n\n \n
LOCATION:13:30 UTC |
  https://icann.zoom.us/j/94276275950?pwd=dG5hanFzMlpsYmh0NnFjTEQwOUV1dz09
ORGANIZER:MAILTO:PolicyCalendar@icann.org
SEQUENCE:1
RRULE:FREQ=WEEKLY;UNTIL=20221027T235959;INTERVAL=1;BYDAY=TH;WKST=SU
ATTENDEE;ROLE=REQ-PARTICIPANT;RSVP=FALSE;CN=gnso-epdp-idn-team@icann.org;P
 ARTSTAT=NEEDS-ACTION:MAILTO:gnso-epdp-idn-team@icann.org
ATTENDEE;ROLE=REQ-PARTICIPANT;RSVP=FALSE;CN="Steve
  Chan";PARTSTAT=NEEDS-ACTION:MAILTO:steve.chan@icann.org
ATTENDEE;ROLE=REQ-PARTICIPANT;RSVP=FALSE;CN="Emily
  Barabas";PARTSTAT=NEEDS-ACTION:MAILTO:emily.barabas@icann.org
ATTENDEE;ROLE=REQ-PARTICIPANT;RSVP=FALSE;CN="Ariel
  Liang";PARTSTAT=NEEDS-ACTION:MAILTO:ariel.liang@icann.org
ATTENDEE;ROLE=REQ-PARTICIPANT;RSVP=FALSE;CN="Nathalie
  Peregrine";PARTSTAT=NEEDS-ACTION:MAILTO:nathalie.peregrine@icann.org
ATTENDEE;ROLE=REQ-PARTICIPANT;RSVP=FALSE;CN="Terri
  Agnew";PARTSTAT=NEEDS-ACTION:MAILTO:terri.agnew@icann.org
ATTENDEE;ROLE=REQ-PARTICIPANT;RSVP=FALSE;CN="Michelle
  DeSmyter";PARTSTAT=NEEDS-ACTION:MAILTO:michelle.desmyter@icann.org
ATTENDEE;ROLE=REQ-PARTICIPANT;RSVP=FALSE;CN="Board
  Calendaring";PARTSTAT=NEEDS-ACTION:MAILTO:Board-Calendaring@icann.org
ATTENDEE;ROLE=REQ-PARTICIPANT;RSVP=FALSE;CN="Julie
  Bisland";PARTSTAT=NEEDS-ACTION:MAILTO:julie.bisland@icann.org
ATTENDEE;ROLE=REQ-PARTICIPANT;RSVP=FALSE;CN="Devan
  Reed";PARTSTAT=NEEDS-ACTION:MAILTO:devan.reed@icann.org
X-MICROSOFT-CDO-BUSYSTATUS:BUSY
X-MICROSOFT-CDO-ALLDAYEVENT:FALSE
X-MICROSOFT-DISALLOW-COUNTER:TRUE
X-MICROSOFT-DONOTFORWARDMEETING:FALSE
X-MICROSOFT-CDO-INSTTYPE:1
BEGIN:VALARM
ACTION:DISPLAY
DESCRIPTION:REMINDER
TRIGGER;RELATED=START:-PT00H15M00S
END:VALARM
END:VEVENT
END:VCALENDAR
