BEGIN:VCALENDAR
VERSION:2.0
PRODID:-//Microsoft Corporation//Outlook for Mac MIMEDIR//EN
METHOD:PUBLISH
BEGIN:VTIMEZONE
TZID:Coordinated Universal Time
X-ENTOURAGE-CFTIMEZONE:UTC
X-ENTOURAGE-TZID:93
BEGIN:STANDARD
TZOFFSETFROM:+0000
TZOFFSETTO:+0000
DTSTART:16010101T000000
END:STANDARD
END:VTIMEZONE
BEGIN:VEVENT
UID:2E6FC6AD-EC93-4897-987A-0F0FDAA7C1D1
X-ENTOURAGE_UUID:2E6FC6AD-EC93-4897-987A-0F0FDAA7C1D1
X-MICROSOFT-EXCHANGE-ID:AAMkADFlMDNlNjQ5LTNjNTUtNDJkMC04ZTI0LWFiMTFkOTgwND
 JhMQBGAAAAAAAdZPIZTDF9SJl4Q9bAl0gQBwAFskP3JLIoSYZSK2rNBQTXAIjV8WqdAACjhqXC
 SbKVRZwH7aZE5XhKAAFYt1QTAAA=
X-MICROSOFT-EXCHANGE-CHANGEKEY:DwAAABYAAACjhqXCSbKVRZwH7aZE5XhKAAFzGtqO
DTSTAMP:20220120T163059Z
DTSTART;TZID="Coordinated Universal Time":20220106T133000
DTEND;TZID="Coordinated Universal Time":20220106T150000
LAST-MODIFIED:20220126T175532Z
SUMMARY:IDNs EPDP Team meeting 
DESCRIPTION:Meeting: IDNs EPDP Team meeting \n\nDate/time: Every Thursday
  at 13:30 UTC for 90 minutes\, beginning 06 January 2021 through 03 March
  2021\n\nPlease click the link to join the webinar:
  https://icann.zoom.us/j/94276275950?pwd=dG5hanFzMlpsYmh0NnFjTEQwOUV1dz09\
 n\nPasscode: !!0tV0Wh&K \n\nFor Audio only:\n\nOne tap mobile : \n\nUS:
  +13017158592\,\,94276275950#\,\,\,\,*5259149775# or
  +13126266799\,\,94276275950#\,\,\,\,*5259149775#\n\nWebinar ID: 942 7627
  5950\n\nPasscode: 5259149775\n\nInternational numbers available:
  https://icann.zoom.us/u/adP1jJ0gRH \n\nIf this is your first time with
  Zoom\, please take a look here: Welcome to Zoom \n\nMembers\,
  participants\, and observers all have different access and participation
  directions\, please read below!\n\nALL: Before joining the call \nPlease
  send dial out requests to gnso-secs@icann.org only\nPlease be sure you
  have read the ICANN Expected Standards of Behavior \nVisit the agenda
  wiki page: https://community.icann.org/x/h4H3Cg (06 January\, see future
  dates on the left side)\nFor other places see:
  https://tinyurl.com/2p88cjd8 \nONLY for Members and Participants
  \nPlease join via the above Main Zoom Webinar link and staff will
  promote you to panelist. \nPlease select Everyone\, when posting to the
  chat in order for everyone to see and to be captured afterwards.\nOnly
  for Observers: \nObservers will have ability to view member chat and
  information shared in the zoom webinar room.\nObservers will not be able
  to use chat or raise hands. \n
LOCATION:13:30 UTC |
  https://icann.zoom.us/j/94276275950?pwd=dG5hanFzMlpsYmh0NnFjTEQwOUV1dz09
ORGANIZER:MAILTO:PolicyCalendar@icann.org
SEQUENCE:0
RRULE:FREQ=WEEKLY;UNTIL=20220303T235959;INTERVAL=1;BYDAY=TH;WKST=SU
ATTENDEE;ROLE=REQ-PARTICIPANT;RSVP=FALSE;CN=gnso-epdp-idn-team@icann.org;P
 ARTSTAT=NEEDS-ACTION:MAILTO:gnso-epdp-idn-team@icann.org
ATTENDEE;ROLE=REQ-PARTICIPANT;RSVP=FALSE;CN="Steve
  Chan";PARTSTAT=NEEDS-ACTION:MAILTO:steve.chan@icann.org
ATTENDEE;ROLE=REQ-PARTICIPANT;RSVP=FALSE;CN="Emily
  Barabas";PARTSTAT=NEEDS-ACTION:MAILTO:emily.barabas@icann.org
ATTENDEE;ROLE=REQ-PARTICIPANT;RSVP=FALSE;CN="Ariel
  Liang";PARTSTAT=NEEDS-ACTION:MAILTO:ariel.liang@icann.org
ATTENDEE;ROLE=REQ-PARTICIPANT;RSVP=FALSE;CN="Nathalie
  Peregrine";PARTSTAT=NEEDS-ACTION:MAILTO:nathalie.peregrine@icann.org
ATTENDEE;ROLE=REQ-PARTICIPANT;RSVP=FALSE;CN="Michelle
  DeSmyter";PARTSTAT=NEEDS-ACTION:MAILTO:michelle.desmyter@icann.org
ATTENDEE;ROLE=REQ-PARTICIPANT;RSVP=FALSE;CN="Terri
  Agnew";PARTSTAT=NEEDS-ACTION:MAILTO:terri.agnew@icann.org
ATTENDEE;ROLE=REQ-PARTICIPANT;RSVP=FALSE;CN="Julie
  Bisland";PARTSTAT=NEEDS-ACTION:MAILTO:julie.bisland@icann.org
ATTENDEE;ROLE=REQ-PARTICIPANT;RSVP=FALSE;CN="Devan
  Reed";PARTSTAT=NEEDS-ACTION:MAILTO:devan.reed@icann.org
ATTENDEE;ROLE=REQ-PARTICIPANT;RSVP=FALSE;CN="Board
  Calendaring";PARTSTAT=NEEDS-ACTION:MAILTO:Board-Calendaring@icann.org
ATTENDEE;ROLE=OPT-PARTICIPANT;RSVP=FALSE;CN="Joseph
  Yee";PARTSTAT=NEEDS-ACTION:MAILTO:jyee@donuts.email
ATTENDEE;ROLE=OPT-PARTICIPANT;RSVP=FALSE;CN=gnso-secs@icann.org;PARTSTAT=N
 EEDS-ACTION:MAILTO:gnso-secs@icann.org
X-MICROSOFT-CDO-BUSYSTATUS:BUSY
X-MICROSOFT-CDO-ALLDAYEVENT:FALSE
X-MICROSOFT-DISALLOW-COUNTER:TRUE
X-MICROSOFT-DONOTFORWARDMEETING:FALSE
X-MICROSOFT-CDO-INSTTYPE:1
BEGIN:VALARM
ACTION:DISPLAY
DESCRIPTION:REMINDER
TRIGGER;RELATED=START:-PT00H15M00S
END:VALARM
END:VEVENT
BEGIN:VEVENT
UID:2E6FC6AD-EC93-4897-987A-0F0FDAA7C1D1
X-ENTOURAGE_UUID:B256DE4A-F083-4778-9FE2-22C177510EA5
X-MICROSOFT-EXCHANGE-ID:AAMkADFlMDNlNjQ5LTNjNTUtNDJkMC04ZTI0LWFiMTFkOTgwND
 JhMQFRAAgI2dCne4QAAEYAAAAAHWTyGUwxfUiZeEPWwJdIEAcABbJD9ySyKEmGUitqzQUE1wCI
 1fFqnQAAo4alwkmylUWcB+2mROV4SgABWLdUEwAAEA==
X-MICROSOFT-EXCHANGE-CHANGEKEY:DwAAABYAAACjhqXCSbKVRZwH7aZE5XhKAAFzGtqO
RECURRENCE-ID;TZID="Coordinated Universal Time":20220106T133000
DTSTAMP:20220120T163059Z
DTSTART;TZID="Coordinated Universal Time":20220106T133000
DTEND;TZID="Coordinated Universal Time":20220106T150000
LAST-MODIFIED:20220120T163059Z
SUMMARY:IDNs EPDP Team meeting 
DESCRIPTION:Meeting: IDNs EPDP Team meeting \n\nDate/time: Every Thursday
  at 13:30 UTC for 90 minutes\, beginning 06 January 2022 through 03 March
  2022\n\nPlease click the link to join the webinar:
  https://icann.zoom.us/j/94276275950?pwd=dG5hanFzMlpsYmh0NnFjTEQwOUV1dz09\
 n\nPasscode: !!0tV0Wh&K \n\nFor Audio only:\n\nOne tap mobile : \n\nUS:
  +13017158592\,\,94276275950#\,\,\,\,*5259149775# or
  +13126266799\,\,94276275950#\,\,\,\,*5259149775#\n\nWebinar ID: 942 7627
  5950\n\nPasscode: 5259149775\n\nInternational numbers available:
  https://icann.zoom.us/u/adP1jJ0gRH \n\nIf this is your first time with
  Zoom\, please take a look here: Welcome to Zoom \n\nMembers\,
  participants\, and observers all have different access and participation
  directions\, please read below!\n\nALL: Before joining the call \nPlease
  send dial out requests to gnso-secs@icann.org only\nPlease be sure you
  have read the ICANN Expected Standards of Behavior \nVisit the agenda
  wiki page: https://community.icann.org/x/h4H3Cg (06 January\, see future
  dates on the left side)\nFor other places see:
  https://tinyurl.com/2p88cjd8 \nONLY for Members and Participants
  \nPlease join via the above Main Zoom Webinar link and staff will
  promote you to panelist. \nPlease select Everyone\, when posting to the
  chat in order for everyone to see and to be captured afterwards.\nOnly
  for Observers: \nObservers will have ability to view member chat and
  information shared in the zoom webinar room.\nObservers will not be able
  to use chat or raise hands. \n
LOCATION:13:30 UTC |
  https://icann.zoom.us/j/94276275950?pwd=dG5hanFzMlpsYmh0NnFjTEQwOUV1dz09
ORGANIZER:MAILTO:PolicyCalendar@icann.org
SEQUENCE:1
ATTENDEE;ROLE=REQ-PARTICIPANT;RSVP=FALSE;CN=gnso-epdp-idn-team@icann.org;P
 ARTSTAT=NEEDS-ACTION:MAILTO:gnso-epdp-idn-team@icann.org
ATTENDEE;ROLE=REQ-PARTICIPANT;RSVP=FALSE;CN="Steve
  Chan";PARTSTAT=NEEDS-ACTION:MAILTO:steve.chan@icann.org
ATTENDEE;ROLE=REQ-PARTICIPANT;RSVP=FALSE;CN="Emily
  Barabas";PARTSTAT=NEEDS-ACTION:MAILTO:emily.barabas@icann.org
ATTENDEE;ROLE=REQ-PARTICIPANT;RSVP=FALSE;CN="Ariel
  Liang";PARTSTAT=NEEDS-ACTION:MAILTO:ariel.liang@icann.org
ATTENDEE;ROLE=REQ-PARTICIPANT;RSVP=FALSE;CN="Nathalie
  Peregrine";PARTSTAT=NEEDS-ACTION:MAILTO:nathalie.peregrine@icann.org
ATTENDEE;ROLE=REQ-PARTICIPANT;RSVP=FALSE;CN="Michelle
  DeSmyter";PARTSTAT=NEEDS-ACTION:MAILTO:michelle.desmyter@icann.org
ATTENDEE;ROLE=REQ-PARTICIPANT;RSVP=FALSE;CN="Terri
  Agnew";PARTSTAT=NEEDS-ACTION:MAILTO:terri.agnew@icann.org
ATTENDEE;ROLE=REQ-PARTICIPANT;RSVP=FALSE;CN="Julie
  Bisland";PARTSTAT=NEEDS-ACTION:MAILTO:julie.bisland@icann.org
ATTENDEE;ROLE=REQ-PARTICIPANT;RSVP=FALSE;CN="Devan
  Reed";PARTSTAT=NEEDS-ACTION:MAILTO:devan.reed@icann.org
ATTENDEE;ROLE=REQ-PARTICIPANT;RSVP=FALSE;CN="Board
  Calendaring";PARTSTAT=NEEDS-ACTION:MAILTO:Board-Calendaring@icann.org
ATTENDEE;ROLE=REQ-PARTICIPANT;RSVP=FALSE;CN="Maxim
  Alzoba";PARTSTAT=NEEDS-ACTION:MAILTO:m.alzoba@gmail.com
ATTENDEE;ROLE=REQ-PARTICIPANT;RSVP=FALSE;CN="Julie&Bob
  Bisland";PARTSTAT=NEEDS-ACTION:MAILTO:bislandfam5@gmail.com
ATTENDEE;ROLE=OPT-PARTICIPANT;RSVP=FALSE;CN="Joseph
  Yee";PARTSTAT=NEEDS-ACTION:MAILTO:jyee@donuts.email
ATTENDEE;ROLE=OPT-PARTICIPANT;RSVP=FALSE;CN=gnso-secs@icann.org;PARTSTAT=N
 EEDS-ACTION:MAILTO:gnso-secs@icann.org
ATTENDEE;ROLE=OPT-PARTICIPANT;RSVP=FALSE;CN="Pitinan
  Kooarmornpatana";PARTSTAT=ACCEPTED:MAILTO:pitinan.koo@icann.org
X-MICROSOFT-CDO-BUSYSTATUS:BUSY
X-MICROSOFT-CDO-ALLDAYEVENT:FALSE
X-MICROSOFT-DISALLOW-COUNTER:TRUE
X-MICROSOFT-DONOTFORWARDMEETING:FALSE
X-MICROSOFT-CDO-INSTTYPE:3
END:VEVENT
BEGIN:VEVENT
UID:2E6FC6AD-EC93-4897-987A-0F0FDAA7C1D1
X-ENTOURAGE_UUID:994946F9-CC58-48CE-AD20-32794E5A42AC
X-MICROSOFT-EXCHANGE-ID:AAMkADFlMDNlNjQ5LTNjNTUtNDJkMC04ZTI0LWFiMTFkOTgwND
 JhMQFRAAgI2dYnpGhAAEYAAAAAHWTyGUwxfUiZeEPWwJdIEAcABbJD9ySyKEmGUitqzQUE1wCI
 1fFqnQAAo4alwkmylUWcB+2mROV4SgABWLdUEwAAEA==
X-MICROSOFT-EXCHANGE-CHANGEKEY:DwAAABYAAACjhqXCSbKVRZwH7aZE5XhKAAFzGtqO
RECURRENCE-ID;TZID="Coordinated Universal Time":20220113T133000
DTSTAMP:20220120T163059Z
DTSTART;TZID="Coordinated Universal Time":20220113T133000
DTEND;TZID="Coordinated Universal Time":20220113T150000
LAST-MODIFIED:20220120T163059Z
SUMMARY:IDNs EPDP Team meeting 
DESCRIPTION:Meeting: IDNs EPDP Team meeting \n\nDate/time: Every Thursday
  at 13:30 UTC for 90 minutes\, beginning 06 January 2021 through 03 March
  2021\n\nPlease click the link to join the webinar:
  https://icann.zoom.us/j/94276275950?pwd=dG5hanFzMlpsYmh0NnFjTEQwOUV1dz09\
 n\nPasscode: !!0tV0Wh&K \n\nFor Audio only:\n\nOne tap mobile : \n\nUS:
  +13017158592\,\,94276275950#\,\,\,\,*5259149775# or
  +13126266799\,\,94276275950#\,\,\,\,*5259149775#\n\nWebinar ID: 942 7627
  5950\n\nPasscode: 5259149775\n\nInternational numbers available:
  https://icann.zoom.us/u/adP1jJ0gRH \n\nIf this is your first time with
  Zoom\, please take a look here: Welcome to Zoom \n\nMembers\,
  participants\, and observers all have different access and participation
  directions\, please read below!\n\nALL: Before joining the call \nPlease
  send dial out requests to gnso-secs@icann.org only\nPlease be sure you
  have read the ICANN Expected Standards of Behavior \nVisit the agenda
  wiki page: https://community.icann.org/x/h4H3Cg (06 January\, see future
  dates on the left side)\nFor other places see:
  https://tinyurl.com/2p88cjd8 \nONLY for Members and Participants
  \nPlease join via the above Main Zoom Webinar link and staff will
  promote you to panelist. \nPlease select Everyone\, when posting to the
  chat in order for everyone to see and to be captured afterwards.\nOnly
  for Observers: \nObservers will have ability to view member chat and
  information shared in the zoom webinar room.\nObservers will not be able
  to use chat or raise hands. \n
LOCATION:13:30 UTC |
  https://icann.zoom.us/j/94276275950?pwd=dG5hanFzMlpsYmh0NnFjTEQwOUV1dz09
ORGANIZER:MAILTO:PolicyCalendar@icann.org
SEQUENCE:0
ATTENDEE;ROLE=REQ-PARTICIPANT;RSVP=FALSE;CN=gnso-epdp-idn-team@icann.org;P
 ARTSTAT=NEEDS-ACTION:MAILTO:gnso-epdp-idn-team@icann.org
ATTENDEE;ROLE=REQ-PARTICIPANT;RSVP=FALSE;CN="Steve
  Chan";PARTSTAT=NEEDS-ACTION:MAILTO:steve.chan@icann.org
ATTENDEE;ROLE=REQ-PARTICIPANT;RSVP=FALSE;CN="Emily
  Barabas";PARTSTAT=NEEDS-ACTION:MAILTO:emily.barabas@icann.org
ATTENDEE;ROLE=REQ-PARTICIPANT;RSVP=FALSE;CN="Ariel
  Liang";PARTSTAT=NEEDS-ACTION:MAILTO:ariel.liang@icann.org
ATTENDEE;ROLE=REQ-PARTICIPANT;RSVP=FALSE;CN="Nathalie
  Peregrine";PARTSTAT=NEEDS-ACTION:MAILTO:nathalie.peregrine@icann.org
ATTENDEE;ROLE=REQ-PARTICIPANT;RSVP=FALSE;CN="Michelle
  DeSmyter";PARTSTAT=NEEDS-ACTION:MAILTO:michelle.desmyter@icann.org
ATTENDEE;ROLE=REQ-PARTICIPANT;RSVP=FALSE;CN="Terri
  Agnew";PARTSTAT=NEEDS-ACTION:MAILTO:terri.agnew@icann.org
ATTENDEE;ROLE=REQ-PARTICIPANT;RSVP=FALSE;CN="Julie
  Bisland";PARTSTAT=NEEDS-ACTION:MAILTO:julie.bisland@icann.org
ATTENDEE;ROLE=REQ-PARTICIPANT;RSVP=FALSE;CN="Devan
  Reed";PARTSTAT=NEEDS-ACTION:MAILTO:devan.reed@icann.org
ATTENDEE;ROLE=REQ-PARTICIPANT;RSVP=FALSE;CN="Board
  Calendaring";PARTSTAT=NEEDS-ACTION:MAILTO:Board-Calendaring@icann.org
ATTENDEE;ROLE=REQ-PARTICIPANT;RSVP=FALSE;CN=paf@frobbit.se;PARTSTAT=NEEDS-
 ACTION:MAILTO:paf@frobbit.se
ATTENDEE;ROLE=REQ-PARTICIPANT;RSVP=FALSE;CN=danny@tcb.net;PARTSTAT=NEEDS-A
 CTION:MAILTO:danny@tcb.net
ATTENDEE;ROLE=REQ-PARTICIPANT;RSVP=FALSE;CN=yaojk@cnnic.cn;PARTSTAT=NEEDS-
 ACTION:MAILTO:yaojk@cnnic.cn
ATTENDEE;ROLE=REQ-PARTICIPANT;RSVP=FALSE;CN=johnl@taugh.com;PARTSTAT=NEEDS
 -ACTION:MAILTO:johnl@taugh.com
ATTENDEE;ROLE=REQ-PARTICIPANT;RSVP=FALSE;CN=lyman@interisle.net;PARTSTAT=N
 EEDS-ACTION:MAILTO:lyman@interisle.net
ATTENDEE;ROLE=REQ-PARTICIPANT;RSVP=FALSE;CN=ssac-exec-comm@icann.org;PARTS
 TAT=NEEDS-ACTION:MAILTO:ssac-exec-comm@icann.org
ATTENDEE;ROLE=OPT-PARTICIPANT;RSVP=FALSE;CN="Joseph
  Yee";PARTSTAT=NEEDS-ACTION:MAILTO:jyee@donuts.email
ATTENDEE;ROLE=OPT-PARTICIPANT;RSVP=FALSE;CN=gnso-secs@icann.org;PARTSTAT=N
 EEDS-ACTION:MAILTO:gnso-secs@icann.org
X-MICROSOFT-CDO-BUSYSTATUS:BUSY
X-MICROSOFT-CDO-ALLDAYEVENT:FALSE
X-MICROSOFT-DISALLOW-COUNTER:TRUE
X-MICROSOFT-DONOTFORWARDMEETING:FALSE
X-MICROSOFT-CDO-INSTTYPE:3
END:VEVENT
END:VCALENDAR
