BEGIN:VCALENDAR
METHOD:REQUEST
PRODID:Microsoft Exchange Server 2010
VERSION:2.0
BEGIN:VTIMEZONE
TZID:UTC
BEGIN:STANDARD
DTSTART:16010101T000000
TZOFFSETFROM:+0000
TZOFFSETTO:+0000
END:STANDARD
BEGIN:DAYLIGHT
DTSTART:16010101T000000
TZOFFSETFROM:+0000
TZOFFSETTO:+0000
END:DAYLIGHT
END:VTIMEZONE
BEGIN:VEVENT
ORGANIZER;CN=ICANN Policy Calendar:MAILTO:PolicyCalendar@icann.org
ATTENDEE;ROLE=REQ-PARTICIPANT;PARTSTAT=NEEDS-ACTION;RSVP=FALSE;CN=gnso-epdp
 -idn-team@icann.org:MAILTO:gnso-epdp-idn-team@icann.org
ATTENDEE;ROLE=REQ-PARTICIPANT;PARTSTAT=NEEDS-ACTION;RSVP=FALSE;CN=Board Cal
 endaring:MAILTO:Board-Calendaring@icann.org
ATTENDEE;ROLE=REQ-PARTICIPANT;PARTSTAT=NEEDS-ACTION;RSVP=FALSE;CN=Alan Barr
 ett:MAILTO:alan.barrett@board.icann.org
ATTENDEE;ROLE=REQ-PARTICIPANT;PARTSTAT=NEEDS-ACTION;RSVP=FALSE;CN=edmon.chu
 ng@board.icann.org:MAILTO:edmon.chung@board.icann.org
ATTENDEE;ROLE=REQ-PARTICIPANT;PARTSTAT=NEEDS-ACTION;RSVP=FALSE;CN=Marika Ko
 nings:MAILTO:marika.konings@icann.org
ATTENDEE;ROLE=REQ-PARTICIPANT;PARTSTAT=NEEDS-ACTION;RSVP=FALSE;CN=Steve Cha
 n:MAILTO:steve.chan@icann.org
ATTENDEE;ROLE=REQ-PARTICIPANT;PARTSTAT=NEEDS-ACTION;RSVP=FALSE;CN=Emily Bar
 abas:MAILTO:emily.barabas@icann.org
ATTENDEE;ROLE=REQ-PARTICIPANT;PARTSTAT=NEEDS-ACTION;RSVP=FALSE;CN=Ariel Lia
 ng:MAILTO:ariel.liang@icann.org
ATTENDEE;ROLE=REQ-PARTICIPANT;PARTSTAT=NEEDS-ACTION;RSVP=FALSE;CN=Nathalie 
 Peregrine:MAILTO:nathalie.peregrine@icann.org
ATTENDEE;ROLE=REQ-PARTICIPANT;PARTSTAT=NEEDS-ACTION;RSVP=FALSE;CN=Terri Agn
 ew:MAILTO:terri.agnew@icann.org
ATTENDEE;ROLE=REQ-PARTICIPANT;PARTSTAT=NEEDS-ACTION;RSVP=FALSE;CN=Michelle 
 DeSmyter:MAILTO:michelle.desmyter@icann.org
ATTENDEE;ROLE=REQ-PARTICIPANT;PARTSTAT=NEEDS-ACTION;RSVP=FALSE;CN=Julie Bis
 land:MAILTO:julie.bisland@icann.org
ATTENDEE;ROLE=REQ-PARTICIPANT;PARTSTAT=NEEDS-ACTION;RSVP=FALSE;CN=Devan Ree
 d:MAILTO:devan.reed@icann.org
DESCRIPTION;LANGUAGE=en-US:Meeting:  IDNs EPDP Team meeting\nWeekly on Thur
 sday’s 27 April – 01 June 2023 at 12:00 UTC for 2 hours\n**The 04 May 
 2023 meeting has been cancelled**\n\nPlease click the link to join the web
 inar: https://icann.zoom.us/j/94276275950?pwd=dG5hanFzMlpsYmh0NnFjTEQwOUV1
 dz09\nPasscode: !!0tV0Wh&amp\;K\n\nFor Audio only:\nOne tap mobile :\nUS: 
 &#43\;13017158592\,\,94276275950#\,\,\,\,*5259149775# or &#43\;13126266799
 \,\,94276275950#\,\,\,\,*5259149775#\n\nWebinar ID: 942 7627 5950\nPasscod
 e: 5259149775\nInternational numbers available: https://icann.zoom.us/u/ad
 P1jJ0gRH\n\nIf this is your first time with Zoom\, please take a look here
 : Welcome to Zoom <https://urldefense.com/v3/__https:/gnso.icann.org/sites
 /default/files/policy/2020/presentation/welcometozoom-gnso-27apr20-en.pdf_
 _\;!!PtGJab4!tsJj5IoP00gCZ3NQG24dUo3ickZCBj1_3KrYNlJrupEm0oreD2gEkgjcXukr6
 -lmrALx_wlyMQ$>\n\nMembers\, participants\, and observers all have differe
 nt access and participation directions\, please read below!\n\nALL: Before
  joining the call\n   *   Please send dial out requests to gnso-secs@icann
 .org<mailto:gnso-secs@icann.org> only\n   *   Please be sure you have read
  the ICANN Expected Standards of Behavior <https://urldefense.com/v3/__htt
 ps:/www.icann.org/resources/pages/expected-standards-2016-06-28-en__\;!!Pt
 GJab4!qTujILFv0Cs7zDTfO6l6F4sGBGn-ps__98Xyocm3IfF4Hkbm7fE5RbGBuHjy-SveLvg7
 QDTTXg$>\n   *   Visit the wiki: https://community.icann.org/x/XZE-DQ\n\n\
 n\nONLY for Members and Participants\n   *   Please join via the above Mai
 n Zoom Webinar link and staff will promote you to panelist.\n   *   Please
  select Everyone\, when posting to the chat in order for everyone to see a
 nd to be captured afterwards.\n\nOnly for Observers:\n   *   Observers wil
 l have ability to view member chat and information shared in the zoom webi
 nar room.\n   *   Observers will not be able to use chat or raise hands.\n
 \n\n\n\n
UID:9F927CDA-2651-4A62-926B-DC3C8B9F6173
RECURRENCE-ID;TZID=UTC:20230518T130000
SUMMARY;LANGUAGE=en-US:IDNs EPDP Team meeting 
DTSTART;TZID=UTC:20230518T120000
DTEND;TZID=UTC:20230518T140000
CLASS:PUBLIC
PRIORITY:5
DTSTAMP:20230503T020352Z
TRANSP:OPAQUE
STATUS:CONFIRMED
SEQUENCE:4
LOCATION;LANGUAGE=en-US:12:00 UTC | https://icann.zoom.us/j/94276275950?pwd
 =dG5hanFzMlpsYmh0NnFjTEQwOUV1dz09
X-MICROSOFT-CDO-APPT-SEQUENCE:4
X-MICROSOFT-CDO-OWNERAPPTID:2121574659
X-MICROSOFT-CDO-BUSYSTATUS:TENTATIVE
X-MICROSOFT-CDO-INTENDEDSTATUS:BUSY
X-MICROSOFT-CDO-ALLDAYEVENT:FALSE
X-MICROSOFT-CDO-IMPORTANCE:1
X-MICROSOFT-CDO-INSTTYPE:3
X-MICROSOFT-DONOTFORWARDMEETING:FALSE
X-MICROSOFT-DISALLOW-COUNTER:TRUE
BEGIN:VALARM
DESCRIPTION:REMINDER
TRIGGER;RELATED=START:-PT15M
ACTION:DISPLAY
END:VALARM
END:VEVENT
END:VCALENDAR
