BEGIN:VCALENDAR
METHOD:REQUEST
PRODID:Microsoft Exchange Server 2010
VERSION:2.0
BEGIN:VTIMEZONE
TZID:UTC
BEGIN:STANDARD
DTSTART:16010101T000000
TZOFFSETFROM:+0000
TZOFFSETTO:+0000
END:STANDARD
BEGIN:DAYLIGHT
DTSTART:16010101T000000
TZOFFSETFROM:+0000
TZOFFSETTO:+0000
END:DAYLIGHT
END:VTIMEZONE
BEGIN:VEVENT
ORGANIZER;CN=ICANN Policy Calendar:MAILTO:PolicyCalendar@icann.org
ATTENDEE;ROLE=REQ-PARTICIPANT;PARTSTAT=NEEDS-ACTION;RSVP=FALSE;CN=gnso-epdp
 -idn-team@icann.org:MAILTO:gnso-epdp-idn-team@icann.org
ATTENDEE;ROLE=REQ-PARTICIPANT;PARTSTAT=NEEDS-ACTION;RSVP=FALSE;CN=Board Cal
 endaring:MAILTO:Board-Calendaring@icann.org
ATTENDEE;ROLE=REQ-PARTICIPANT;PARTSTAT=NEEDS-ACTION;RSVP=FALSE;CN=Alan Barr
 ett:MAILTO:alan.barrett@board.icann.org
ATTENDEE;ROLE=REQ-PARTICIPANT;PARTSTAT=NEEDS-ACTION;RSVP=FALSE;CN=edmon.chu
 ng@board.icann.org:MAILTO:edmon.chung@board.icann.org
ATTENDEE;ROLE=REQ-PARTICIPANT;PARTSTAT=NEEDS-ACTION;RSVP=FALSE;CN=Marika Ko
 nings:MAILTO:marika.konings@icann.org
ATTENDEE;ROLE=REQ-PARTICIPANT;PARTSTAT=NEEDS-ACTION;RSVP=FALSE;CN=Steve Cha
 n:MAILTO:steve.chan@icann.org
ATTENDEE;ROLE=REQ-PARTICIPANT;PARTSTAT=NEEDS-ACTION;RSVP=FALSE;CN=Emily Bar
 abas:MAILTO:emily.barabas@icann.org
ATTENDEE;ROLE=REQ-PARTICIPANT;PARTSTAT=NEEDS-ACTION;RSVP=FALSE;CN=Ariel Lia
 ng:MAILTO:ariel.liang@icann.org
ATTENDEE;ROLE=REQ-PARTICIPANT;PARTSTAT=NEEDS-ACTION;RSVP=FALSE;CN=Nathalie 
 Peregrine:MAILTO:nathalie.peregrine@icann.org
ATTENDEE;ROLE=REQ-PARTICIPANT;PARTSTAT=NEEDS-ACTION;RSVP=FALSE;CN=Terri Agn
 ew:MAILTO:terri.agnew@icann.org
ATTENDEE;ROLE=REQ-PARTICIPANT;PARTSTAT=NEEDS-ACTION;RSVP=FALSE;CN=Michelle 
 DeSmyter:MAILTO:michelle.desmyter@icann.org
ATTENDEE;ROLE=REQ-PARTICIPANT;PARTSTAT=NEEDS-ACTION;RSVP=FALSE;CN=Julie Bis
 land:MAILTO:julie.bisland@icann.org
ATTENDEE;ROLE=REQ-PARTICIPANT;PARTSTAT=NEEDS-ACTION;RSVP=FALSE;CN=Devan Ree
 d:MAILTO:devan.reed@icann.org
DESCRIPTION;LANGUAGE=en-US:Meeting:  IDNs EPDP Team meeting\nPattern: Weekl
 y on Thursday’s 27 April – 01 June 2023 at 13:00 UTC for 2 hours\n**Th
 e 04 May 2023 meeting has been cancelled**\n\nPlease click the link to joi
 n the webinar: https://icann.zoom.us/j/94276275950?pwd=dG5hanFzMlpsYmh0NnF
 jTEQwOUV1dz09\nPasscode: !!0tV0Wh&amp\;K\n\nFor Audio only:\nOne tap mobil
 e :\nUS: &#43\;13017158592\,\,94276275950#\,\,\,\,*5259149775# or &#43\;13
 126266799\,\,94276275950#\,\,\,\,*5259149775#\n\nWebinar ID: 942 7627 5950
 \nPasscode: 5259149775\nInternational numbers available: https://icann.zoo
 m.us/u/adP1jJ0gRH\n\nIf this is your first time with Zoom\, please take a 
 look here: Welcome to Zoom <https://urldefense.com/v3/__https:/gnso.icann.
 org/sites/default/files/policy/2020/presentation/welcometozoom-gnso-27apr2
 0-en.pdf__\;!!PtGJab4!tsJj5IoP00gCZ3NQG24dUo3ickZCBj1_3KrYNlJrupEm0oreD2gE
 kgjcXukr6-lmrALx_wlyMQ$>\n\nMembers\, participants\, and observers all hav
 e different access and participation directions\, please read below!\n\nAL
 L: Before joining the call\n   *   Please send dial out requests to gnso-s
 ecs@icann.org<mailto:gnso-secs@icann.org> only\n   *   Please be sure you 
 have read the ICANN Expected Standards of Behavior <https://urldefense.com
 /v3/__https:/www.icann.org/resources/pages/expected-standards-2016-06-28-e
 n__\;!!PtGJab4!qTujILFv0Cs7zDTfO6l6F4sGBGn-ps__98Xyocm3IfF4Hkbm7fE5RbGBuHj
 y-SveLvg7QDTTXg$>\n   *   Visit the wiki: https://community.icann.org/x/XZ
 E-DQ\n\n\n\nONLY for Members and Participants\n   *   Please join via the 
 above Main Zoom Webinar link and staff will promote you to panelist.\n   *
    Please select Everyone\, when posting to the chat in order for everyone
  to see and to be captured afterwards.\n\nOnly for Observers:\n   *   Obse
 rvers will have ability to view member chat and information shared in the 
 zoom webinar room.\n   *   Observers will not be able to use chat or raise
  hands.\n\n\n\n\n
RRULE:FREQ=WEEKLY;UNTIL=20230601T130000Z;INTERVAL=1;BYDAY=TH;WKST=SU
UID:9F927CDA-2651-4A62-926B-DC3C8B9F6173
SUMMARY;LANGUAGE=en-US:IDNs EPDP Team meeting 
DTSTART;TZID=UTC:20230427T130000
DTEND;TZID=UTC:20230427T150000
CLASS:PUBLIC
PRIORITY:5
DTSTAMP:20230421T151415Z
TRANSP:OPAQUE
STATUS:CONFIRMED
SEQUENCE:0
LOCATION;LANGUAGE=en-US:13:00 UTC | https://icann.zoom.us/j/94276275950?pwd
 =dG5hanFzMlpsYmh0NnFjTEQwOUV1dz09
X-MICROSOFT-CDO-APPT-SEQUENCE:0
X-MICROSOFT-CDO-OWNERAPPTID:2121574659
X-MICROSOFT-CDO-BUSYSTATUS:TENTATIVE
X-MICROSOFT-CDO-INTENDEDSTATUS:BUSY
X-MICROSOFT-CDO-ALLDAYEVENT:FALSE
X-MICROSOFT-CDO-IMPORTANCE:1
X-MICROSOFT-CDO-INSTTYPE:1
X-MICROSOFT-DONOTFORWARDMEETING:FALSE
X-MICROSOFT-DISALLOW-COUNTER:TRUE
BEGIN:VALARM
DESCRIPTION:REMINDER
TRIGGER;RELATED=START:-PT15M
ACTION:DISPLAY
END:VALARM
END:VEVENT
END:VCALENDAR
