BEGIN:VCALENDAR
METHOD:CANCEL
PRODID:Microsoft Exchange Server 2010
VERSION:2.0
BEGIN:VTIMEZONE
TZID:UTC
BEGIN:STANDARD
DTSTART:16010101T000000
TZOFFSETFROM:+0000
TZOFFSETTO:+0000
END:STANDARD
BEGIN:DAYLIGHT
DTSTART:16010101T000000
TZOFFSETFROM:+0000
TZOFFSETTO:+0000
END:DAYLIGHT
END:VTIMEZONE
BEGIN:VEVENT
ORGANIZER;CN=Devan Reed:MAILTO:devan.reed@icann.org
ATTENDEE;ROLE=REQ-PARTICIPANT;PARTSTAT=NEEDS-ACTION;RSVP=FALSE;CN=gnso-epdp
 -idn-team@icann.org:MAILTO:gnso-epdp-idn-team@icann.org
ATTENDEE;ROLE=REQ-PARTICIPANT;PARTSTAT=NEEDS-ACTION;RSVP=FALSE;CN=Board Cal
 endaring:MAILTO:Board-Calendaring@icann.org
ATTENDEE;ROLE=REQ-PARTICIPANT;PARTSTAT=NEEDS-ACTION;RSVP=FALSE;CN=alan.barr
 ett@board.icann.org:MAILTO:alan.barrett@board.icann.org
ATTENDEE;ROLE=REQ-PARTICIPANT;PARTSTAT=NEEDS-ACTION;RSVP=FALSE;CN=edmon.chu
 ng@board.icann.org:MAILTO:edmon.chung@board.icann.org
ATTENDEE;ROLE=REQ-PARTICIPANT;PARTSTAT=NEEDS-ACTION;RSVP=FALSE;CN=Steve Cha
 n:MAILTO:steve.chan@icann.org
ATTENDEE;ROLE=REQ-PARTICIPANT;PARTSTAT=NEEDS-ACTION;RSVP=FALSE;CN=Ariel Lia
 ng:MAILTO:ariel.liang@icann.org
ATTENDEE;ROLE=REQ-PARTICIPANT;PARTSTAT=NEEDS-ACTION;RSVP=FALSE;CN=Terri Agn
 ew:MAILTO:terri.agnew@icann.org
ATTENDEE;ROLE=REQ-PARTICIPANT;PARTSTAT=NEEDS-ACTION;RSVP=FALSE;CN=Michelle 
 DeSmyter:MAILTO:michelle.desmyter@icann.org
ATTENDEE;ROLE=REQ-PARTICIPANT;PARTSTAT=NEEDS-ACTION;RSVP=FALSE;CN=Daniel Gl
 uck:MAILTO:daniel.gluck@icann.org
ATTENDEE;ROLE=REQ-PARTICIPANT;PARTSTAT=NEEDS-ACTION;RSVP=FALSE;CN=Devan Ree
 d:MAILTO:devan.reed@icann.org
ATTENDEE;ROLE=REQ-PARTICIPANT;PARTSTAT=NEEDS-ACTION;RSVP=FALSE;CN=Julie Bis
 land:MAILTO:julie.bisland@icann.org
DESCRIPTION;LANGUAGE=en-US:Meeting: IDNs EPDP Team\n\nDate/Time: Thursday\,
  08 February 2024 at 12:00 UTC for 2 hours.\n\n\nPlease click link to join
  the webinar: https://icann.zoom.us/j/94276275950?pwd=dG5hanFzMlpsYmh0NnFj
 TEQwOUV1dz09 <https://urldefense.com/v3/__https:/icann.zoom.us/j/942762759
 50?pwd=dG5hanFzMlpsYmh0NnFjTEQwOUV1dz09__\;!!PtGJab4!vhdeRRwE98BlkOd2PUPsF
 RTYJKaFKeyQpBgGXP-i_wtca2IEoW8Q1QEmNd_NZqgl_cfuT6Y$>\nPasscode: !!0tV0Wh&K
 \n\nFor Audio only:\nOne tap mobile :\nUS: +13017158592\,\,94276275950#\,\
 ,\,\,*5259149775#  or +13126266799\,\,94276275950#\,\,\,\,*5259149775#\n\n
 Webinar ID: 942 7627 5950\nPasscode: 5259149775\nInternational numbers ava
 ilable: https://icann.zoom.us/u/adP1jJ0gRH <https://urldefense.com/v3/__ht
 tps:/icann.zoom.us/u/adP1jJ0gRH__\;!!PtGJab4!vanPD1fIfUET-x0XQvlg6JcetmJBl
 VYK3RYkK6talajROC0sPlwOCjlpxBDsXNJK4gB0qhKg-g$>\n\nIf this is your first t
 ime with Zoom\, please take a look here: Welcome to Zoom <https://urldefen
 se.com/v3/__https:/gnso.icann.org/sites/default/files/policy/2020/presenta
 tion/welcometozoom-gnso-27apr20-en.pdf__\;!!PtGJab4!tsJj5IoP00gCZ3NQG24dUo
 3ickZCBj1_3KrYNlJrupEm0oreD2gEkgjcXukr6-lmrALx_wlyMQ$>\n\n\n\n            
         Members\, participants\, and observers all have different access a
 nd participation directions\, please read below!\n\n\nALL: Before joining 
 the call\n\n\n  *   Please send dial out requests to gnso-secs@icann.org<m
 ailto:gnso-secs@icann.org> only\n  *   Please be sure you have read the IC
 ANN Expected Standards of Behavior <https://urldefense.com/v3/__https:/www
 .icann.org/resources/pages/expected-standards-2016-06-28-en__\;!!PtGJab4!q
 TujILFv0Cs7zDTfO6l6F4sGBGn-ps__98Xyocm3IfF4Hkbm7fE5RbGBuHjy-SveLvg7QDTTXg$
 >\n  *   Visit the Wiki page: https://community.icann.org/x/d4D6EQ\n  *   
 Check your time zone: http://tinyurl.com/2p4aj3zp\n\n\nONLY for Members an
 d Participants\n\n\n  *   Please join via the above Main Zoom Webinar link
  and staff will promote you to panelist.\n  *   Please select Everyone\, w
 hen posting to the chat in order for everyone to see and to be captured af
 terwards.\nOnly for Observers:\n\n  *   Observers will have ability to vie
 w member chat and information shared in the zoom webinar room.\n  *   Obse
 rvers will not be able to use chat or raise hands.\n\n\n\n
UID:062D4E3D-E6AE-445B-917D-5A8FAC2E5E80
SUMMARY;LANGUAGE=en-US:Canceled: IDNs EPDP Team
DTSTART;TZID=UTC:20240208T120000
DTEND;TZID=UTC:20240208T140000
CLASS:PUBLIC
PRIORITY:5
DTSTAMP:20240206T134411Z
TRANSP:TRANSPARENT
STATUS:CANCELLED
SEQUENCE:1
LOCATION;LANGUAGE=en-US:12:00 UTC | https://icann.zoom.us/j/94276275950?pwd
 =dG5hanFzMlpsYmh0NnFjTEQwOUV1dz09   
X-MICROSOFT-CDO-APPT-SEQUENCE:1
X-MICROSOFT-CDO-OWNERAPPTID:2122461321
X-MICROSOFT-CDO-BUSYSTATUS:FREE
X-MICROSOFT-CDO-INTENDEDSTATUS:FREE
X-MICROSOFT-CDO-ALLDAYEVENT:FALSE
X-MICROSOFT-CDO-IMPORTANCE:1
X-MICROSOFT-CDO-INSTTYPE:0
X-MICROSOFT-DONOTFORWARDMEETING:FALSE
X-MICROSOFT-DISALLOW-COUNTER:TRUE
END:VEVENT
END:VCALENDAR
