BEGIN:VCALENDAR
METHOD:CANCEL
PRODID:Microsoft Exchange Server 2010
VERSION:2.0
BEGIN:VTIMEZONE
TZID:UTC
BEGIN:STANDARD
DTSTART:16010101T000000
TZOFFSETFROM:+0000
TZOFFSETTO:+0000
END:STANDARD
BEGIN:DAYLIGHT
DTSTART:16010101T000000
TZOFFSETFROM:+0000
TZOFFSETTO:+0000
END:DAYLIGHT
END:VTIMEZONE
BEGIN:VEVENT
ORGANIZER;CN=ICANN Policy Calendar:MAILTO:PolicyCalendar@icann.org
ATTENDEE;ROLE=REQ-PARTICIPANT;PARTSTAT=NEEDS-ACTION;RSVP=FALSE;CN=gnso-epdp
 -idn-team@icann.org:MAILTO:gnso-epdp-idn-team@icann.org
ATTENDEE;ROLE=REQ-PARTICIPANT;PARTSTAT=NEEDS-ACTION;RSVP=FALSE;CN=Steve Cha
 n:MAILTO:steve.chan@icann.org
ATTENDEE;ROLE=REQ-PARTICIPANT;PARTSTAT=NEEDS-ACTION;RSVP=FALSE;CN=Emily Bar
 abas:MAILTO:emily.barabas@icann.org
ATTENDEE;ROLE=REQ-PARTICIPANT;PARTSTAT=NEEDS-ACTION;RSVP=FALSE;CN=Ariel Lia
 ng:MAILTO:ariel.liang@icann.org
ATTENDEE;ROLE=REQ-PARTICIPANT;PARTSTAT=NEEDS-ACTION;RSVP=FALSE;CN=Nathalie 
 Peregrine:MAILTO:nathalie.peregrine@icann.org
ATTENDEE;ROLE=REQ-PARTICIPANT;PARTSTAT=NEEDS-ACTION;RSVP=FALSE;CN=Michelle 
 DeSmyter:MAILTO:michelle.desmyter@icann.org
ATTENDEE;ROLE=REQ-PARTICIPANT;PARTSTAT=NEEDS-ACTION;RSVP=FALSE;CN=Terri Agn
 ew:MAILTO:terri.agnew@icann.org
ATTENDEE;ROLE=REQ-PARTICIPANT;PARTSTAT=NEEDS-ACTION;RSVP=FALSE;CN=Julie Bis
 land:MAILTO:julie.bisland@icann.org
ATTENDEE;ROLE=REQ-PARTICIPANT;PARTSTAT=NEEDS-ACTION;RSVP=FALSE;CN=Devan Ree
 d:MAILTO:devan.reed@icann.org
ATTENDEE;ROLE=REQ-PARTICIPANT;PARTSTAT=NEEDS-ACTION;RSVP=FALSE;CN=Board Cal
 endaring:MAILTO:Board-Calendaring@icann.org
DESCRIPTION;LANGUAGE=en-US:Meeting: IDNs EPDP Team meeting\n\nDate/time: Ev
 ery Thursday at 13:30 UTC for 90 minutes\, beginning 17 March 2021 through
  09 June 2021\n\n\n\nPlease click the link to join the webinar: https://ic
 ann.zoom.us/j/94276275950?pwd=dG5hanFzMlpsYmh0NnFjTEQwOUV1dz09\n\nPasscode
 : !!0tV0Wh&K\n\nFor Audio only:\nOne tap mobile :\nUS: +13017158592\,\,942
 76275950#\,\,\,\,*5259149775# or +13126266799\,\,94276275950#\,\,\,\,*5259
 149775#\n\nWebinar ID: 942 7627 5950\nPasscode: 5259149775\nInternational 
 numbers available: https://icann.zoom.us/u/adP1jJ0gRH\n\nIf this is your f
 irst time with Zoom\, please take a look here: Welcome to Zoom <https://ur
 ldefense.com/v3/__https:/gnso.icann.org/sites/default/files/policy/2020/pr
 esentation/welcometozoom-gnso-27apr20-en.pdf__\;!!PtGJab4!tsJj5IoP00gCZ3NQ
 G24dUo3ickZCBj1_3KrYNlJrupEm0oreD2gEkgjcXukr6-lmrALx_wlyMQ$>\n\n\n\nMember
 s\, participants\, and observers all have different access and participati
 on directions\, please read below!\n\n\nALL: Before joining the call\n\n\n
   *   Please send dial out requests to gnso-secs@icann.org<mailto:gnso-sec
 s@icann.org> only\n  *   Please be sure you have read the ICANN Expected S
 tandards of Behavior <https://urldefense.com/v3/__https:/www.icann.org/res
 ources/pages/expected-standards-2016-06-28-en__\;!!PtGJab4!qTujILFv0Cs7zDT
 fO6l6F4sGBGn-ps__98Xyocm3IfF4Hkbm7fE5RbGBuHjy-SveLvg7QDTTXg$>\n\n  *   Vis
 it the agenda wiki page: https://community.icann.org/x/YwB1Cw (17 March\, 
 see future dates on the left side)\n  *   For other places see: https://ti
 nyurl.com/ut5dt3wd\n\n\n\nONLY for Members and Participants\n\n\n  *   Ple
 ase join via the above Main Zoom Webinar link and staff will promote you t
 o panelist.\n  *   Please select Everyone\, when posting to the chat in or
 der for everyone to see and to be captured afterwards.\n\n\nOnly for Obser
 vers:\n\n  *   Observers will have ability to view member chat and informa
 tion shared in the zoom webinar room.\n  *   Observers will not be able to
  use chat or raise hands.\n\n\n\n\n\n
UID:19355D6B-06AA-413C-889B-1AA80E5E1F66
RECURRENCE-ID;TZID=UTC:20220609T133000
SUMMARY;LANGUAGE=en-US:Canceled: IDNs EPDP Team meeting 
DTSTART;TZID=UTC:20220609T133000
DTEND;TZID=UTC:20220609T150000
CLASS:PUBLIC
PRIORITY:5
DTSTAMP:20220608T153903Z
TRANSP:TRANSPARENT
STATUS:CANCELLED
SEQUENCE:6
LOCATION;LANGUAGE=en-US:13:30 UTC | https://icann.zoom.us/j/94276275950?pwd
 =dG5hanFzMlpsYmh0NnFjTEQwOUV1dz09
X-MICROSOFT-CDO-APPT-SEQUENCE:6
X-MICROSOFT-CDO-OWNERAPPTID:2120447623
X-MICROSOFT-CDO-BUSYSTATUS:FREE
X-MICROSOFT-CDO-INTENDEDSTATUS:FREE
X-MICROSOFT-CDO-ALLDAYEVENT:FALSE
X-MICROSOFT-CDO-IMPORTANCE:1
X-MICROSOFT-CDO-INSTTYPE:3
X-MICROSOFT-DONOTFORWARDMEETING:FALSE
X-MICROSOFT-DISALLOW-COUNTER:TRUE
END:VEVENT
END:VCALENDAR
