BEGIN:VCALENDAR
METHOD:REQUEST
PRODID:Microsoft Exchange Server 2010
VERSION:2.0
BEGIN:VTIMEZONE
TZID:UTC
BEGIN:STANDARD
DTSTART:16010101T000000
TZOFFSETFROM:+0000
TZOFFSETTO:+0000
END:STANDARD
BEGIN:DAYLIGHT
DTSTART:16010101T000000
TZOFFSETFROM:+0000
TZOFFSETTO:+0000
END:DAYLIGHT
END:VTIMEZONE
BEGIN:VEVENT
ORGANIZER;CN=ICANN Policy Calendar:MAILTO:PolicyCalendar@icann.org
ATTENDEE;ROLE=REQ-PARTICIPANT;PARTSTAT=NEEDS-ACTION;RSVP=FALSE;CN=gnso-epdp
 -idn-team@icann.org:MAILTO:gnso-epdp-idn-team@icann.org
ATTENDEE;ROLE=REQ-PARTICIPANT;PARTSTAT=NEEDS-ACTION;RSVP=FALSE;CN=Steve Cha
 n:MAILTO:steve.chan@icann.org
ATTENDEE;ROLE=REQ-PARTICIPANT;PARTSTAT=NEEDS-ACTION;RSVP=FALSE;CN=Emily Bar
 abas:MAILTO:emily.barabas@icann.org
ATTENDEE;ROLE=REQ-PARTICIPANT;PARTSTAT=NEEDS-ACTION;RSVP=FALSE;CN=Ariel Lia
 ng:MAILTO:ariel.liang@icann.org
ATTENDEE;ROLE=REQ-PARTICIPANT;PARTSTAT=NEEDS-ACTION;RSVP=FALSE;CN=Nathalie 
 Peregrine:MAILTO:nathalie.peregrine@icann.org
ATTENDEE;ROLE=REQ-PARTICIPANT;PARTSTAT=NEEDS-ACTION;RSVP=FALSE;CN=Michelle 
 DeSmyter:MAILTO:michelle.desmyter@icann.org
ATTENDEE;ROLE=REQ-PARTICIPANT;PARTSTAT=NEEDS-ACTION;RSVP=FALSE;CN=Terri Agn
 ew:MAILTO:terri.agnew@icann.org
ATTENDEE;ROLE=REQ-PARTICIPANT;PARTSTAT=NEEDS-ACTION;RSVP=FALSE;CN=Julie Bis
 land:MAILTO:julie.bisland@icann.org
ATTENDEE;ROLE=REQ-PARTICIPANT;PARTSTAT=NEEDS-ACTION;RSVP=FALSE;CN=Devan Ree
 d:MAILTO:devan.reed@icann.org
ATTENDEE;ROLE=REQ-PARTICIPANT;PARTSTAT=NEEDS-ACTION;RSVP=FALSE;CN=Board Cal
 endaring:MAILTO:Board-Calendaring@icann.org
DESCRIPTION;LANGUAGE=en-US:Meeting: IDNs EPDP Team meeting\nDate/time: Thur
 sday\, 14 April 2022 at 11:30 UTC for 90 minutes\n\nPlease click the link 
 to join the webinar: https://icann.zoom.us/j/94276275950?pwd=dG5hanFzMlpsY
 mh0NnFjTEQwOUV1dz09\nPasscode: !!0tV0Wh&amp\;K\n\nFor Audio only:\nOne tap
  mobile :\nUS: &#43\;13017158592\,\,94276275950#\,\,\,\,*5259149775# or &#
 43\;13126266799\,\,94276275950#\,\,\,\,*5259149775#\n\nWebinar ID: 942 762
 7 5950\nPasscode: 5259149775\nInternational numbers available: https://ica
 nn.zoom.us/u/adP1jJ0gRH\n\nIf this is your first time with Zoom\, please t
 ake a look here: Welcome to Zoom <https://urldefense.com/v3/__https:/gnso.
 icann.org/sites/default/files/policy/2020/presentation/welcometozoom-gnso-
 27apr20-en.pdf__\;!!PtGJab4!tsJj5IoP00gCZ3NQG24dUo3ickZCBj1_3KrYNlJrupEm0o
 reD2gEkgjcXukr6-lmrALx_wlyMQ$>\n\nMembers\, participants\, and observers a
 ll have different access and participation directions\, please read below!
 \n\nALL: Before joining the call\n   *   Please send dial out requests to 
 gnso-secs@icann.org<mailto:gnso-secs@icann.org> only\n   *   Please be sur
 e you have read the ICANN Expected Standards of Behavior <https://urldefen
 se.com/v3/__https:/www.icann.org/resources/pages/expected-standards-2016-0
 6-28-en__\;!!PtGJab4!qTujILFv0Cs7zDTfO6l6F4sGBGn-ps__98Xyocm3IfF4Hkbm7fE5R
 bGBuHjy-SveLvg7QDTTXg$>\n   *   Visit the agenda wiki page: https://commun
 ity.icann.org/x/awB1Cw\n   *   For other places see: https://tinyurl.com/3
 25ymryh\n\n\n\nONLY for Members and Participants\n   *   Please join via t
 he above Main Zoom Webinar link and staff will promote you to panelist.\n 
   *   Please select Everyone\, when posting to the chat in order for every
 one to see and to be captured afterwards.\n\nOnly for Observers:\n   *   O
 bservers will have ability to view member chat and information shared in t
 he zoom webinar room.\n   *   Observers will not be able to use chat or ra
 ise hands.\n\n\n\n\n\n
UID:19355D6B-06AA-413C-889B-1AA80E5E1F66
RECURRENCE-ID;TZID=UTC:20220414T133000
SUMMARY;LANGUAGE=en-US:IDNs EPDP Team meeting 
DTSTART;TZID=UTC:20220414T113000
DTEND;TZID=UTC:20220414T130000
CLASS:PUBLIC
PRIORITY:5
DTSTAMP:20220408T191821Z
TRANSP:OPAQUE
STATUS:CONFIRMED
SEQUENCE:3
LOCATION;LANGUAGE=en-US:11:30 UTC | https://icann.zoom.us/j/94276275950?pwd
 =dG5hanFzMlpsYmh0NnFjTEQwOUV1dz09
X-MICROSOFT-CDO-APPT-SEQUENCE:3
X-MICROSOFT-CDO-OWNERAPPTID:2120447623
X-MICROSOFT-CDO-BUSYSTATUS:TENTATIVE
X-MICROSOFT-CDO-INTENDEDSTATUS:BUSY
X-MICROSOFT-CDO-ALLDAYEVENT:FALSE
X-MICROSOFT-CDO-IMPORTANCE:1
X-MICROSOFT-CDO-INSTTYPE:3
X-MICROSOFT-DONOTFORWARDMEETING:FALSE
X-MICROSOFT-DISALLOW-COUNTER:TRUE
BEGIN:VALARM
DESCRIPTION:REMINDER
TRIGGER;RELATED=START:-PT15M
ACTION:DISPLAY
END:VALARM
END:VEVENT
END:VCALENDAR
