BEGIN:VCALENDAR
METHOD:REQUEST
PRODID:Microsoft Exchange Server 2010
VERSION:2.0
BEGIN:VTIMEZONE
TZID:UTC
BEGIN:STANDARD
DTSTART:16010101T000000
TZOFFSETFROM:+0000
TZOFFSETTO:+0000
END:STANDARD
BEGIN:DAYLIGHT
DTSTART:16010101T000000
TZOFFSETFROM:+0000
TZOFFSETTO:+0000
END:DAYLIGHT
END:VTIMEZONE
BEGIN:VEVENT
ORGANIZER;CN=ICANN Policy Calendar:MAILTO:PolicyCalendar@icann.org
ATTENDEE;ROLE=REQ-PARTICIPANT;PARTSTAT=NEEDS-ACTION;RSVP=FALSE;CN=gnso-epdp
 -team@icann.org:MAILTO:gnso-epdp-team@icann.org
ATTENDEE;ROLE=REQ-PARTICIPANT;PARTSTAT=NEEDS-ACTION;RSVP=FALSE;CN=Marika Ko
 nings:MAILTO:marika.konings@icann.org
ATTENDEE;ROLE=REQ-PARTICIPANT;PARTSTAT=NEEDS-ACTION;RSVP=FALSE;CN=Caitlin T
 ubergen:MAILTO:caitlin.tubergen@icann.org
ATTENDEE;ROLE=REQ-PARTICIPANT;PARTSTAT=NEEDS-ACTION;RSVP=FALSE;CN=policy@ba
 cinblack.com:MAILTO:policy@bacinblack.com
ATTENDEE;ROLE=REQ-PARTICIPANT;PARTSTAT=NEEDS-ACTION;RSVP=FALSE;CN=Berry Cob
 b:MAILTO:Berry.Cobb@icann.org
ATTENDEE;ROLE=REQ-PARTICIPANT;PARTSTAT=NEEDS-ACTION;RSVP=FALSE;CN=Nathalie 
 Peregrine:MAILTO:nathalie.peregrine@icann.org
ATTENDEE;ROLE=REQ-PARTICIPANT;PARTSTAT=NEEDS-ACTION;RSVP=FALSE;CN=Michelle 
 DeSmyter:MAILTO:michelle.desmyter@icann.org
ATTENDEE;ROLE=REQ-PARTICIPANT;PARTSTAT=NEEDS-ACTION;RSVP=FALSE;CN=Board Cal
 endaring:MAILTO:Board-Calendaring@icann.org
ATTENDEE;ROLE=REQ-PARTICIPANT;PARTSTAT=NEEDS-ACTION;RSVP=FALSE;CN=Julie Bis
 land:MAILTO:julie.bisland@icann.org
ATTENDEE;ROLE=REQ-PARTICIPANT;PARTSTAT=NEEDS-ACTION;RSVP=FALSE;CN=Terri Agn
 ew:MAILTO:terri.agnew@icann.org
ATTENDEE;ROLE=REQ-PARTICIPANT;PARTSTAT=NEEDS-ACTION;RSVP=FALSE;CN=Melissa P
 eters Allgood:MAILTO:melissa.allgood@icann.org
ATTENDEE;ROLE=REQ-PARTICIPANT;PARTSTAT=NEEDS-ACTION;RSVP=FALSE;CN=Brian Gut
 terman:MAILTO:brian.gutterman@icann.org
ATTENDEE;ROLE=REQ-PARTICIPANT;PARTSTAT=NEEDS-ACTION;RSVP=FALSE;CN=Andrea Gl
 andon:MAILTO:andrea.glandon@icann.org
DESCRIPTION;LANGUAGE=en-US:Meeting: GNSO Temp Spec gTLD RD EPDP – Phase 2
 A call\nDate/time: Recurring weekly Tuesdays &amp\; Thursdays from 29 July
  2021- 31 August 2021 at 14:00 UTC for 90 minutes\n\nZoom room information
 :\nMain Zoom Webinar link: https://icann.zoom.us/j/92181477886?pwd=TlJHTU5
 EY1d3bUxLV2s3UStPS2MxZz09\nPasscode: Z@S07?t=v5\n\nIf you are joining via 
 audio only:\nOne tap mobile\nUS: &#43\;13126266799\,\,92181477886#\,\,\,\,
 \,\,0#\,\,3121016458# or &#43\;13462487799\,\,92181477886#\,\,\,\,\,\,0#\,
 \,3121016458#\n\nWebinar ID: 921 8147 7886\nPasscode: 3121016458\nInternat
 ional numbers available: https://icann.zoom.us/u/acVxz9PmJI [icann.zoom.us
 ]<https://urldefense.com/v3/__https:/icann.zoom.us/u/acVxz9PmJI__\;!!PtGJa
 b4!qTujILFv0Cs7zDTfO6l6F4sGBGn-ps__98Xyocm3IfF4Hkbm7fE5RbGBuHjy-SveLvjbh3c
 VIQ$>\n\nMembers\, alternates\, observers all have different access and pa
 rticipation directions\, please read below!\n\nALL: Before joining the cal
 l\n   *   Please send dial out requests to gnso-secs@icann.org<mailto:gnso
 -secs@icann.org> only\n   *   Please be sure you have read the ICANN Expec
 ted Standards of Behavior [icann.org]<https://urldefense.com/v3/__https:/w
 ww.icann.org/resources/pages/expected-standards-2016-06-28-en__\;!!PtGJab4
 !qTujILFv0Cs7zDTfO6l6F4sGBGn-ps__98Xyocm3IfF4Hkbm7fE5RbGBuHjy-SveLvg7QDTTX
 g$>\n   *   Visit the Wiki agenda page: https://community.icann.org/x/g4gm
 CQ\n   *   Check your time zone: https://tinyurl.com/eyd2tn22\n\n\nONLY fo
 r Members and Alternates\n   *   Please join via the above Main Zoom Webin
 ar link and staff will promote you to panelist.\n   *   Alternate replacem
 ent confirmations – In order to keep track of alternate replacements\, u
 se the google form [docs.google.com]<https://urldefense.proofpoint.com/v2/
 url?u=https-3A__docs.google.com_a_icann.org_forms_d_e_1FAIpQLScuCvS7vKS4Mu
 aXwJmDcUHtOTskg6t5qrSETKlCKgokRK17gA_viewform&d=DwMGaQ&c=FmY1u3PJp6wrcrwll
 3mSVzgfkbPSS6sJms7xcl4I5cM&r=k7uKdjSb7_ZjItyVqrCYHo_rKms9SFxlmbYEJqG-y9I&m
 =nolHdg97oXWvSIebEV59gQPCP3Cs3j6TEIGl6X0ezI8&s=BTAVDD9SMwAv9zVWbP73KVqCQ9N
 H14D-QKfuG8vjXzo&e=> to communicate who the alternate is replacing and for
  which period. This information will be publicly posted so that the EPDP T
 eam is aware at any time who is active. Alternate Assignment – EPDP Phas
 e 2A wiki page<https://community.icann.org/x/h4jzC>.\n   *   Members (and 
 alternates replacing members)\, please select Panelists and Attendees when
  posting to the chat in order for everyone to see and to be captured after
 wards.\n   *   Alternates not replacing a member: Please rename your line 
 by adding THREE Zs - (zzz)’before your name and add\, in parentheses at 
 the end\, (your affiliation - alternate). To rename in Zoom\, hover over y
 our name and click ‘rename’.\n   *   Alternates (not replacing a membe
 r) are not allowed to engage in the chat (apart from private chats) or use
  any of the other zoom room functionalities such as raising hands or agree
 ing / disagreeing.\n\n\n\nOnly for Observers:\n\n   *   Observers will hav
 e ability to view member chat and information shared in the zoom webinar r
 oom. Observers will not be able to use chat or raise hands.\n\nThank you.\
 n\n\n\n\n
RRULE:FREQ=WEEKLY;UNTIL=20210831T140000Z;INTERVAL=1;BYDAY=TU,TH;WKST=SU
UID:32B48661-F64C-4E51-873F-C94B5F6B8A6D
SUMMARY;LANGUAGE=en-US:GNSO Temp Spec gTLD RD EPDP – Phase 2A call 
DTSTART;TZID=UTC:20210729T140000
DTEND;TZID=UTC:20210729T153000
CLASS:PUBLIC
PRIORITY:5
DTSTAMP:20210805T182452Z
TRANSP:OPAQUE
STATUS:CONFIRMED
SEQUENCE:2
LOCATION;LANGUAGE=en-US:14:00 UTC | https://icann.zoom.us/j/92181477886?pwd
 =TlJHTU5EY1d3bUxLV2s3UStPS2MxZz09
X-MICROSOFT-CDO-APPT-SEQUENCE:2
X-MICROSOFT-CDO-OWNERAPPTID:2119672325
X-MICROSOFT-CDO-BUSYSTATUS:TENTATIVE
X-MICROSOFT-CDO-INTENDEDSTATUS:BUSY
X-MICROSOFT-CDO-ALLDAYEVENT:FALSE
X-MICROSOFT-CDO-IMPORTANCE:1
X-MICROSOFT-CDO-INSTTYPE:1
X-MICROSOFT-DONOTFORWARDMEETING:FALSE
X-MICROSOFT-DISALLOW-COUNTER:TRUE
BEGIN:VALARM
DESCRIPTION:REMINDER
TRIGGER;RELATED=START:-PT15M
ACTION:DISPLAY
END:VALARM
END:VEVENT
END:VCALENDAR
