BEGIN:VCALENDAR
METHOD:REQUEST
PRODID:Microsoft Exchange Server 2010
VERSION:2.0
BEGIN:VTIMEZONE
TZID:UTC
BEGIN:STANDARD
DTSTART:16010101T000000
TZOFFSETFROM:+0000
TZOFFSETTO:+0000
END:STANDARD
BEGIN:DAYLIGHT
DTSTART:16010101T000000
TZOFFSETFROM:+0000
TZOFFSETTO:+0000
END:DAYLIGHT
END:VTIMEZONE
BEGIN:VEVENT
ORGANIZER;CN=ICANN Policy Calendar:MAILTO:PolicyCalendar@icann.org
ATTENDEE;ROLE=REQ-PARTICIPANT;PARTSTAT=NEEDS-ACTION;RSVP=FALSE;CN=gnso-epdp
 -team@icann.org:MAILTO:gnso-epdp-team@icann.org
ATTENDEE;ROLE=REQ-PARTICIPANT;PARTSTAT=NEEDS-ACTION;RSVP=FALSE;CN=Marika Ko
 nings:MAILTO:marika.konings@icann.org
ATTENDEE;ROLE=REQ-PARTICIPANT;PARTSTAT=NEEDS-ACTION;RSVP=FALSE;CN=Caitlin T
 ubergen:MAILTO:caitlin.tubergen@icann.org
ATTENDEE;ROLE=REQ-PARTICIPANT;PARTSTAT=NEEDS-ACTION;RSVP=FALSE;CN=policy@ba
 cinblack.com:MAILTO:policy@bacinblack.com
ATTENDEE;ROLE=REQ-PARTICIPANT;PARTSTAT=NEEDS-ACTION;RSVP=FALSE;CN=Berry Cob
 b:MAILTO:Berry.Cobb@icann.org
ATTENDEE;ROLE=REQ-PARTICIPANT;PARTSTAT=NEEDS-ACTION;RSVP=FALSE;CN=Nathalie 
 Peregrine:MAILTO:nathalie.peregrine@icann.org
ATTENDEE;ROLE=REQ-PARTICIPANT;PARTSTAT=NEEDS-ACTION;RSVP=FALSE;CN=Michelle 
 DeSmyter:MAILTO:michelle.desmyter@icann.org
ATTENDEE;ROLE=REQ-PARTICIPANT;PARTSTAT=NEEDS-ACTION;RSVP=FALSE;CN=Andrea Gl
 andon:MAILTO:andrea.glandon@icann.org
ATTENDEE;ROLE=REQ-PARTICIPANT;PARTSTAT=NEEDS-ACTION;RSVP=FALSE;CN=Board Cal
 endaring:MAILTO:Board-Calendaring@icann.org
ATTENDEE;ROLE=REQ-PARTICIPANT;PARTSTAT=NEEDS-ACTION;RSVP=FALSE;CN=Julie Bis
 land:MAILTO:julie.bisland@icann.org
ATTENDEE;ROLE=REQ-PARTICIPANT;PARTSTAT=NEEDS-ACTION;RSVP=FALSE;CN=Terri Agn
 ew:MAILTO:terri.agnew@icann.org
ATTENDEE;ROLE=REQ-PARTICIPANT;PARTSTAT=NEEDS-ACTION;RSVP=FALSE;CN=Melissa A
 llgood:MAILTO:melissa.allgood@icann.org
ATTENDEE;ROLE=REQ-PARTICIPANT;PARTSTAT=NEEDS-ACTION;RSVP=FALSE;CN=Brian Gut
 terman:MAILTO:brian.gutterman@icann.org
DESCRIPTION;LANGUAGE=en-US:Meeting: GNSO Temp Spec gTLD RD EPDP – Phase 2
 A call\nDate/time: Thursday\, 15 July 2021 at 14:00 UTC for 90 minutes\n\n
 Zoom room information:\nMain Zoom Webinar link: https://icann.zoom.us/j/92
 181477886?pwd=TlJHTU5EY1d3bUxLV2s3UStPS2MxZz09\nPasscode: Z@S07?t=v5\n\nIf
  you are joining via audio only:\nOne tap mobile\nUS: &#43\;13126266799\,\
 ,92181477886#\,\,\,\,\,\,0#\,\,3121016458#  or &#43\;13462487799\,\,921814
 77886#\,\,\,\,\,\,0#\,\,3121016458#\n\nWebinar ID: 921 8147 7886\nPasscode
 : 3121016458\nInternational numbers available: https://icann.zoom.us/u/acV
 xz9PmJI [icann.zoom.us]<https://urldefense.com/v3/__https:/icann.zoom.us/u
 /acVxz9PmJI__\;!!PtGJab4!qTujILFv0Cs7zDTfO6l6F4sGBGn-ps__98Xyocm3IfF4Hkbm7
 fE5RbGBuHjy-SveLvjbh3cVIQ$>\n\nMembers\, alternates\, observers all have d
 ifferent access and participation directions\, please read below!\n\nALL: 
 Before joining the call\n   *   Please send dial out requests to gnso-secs
 @icann.org<mailto:gnso-secs@icann.org> only\n   *   Please be sure you hav
 e read the ICANN Expected Standards of Behavior [icann.org]<https://urldef
 ense.com/v3/__https:/www.icann.org/resources/pages/expected-standards-2016
 -06-28-en__\;!!PtGJab4!qTujILFv0Cs7zDTfO6l6F4sGBGn-ps__98Xyocm3IfF4Hkbm7fE
 5RbGBuHjy-SveLvg7QDTTXg$>\n   *   Visit the Wiki agenda page: https://comm
 unity.icann.org/x/SQPpCQ\n   *   Check your time zone:   https://tinyurl.c
 om/xevu7dxf\n\n\nONLY for Members and Alternates\n   *   Please join via t
 he above Main Zoom Webinar link and staff will promote you to panelist.\n 
   *   Alternate replacement confirmations – In order to keep track of al
 ternate replacements\, use the google form [docs.google.com]<https://urlde
 fense.proofpoint.com/v2/url?u=https-3A__docs.google.com_a_icann.org_forms_
 d_e_1FAIpQLScuCvS7vKS4MuaXwJmDcUHtOTskg6t5qrSETKlCKgokRK17gA_viewform&d=Dw
 MGaQ&c=FmY1u3PJp6wrcrwll3mSVzgfkbPSS6sJms7xcl4I5cM&r=k7uKdjSb7_ZjItyVqrCYH
 o_rKms9SFxlmbYEJqG-y9I&m=nolHdg97oXWvSIebEV59gQPCP3Cs3j6TEIGl6X0ezI8&s=BTA
 VDD9SMwAv9zVWbP73KVqCQ9NH14D-QKfuG8vjXzo&e=> to communicate who the altern
 ate is replacing and for which period. This information will be publicly p
 osted so that the EPDP Team is aware at any time who is active. Alternate 
 Assignment – EPDP Phase 2A wiki page<https://community.icann.org/x/h4jzC
 >.\n   *   Members (and alternates replacing members)\, please select Pane
 lists and Attendees when posting to the chat in order for everyone to see 
 and to be captured afterwards.\n   *   Alternates not replacing a member: 
 Please rename your line by adding THREE Zs - (zzz)’before your name and 
 add\, in parentheses at the end\, (your affiliation - alternate). To renam
 e in Zoom\, hover over your name and click ‘rename’.\n   *   Alternate
 s (not replacing a member) are not allowed to engage in the chat (apart fr
 om private chats) or use any of the other zoom room functionalities such a
 s raising hands or agreeing / disagreeing.\n\n\n\nOnly for Observers:\n\n 
   *   Observers will have ability to view member chat and information shar
 ed in the zoom webinar room. Observers will not be able to use chat or rai
 se hands.\n\nThank you.\n\nKind regards\,\n\nTerri\n\n
UID:F2EA9CAB-2D7A-482A-9D17-8F85B29CDBCD
SUMMARY;LANGUAGE=en-US:GNSO Temp Spec gTLD RD EPDP – Phase 2A call 
DTSTART;TZID=UTC:20210715T140000
DTEND;TZID=UTC:20210715T153000
CLASS:PUBLIC
PRIORITY:5
DTSTAMP:20210607T153526Z
TRANSP:OPAQUE
STATUS:CONFIRMED
SEQUENCE:0
LOCATION;LANGUAGE=en-US:14:00 UTC | https://icann.zoom.us/j/92181477886?pwd
 =TlJHTU5EY1d3bUxLV2s3UStPS2MxZz09
X-MICROSOFT-CDO-APPT-SEQUENCE:0
X-MICROSOFT-CDO-OWNERAPPTID:2119580101
X-MICROSOFT-CDO-BUSYSTATUS:TENTATIVE
X-MICROSOFT-CDO-INTENDEDSTATUS:BUSY
X-MICROSOFT-CDO-ALLDAYEVENT:FALSE
X-MICROSOFT-CDO-IMPORTANCE:1
X-MICROSOFT-CDO-INSTTYPE:0
X-MICROSOFT-DONOTFORWARDMEETING:FALSE
X-MICROSOFT-DISALLOW-COUNTER:TRUE
BEGIN:VALARM
DESCRIPTION:REMINDER
TRIGGER;RELATED=START:-PT15M
ACTION:DISPLAY
END:VALARM
END:VEVENT
END:VCALENDAR
