BEGIN:VCALENDAR
METHOD:REQUEST
PRODID:Microsoft Exchange Server 2010
VERSION:2.0
BEGIN:VTIMEZONE
TZID:India Standard Time
BEGIN:STANDARD
DTSTART:16010101T000000
TZOFFSETFROM:+0530
TZOFFSETTO:+0530
END:STANDARD
BEGIN:DAYLIGHT
DTSTART:16010101T000000
TZOFFSETFROM:+0530
TZOFFSETTO:+0530
END:DAYLIGHT
END:VTIMEZONE
BEGIN:VEVENT
ORGANIZER;CN=Michelle DeSmyter:MAILTO:michelle.desmyter@icann.org
ATTENDEE;ROLE=REQ-PARTICIPANT;PARTSTAT=NEEDS-ACTION;RSVP=FALSE;CN=gnso-impl
 -thickwhois-rt@icann.org:MAILTO:gnso-impl-thickwhois-rt@icann.org
DESCRIPTION;LANGUAGE=en-US:Hello\, All\,\n\nPlease take note of the schedul
 ed date and time for the Thick WHOIS Implementation Review Team Meeting at
  ICANN57 in Hyderabad. This meeting is scheduled for 8\, November 2016\, a
 t 17:00-18:15 local time.\n\n        *   Adobe Connect https://participate
 .icann.org/hyd57-hall2\n        *   English Audio http://stream.icann.org:
 8000/hyd57-hall2-en.m3u\n   *   English Audio (Low Bitrate)  http://stream
 .icann.org:8000/hyd57-hall2-en-lo.m3u\n\n\n\n\nKind regards\,\nMichelle\n\
 n
SUMMARY;LANGUAGE=en-US:Thick WHOIS Implementation Review Team Meeting ICANN
 57 Hall 2 
DTSTART;TZID=India Standard Time:20161108T170000
DTEND;TZID=India Standard Time:20161108T181500
UID:A8D05673-6ACE-49AC-91EC-18718F247130
CLASS:PUBLIC
PRIORITY:5
DTSTAMP:20161102T152021Z
TRANSP:OPAQUE
STATUS:CONFIRMED
SEQUENCE:0
LOCATION;LANGUAGE=en-US:ICANN57 Hyderabad   https://participate.icann.org/h
 yd57-hall2
X-MICROSOFT-CDO-APPT-SEQUENCE:0
X-MICROSOFT-CDO-OWNERAPPTID:2114656108
X-MICROSOFT-CDO-BUSYSTATUS:TENTATIVE
X-MICROSOFT-CDO-INTENDEDSTATUS:BUSY
X-MICROSOFT-CDO-ALLDAYEVENT:FALSE
X-MICROSOFT-CDO-IMPORTANCE:1
X-MICROSOFT-CDO-INSTTYPE:0
X-MICROSOFT-DISALLOW-COUNTER:FALSE
BEGIN:VALARM
DESCRIPTION:REMINDER
TRIGGER;RELATED=START:-PT15M
ACTION:DISPLAY
END:VALARM
END:VEVENT
END:VCALENDAR
