BEGIN:VCALENDAR
VERSION:2.0
PRODID:-//Microsoft Corporation//Outlook for Mac MIMEDIR//EN
METHOD:PUBLISH
BEGIN:VTIMEZONE
TZID:Casablanca
X-ENTOURAGE-CFTIMEZONE:Africa/Casablanca
X-ENTOURAGE-TZID:5
BEGIN:STANDARD
RRULE:FREQ=YEARLY;INTERVAL=1;BYSECOND=0;BYMINUTE=0;BYHOUR=3;BYDAY=-1SU;BYM
 ONTH=10
TZOFFSETFROM:+0100
TZOFFSETTO:+0000
DTSTART:20151025T030000
END:STANDARD
BEGIN:DAYLIGHT
RRULE:FREQ=YEARLY;INTERVAL=1;BYSECOND=0;BYMINUTE=0;BYHOUR=2;BYDAY=3SU;BYMO
 NTH=7
TZOFFSETFROM:+0000
TZOFFSETTO:+0100
DTSTART:20150719T020000
END:DAYLIGHT
END:VTIMEZONE
BEGIN:VEVENT
UID:node-8337-0@meetings.icann.org
X-ENTOURAGE_UUID:F88DA0A6-D252-47CC-B1AB-5918375F5DAC
DTSTAMP:20160301T110022Z
DTSTART;TZID=Casablanca:20160306T120000
DTEND;TZID=Casablanca:20160306T130000
LAST-MODIFIED:20160301T110022Z
SUMMARY:Thick Whois Policy Implementation - Meeting with the IRT
DESCRIPTION:A working session geared toward members of the Thick Whois
  Implementation Review Team and other interested parties\, such as
  registries and registrars. Participants will discuss the latest updates
  to the draft policy implementation plan. These discussions will include
  topics of particular interest to all gTLD registries and registrars
  including future requirements for all contracted parties\,
  implementation mechanisms\, timeline and coordination with
  implementation of the Registry Data Access Protocol (RDAP). -
  https://meetings.icann.org/en/marrakech55/schedule/sun-thick-whois-irt\n
LOCATION:Orangeraie
ORGANIZER:MAILTO:aysegul.tekce@icann.org
SEQUENCE:0
X-MICROSOFT-CDO-BUSYSTATUS:BUSY
X-MICROSOFT-CDO-ALLDAYEVENT:FALSE
X-MICROSOFT-DISALLOW-COUNTER:TRUE
X-MICROSOFT-CDO-INSTTYPE:0
END:VEVENT
END:VCALENDAR
