BEGIN:VCALENDAR
VERSION:2.0
PRODID:-//Microsoft Corporation//Outlook for Mac MIMEDIR//EN
METHOD:PUBLISH
BEGIN:VTIMEZONE
TZID:Istanbul
X-ENTOURAGE-CFTIMEZONE:Europe/Istanbul
X-ENTOURAGE-TZID:90
BEGIN:STANDARD
RRULE:FREQ=YEARLY;INTERVAL=1;BYSECOND=0;BYMINUTE=0;BYHOUR=4;BYDAY=2SU;BYMO
 NTH=11
TZOFFSETFROM:+0300
TZOFFSETTO:+0200
DTSTART:20151108T040000
END:STANDARD
BEGIN:DAYLIGHT
RRULE:FREQ=YEARLY;INTERVAL=1;BYSECOND=0;BYMINUTE=0;BYHOUR=3;BYDAY=-1SU;BYM
 ONTH=3
TZOFFSETFROM:+0200
TZOFFSETTO:+0300
DTSTART:20160327T030000
END:DAYLIGHT
END:VTIMEZONE
BEGIN:VEVENT
UID:8DEE8885-2416-4C42-A419-6BB088875786
X-ENTOURAGE_UUID:794D039A-8AA4-4237-9158-2F4B6CDBB88B
DTSTAMP:20160525T070807Z
DTSTART;TZID=Istanbul:20160607T210000
DTEND;TZID=Istanbul:20160607T220000
LAST-MODIFIED:20160601T085854Z
SUMMARY:Thick Whois IRT Meeting 
DESCRIPTION:Dear Colleagues\,\n\nAs mentioned during our last meeting on
  31 May\, the next Thick Whois Implementation Review Team teleconference
  is scheduled for Tuesday 7 June 2016 at 18:00 UTC for 1 hour (other time
  zones: http://tinyurl.com/twirt-7jun16)\n\n\nRemote
  participation:\nAdobe Connect:
  https://icann.adobeconnect.com/thick-whois-irt/\n\nYou can join by
  dialing one of the access numbers
  below.\nMobile:tel://17193252630\,*\,\,9701145865#\nPhone Only Controls
  :https://go.conferencinghub.com/21uoq\nPrimary Access
  Number:1-719-325-2630\nGuest Passcode:970 114 5865\nAdditional
  Access:\nUSA:1-719-325-2630\nCanada\, Calgary:+1 403 407 5780\nCanada\,
  Montreal:+1 514 669 5909\nCanada\, Toronto:+1 416 915 3615\nCanada\,
  Vancouver:+1 604 205 5118\nArgentina (toll free):0800 800
  1250\nArgentina\, Buenos Aires:+54 (0) 11 5172 6019\nAustralia (toll
  free):1 800 720 493\nAustralia\, Brisbane:+61 (0) 7 3015
  0608\nAustralia\, Melbourne:+61 (0) 3 8687 0614\nAustralia\, Sydney:+61
  (0) 2 8017 6391\nAustria (toll free):0800 886 63404\nAustria\,
  Vienna:+43 (0) 1 25302 1775\nBahrain (toll free):8008 1214\nBahrain\,
  Manama:+973 1650 0402\nBelarus (toll free):8 820 0011 0353\nBelgium
  (toll free):0800 39 268\nBelgium\, Brussels:+32 (0) 2 400 1980\nBrazil
  (toll free):0800 887 0283\nBrazil\, Rio de Janeiro:+55 21 4560
  0023\nBrazil\, Sao Paulo:+55 11 4935 7122\nBulgaria (toll free):00800
  111 4944\nBulgaria\, Sofia:+359 (0) 2 491 7244\nCanada (toll free):1 855
  950 3706\nChile (toll free):171 800 835 943\nChile\, Santiago:+56 (0) 2
  2666 0711\nChina (national):+400 681 8104\nChina\, Beijing:+86 10 5667
  0005\nChina\, Shanghai:+86 21 2039 7079\nColombia (toll free):01 800 755
  0043\nColombia\, Bogota:+57 1 508 8112\nCosta Rica (toll free):800 542
  5331\nCroatia (toll free):0800 223 004\nCyprus (toll free):800
  97400\nCzech Republic (toll free):800 701 236\nCzech Republic\,
  Prague:+420 225 986 505\nDenmark (toll free):80 70 35 78\nDenmark\,
  Copenhagen:+45 32 71 16 70\nEgypt (toll free):0800 000 0401\nEstonia
  (toll free):800 011 1569\nEstonia\, Tallinn:+372 622 6519\nFiji (toll
  free):00800 3317\nFinland (toll free):0800 772 230\nFinland\,
  Helsinki:+358 (0) 9 2310 1611\nFrance (national):0811 655 134\nFrance
  (toll free):0800 946 112\nFrance\, Paris:+33 (0) 1 76 77 22 50\nGermany
  (national):01801 001 378\nGermany (toll free):0800 588 9225\nGermany\,
  Frankfurt:+49 (0) 69 5060 9515\nGermany\, Munich:+49 (0) 89 24443
  2900\nGreece (toll free):00800 128 811\nGreece\, Athens:+30 211 181
  3815\nHong Kong:+852 3018 9103\nHong Kong (toll free):800 968
  082\nHungary (toll free):068 001 9662\nHungary\, Budapest:+36 1 808
  8134\nIceland (toll free):800 9841\nIndia (toll free):000 800 100
  7687\nIndia\, Bangalore:+91 (0) 80 6127 5084\nIndia\, Chennai:+91 (0)44
  6688 6057\nIndia\, Delhi:+91 (0) 11 6641 1378\nIndia\, Mumbai:+91 (0)22
  6187 5027\nIndonesia (toll free):007 803 321 8120\nIreland
  (national):1890 907 722\nIreland (toll free):1800 937 695\nIreland\,
  Dublin:+353 (0) 1 246 5614\nIsrael (toll free):180 921 2890\nIsrael\,
  Tel Aviv:+972 (0)3 763 0384\nItaly (toll free):800 148 288\nItaly\,
  Milan:+39 02 3046 4837\nItaly\, Rome:+39 06 4523 6635\nJapan
  (mobile):0120 270 611\nJapan (toll free):0120 286 011\nJapan\, Osaka:+81
  (0) 6 4560 0303\nJapan\, Tokyo:+81 (0) 3 4560 1274\nKazakhstan (toll
  free):8800 333 7552\nLatvia (toll free):8000 4374\nLatvia\, Riga:+371
  6778 2598\nLithuania (toll free):8800 31445\nLithuania\, Vilnius:+370
  5205 5239\nLuxembourg:+352 2730 2276\nLuxembourg (toll free):800
  28428\nMalaysia (toll free):1 800 815 805\nMalaysia\,Kuala Lumpur:+60
  (0) 3 7723 7140\nMexico (toll free):01 800 283 3129\nMexico\,
  Guadalajara:+52 33 4162 5891\nMexico\, Mexico City:+52 55 8421
  0857\nMexico\, Monterrey:+52 81 4770 2472\nMorocco (toll free):0800 092
  258\nMorocco\, Casablanca:+212 (0)520 480 128\nNetherlands (toll
  free):0800 020 0593\nNetherlands\, Amsterdam:+31 (0) 20 716 8266\nNew
  Zealand (toll free):0800 459 127\nNew Zealand\, Auckland:+64 (0) 9 929
  1769\nNew Zealand\, Christchurch:+64 (0) 3 974 2597\nNew Zealand\,
  Wellington:+64 (0) 4 909 4676\nNigeria\, Lagos:+234 1 277 5140\nNorway
  (toll free):800 58459\nNorway\, Oslo:+47 2162 4054\nOman (toll free):800
  77269\nPanama (toll free):00800 223 1430\nPanama\, Panama City:+507 8
  339 782\nPeru (toll free):0800 78125\nPeru\, Lima:+51 (0) 1 700
  9587\nPhilippines (toll free):1800 111 017 51\nPhilippines\, Manila:+63
  (0)2 395 3365\nPoland (toll free):00800 121 4340\nPoland\, Warsaw:+48 22
  295 3504\nPortugal (toll free):800 784 434\nPortugal\, Lisbon:+351 21
  316 4041\nQatar (toll free):00 800 100 499\nRomania (toll free):0800 801
  030\nRomania\, Bucharest:+40 (0) 21 529 3969\nRussia (toll free):8 800
  500 9319\nRussia\, Moscow:+7 495 213 0988\nSaudi Arabia (toll free):800
  844 4963\nSaudi Arabia (toll free):800 850 0227\nSerbia (toll free):0800
  190 698\nSingapore:+65 6622 1773\nSingapore (toll free):800 616
  3175\nSlovakia (toll free):0800 001 661\nSlovakia\, Bratislava:+421 (0)2
  3321 5333\nSlovenia (toll free):0800 80994\nSlovenia\, Ljubljana:+386 1
  600 1622\nSouth Africa (toll free):0800 988 886\nSouth Africa\,
  Johannesburg:+27 (0)11 019 7087\nSouth Korea (toll free):007 986 136
  2233\nSouth Korea\, Seoul:+82 (0) 2 6007 0072\nSpain (toll free):900 803
  689\nSpain\, Barcelona:+34 93 800 1935\nSpain\, Madrid:+34 91 114
  6640\nSweden (toll free):0200 125 456\nSweden\, Stockholm:+46 (0) 8 5065
  3944\nSwitzerland (toll free):0800 841 702\nSwitzerland\, Geneva:+41 (0)
  22 595 4857\nSwitzerland\, Zurich:+41 (0) 44 580 7246\nTaiwan (toll
  free):00 801 615 184\nTaiwan\, Taipei:+886 (0) 2 2656 7213\nThailand
  (toll free):001 800 6136 2243\nTurkey (toll free):00 800 448 828
  358\nTurkey\, Istanbul:+90 212 375 50 13\nUAE (toll free):8000 3570
  2638\nUK (03):+44 (0)330 336 6010\nUK (national):0844 581 8053\nUK
  (national):0845 351 2816\nUK (toll free):0800 368 0950\nUkraine (toll
  free):0800 500 732\nUruguay (toll free):0004 019 0561\nUSA /Canada (toll
  free):1-855-747-8824\nVenezuela (toll free):0800 102 9660\nVenezuela\,
  Caracas:+58 212 720 2342\nVietnam (toll free):1800 9228\n\n\n
ORGANIZER:MAILTO:aysegul.tekce@icann.org
SEQUENCE:0
X-MICROSOFT-CDO-BUSYSTATUS:BUSY
X-MICROSOFT-CDO-ALLDAYEVENT:FALSE
X-MICROSOFT-DISALLOW-COUNTER:FALSE
X-MICROSOFT-CDO-INSTTYPE:0
END:VEVENT
END:VCALENDAR
