BEGIN:VCALENDAR
VERSION:2.0
PRODID:-//Microsoft Corporation//Outlook for Mac MIMEDIR//EN
METHOD:PUBLISH
BEGIN:VTIMEZONE
TZID:Coordinated Universal Time
X-ENTOURAGE-CFTIMEZONE:UTC
X-ENTOURAGE-TZID:93
BEGIN:STANDARD
TZOFFSETFROM:+0000
TZOFFSETTO:+0000
DTSTART:16010101T000000
END:STANDARD
END:VTIMEZONE
BEGIN:VEVENT
UID:6983C539-2B5B-4BED-A2E8-7C18E89D8C48
X-ENTOURAGE_UUID:CF9ADE92-59F5-4C97-BC76-EE5AA5073913
X-MICROSOFT-EXCHANGE-ID:AAMkADFlMDNlNjQ5LTNjNTUtNDJkMC04ZTI0LWFiMTFkOTgwND
 JhMQBGAAAAAAAdZPIZTDF9SJl4Q9bAl0gQBwAFskP3JLIoSYZSK2rNBQTXAIjV8WqdAACjhqXC
 SbKVRZwH7aZE5XhKAAAkNVWNAAA=
X-MICROSOFT-EXCHANGE-CHANGEKEY:DwAAABYAAACjhqXCSbKVRZwH7aZE5XhKAAArf0pA
DTSTAMP:20200903T145315Z
DTSTART;TZID="Coordinated Universal Time":20200914T200000
DTEND;TZID="Coordinated Universal Time":20200914T213000
LAST-MODIFIED:20200903T145315Z
SUMMARY:Webinar in Support of the New gTLD Subsequent Procedures Policy
  Development Process Working Group���s Draft Final Report
DESCRIPTION:Meeting:  Webinar in Support of the New gTLD Subsequent
  Procedures Policy Development Process Working Group���s Draft Final
  Report\n\nDate/time:  Monday\, 14 September 2020 at 20:00 UTC for 90
  minutes \n\n\n\nBefore joining the call: \n\nPlease be sure you have
  read the Expected Standards of Behavior [icann.org]\n\nVisit the Wiki
  agenda page: https://community.icann.org/x/DwC-C\n\nCheck your time
  zone: https://tinyurl.com/y5639mdm\n\n\n\n��        Please click the
  link below to join the
  webinar:\n\nhttps://icann.zoom.us/j/96228789659?pwd=SUNxZ1dGZGlPaVNHcmRNL
 zJrVHdQQT09\n\nPasscode: E91YcT&9X^ \n\n\n\nThe New gTLD Subsequent
  Procedures Policy Development Process Working Group published its draft
  Final Report for public comment on 20 August 2020. This draft report is
  the culmination of several years of deliberations and numerous public
  consultations\, in support of the large number of topics captured in the
  Working Group���s Charter. You can read our blog post about the Working
  Group reaching this milestone here. \n\n\n\nThe Working Group has worked
  extremely hard to reach this point and is looking forward to considering
  feedback received as it seeks to complete its Final Report and deliver
  it to the GNSO Council. To aid in your review and understanding of the
  draft Final Report now open for public comment\, the Co-Chairs have
  scheduled a webinar on Monday\, 14 September 2020 at 20:00 UTC to
  present on a selection of the topics within the draft report\, answer
  questions you may have\, and provide context where it may be
  needed.\n\n\n\n��        Or iPhone one-tap: \n\nUS:
  +16699006833\,\,96228789659#\,\,\,\,\,\,0#\,\,8883615260# or
  +13462487799\,\,96228789659#\,\,\,\,\,\,0#\,\,8883615260# \n\n��
         \n\n��        Or Telephone:\n\nDial(for higher quality\, dial a
  number based on your current location):\n\nUS: +1 669 900 6833 or +1 346
  248 7799 or +1 253 215 8782 or +1 312 626 6799 or +1 929 436 2866 or +1
  301 715 8592 or 888 788 0099 (Toll Free) or 877 853 5247 (Toll Free)
  \n\n\n\nWebinar ID: 962 2878 9659\n\nPasscode:
  8883615260\n\nInternational numbers available:
  https://icann.zoom.us/u/acEBw59hZz\n\n\n\nWebinar recordings will be
  published and circulated shortly after the end of the session.\n\n\n\n\n
LOCATION:20:00 UTC |
  https://icann.zoom.us/j/96228789659?pwd=SUNxZ1dGZGlPaVNHcmRNLzJrVHdQQT09
ORGANIZER:MAILTO:PolicyCalendar@icann.org
SEQUENCE:3
ATTENDEE;ROLE=REQ-PARTICIPANT;RSVP=FALSE;CN=gnso-newgtld-wg@icann.org;PART
 STAT=NEEDS-ACTION:MAILTO:gnso-newgtld-wg@icann.org
ATTENDEE;ROLE=REQ-PARTICIPANT;RSVP=FALSE;CN=council@gnso.icann.org;PARTSTA
 T=NEEDS-ACTION:MAILTO:council@gnso.icann.org
ATTENDEE;ROLE=REQ-PARTICIPANT;RSVP=FALSE;CN="Jeff
  Neuman";PARTSTAT=NEEDS-ACTION:MAILTO:jeff@jjnsolutions.com
ATTENDEE;ROLE=REQ-PARTICIPANT;RSVP=FALSE;CN="Cheryl
  Langdon-Orr";PARTSTAT=NEEDS-ACTION:MAILTO:langdonorr@gmail.com
ATTENDEE;ROLE=REQ-PARTICIPANT;RSVP=FALSE;CN="Steve
  Chan";PARTSTAT=NEEDS-ACTION:MAILTO:steve.chan@icann.org
ATTENDEE;ROLE=REQ-PARTICIPANT;RSVP=FALSE;CN="Emily
  Barabas";PARTSTAT=NEEDS-ACTION:MAILTO:emily.barabas@icann.org
ATTENDEE;ROLE=REQ-PARTICIPANT;RSVP=FALSE;CN="Julie
  Hedlund";PARTSTAT=NEEDS-ACTION:MAILTO:julie.hedlund@icann.org
ATTENDEE;ROLE=REQ-PARTICIPANT;RSVP=FALSE;CN="Nathalie
  Peregrine";PARTSTAT=NEEDS-ACTION:MAILTO:nathalie.peregrine@icann.org
ATTENDEE;ROLE=REQ-PARTICIPANT;RSVP=FALSE;CN="Michelle
  DeSmyter";PARTSTAT=NEEDS-ACTION:MAILTO:michelle.desmyter@icann.org
ATTENDEE;ROLE=REQ-PARTICIPANT;RSVP=FALSE;CN="Julie
  Bisland";PARTSTAT=NEEDS-ACTION:MAILTO:julie.bisland@icann.org
ATTENDEE;ROLE=REQ-PARTICIPANT;RSVP=FALSE;CN="Andrea
  Glandon";PARTSTAT=NEEDS-ACTION:MAILTO:andrea.glandon@icann.org
ATTENDEE;ROLE=REQ-PARTICIPANT;RSVP=FALSE;CN="Terri
  Agnew";PARTSTAT=NEEDS-ACTION:MAILTO:terri.agnew@icann.org
ATTENDEE;ROLE=REQ-PARTICIPANT;RSVP=FALSE;CN="Board
  Calendaring";PARTSTAT=NEEDS-ACTION:MAILTO:Board-Calendaring@icann.org
X-MICROSOFT-CDO-BUSYSTATUS:BUSY
X-MICROSOFT-CDO-ALLDAYEVENT:FALSE
X-MICROSOFT-DISALLOW-COUNTER:TRUE
X-MICROSOFT-DONOTFORWARDMEETING:FALSE
X-MICROSOFT-CDO-INSTTYPE:0
BEGIN:VALARM
ACTION:DISPLAY
DESCRIPTION:REMINDER
TRIGGER;RELATED=START:-PT00H15M00S
END:VALARM
END:VEVENT
END:VCALENDAR
