BEGIN:VCALENDAR
VERSION:2.0
PRODID:-//Microsoft Corporation//Outlook for Mac MIMEDIR//EN
METHOD:PUBLISH
BEGIN:VTIMEZONE
TZID:Coordinated Universal Time
X-ENTOURAGE-CFTIMEZONE:UTC
X-ENTOURAGE-TZID:93
BEGIN:STANDARD
TZOFFSETFROM:+0000
TZOFFSETTO:+0000
DTSTART:16010101T000000
END:STANDARD
END:VTIMEZONE
BEGIN:VEVENT
UID:DA91FFFD-CD74-4CA7-9F9A-EAD3F224D7AE
X-ENTOURAGE_UUID:DA91FFFD-CD74-4CA7-9F9A-EAD3F224D7AE
X-MICROSOFT-EXCHANGE-ID:AAMkADFlMDNlNjQ5LTNjNTUtNDJkMC04ZTI0LWFiMTFkOTgwND
 JhMQBGAAAAAAAdZPIZTDF9SJl4Q9bAl0gQBwAFskP3JLIoSYZSK2rNBQTXAIjV8WqdAACjhqXC
 SbKVRZwH7aZE5XhKAAJbJBSYAAA=
X-MICROSOFT-EXCHANGE-CHANGEKEY:DwAAABYAAACjhqXCSbKVRZwH7aZE5XhKAAJbO2Ro
DTSTAMP:20230112T224324Z
DTSTART;TZID="Coordinated Universal Time":20230125T123000
DTEND;TZID="Coordinated Universal Time":20230125T133000
LAST-MODIFIED:20230112T224327Z
SUMMARY:GNSO Standing Selection Committee call 
DESCRIPTION:Meeting: GNSO Standing Selection Committee call \n\nDate/time:
  Wednesday\, 25 January 2023 at 12:30 UTC for 60 minutes\n\n \n\nJoin the
  Zoom Room directly:
  https://icann.zoom.us/j/94560333319?pwd=SE9NTGdFRHNhRUdOZlBoYi9jR1h2UT09
    \n\nMeeting ID: 945 6033 3319\n\nPasscode: AqA*NR37+s\n\n \n\nBefore
  joining the call: \n\nPlease send apologies and dial out requests to
  gnso-secs@icann.org only\n\nPlease be sure you have read the Expected
  Standards of Behavior\n\nVisit the Wiki agenda page:
  https://community.icann.org/x/cACjDQ \n\nCheck your time zone:
   https://tinyurl.com/ycktmwwp \n\n  \n\nAudio only: \n\nOne tap
  mobile\n\n+13126266799\,\,94560333319#\,\,\,\,*8419095341# US
  (Chicago)\n\n+19294362866\,\,94560333319#\,\,\,\,*8419095341# US (New
  York)\n\n \n\nMeeting ID: 945 6033 3319\n\nPasscode: 8419095341\n\nFind
  your local number: https://icann.zoom.us/u/aIFn14e8S   \n\n \n\n
  \n\nThank you.\n\nKind regards\,\n\n\nTerri\n\n \n\n \n
LOCATION:12:30 UTC |
  https://icann.zoom.us/j/94560333319?pwd=SE9NTGdFRHNhRUdOZlBoYi9jR1h2UT09
    
ORGANIZER:MAILTO:PolicyCalendar@icann.org
SEQUENCE:0
ATTENDEE;ROLE=REQ-PARTICIPANT;RSVP=FALSE;CN=gnso-ssc@icann.org;PARTSTAT=NE
 EDS-ACTION:MAILTO:gnso-ssc@icann.org
ATTENDEE;ROLE=REQ-PARTICIPANT;RSVP=FALSE;CN="Emily
  Barabas";PARTSTAT=NEEDS-ACTION:MAILTO:emily.barabas@icann.org
ATTENDEE;ROLE=REQ-PARTICIPANT;RSVP=FALSE;CN="Julie
  Hedlund";PARTSTAT=NEEDS-ACTION:MAILTO:julie.hedlund@icann.org
ATTENDEE;ROLE=REQ-PARTICIPANT;RSVP=FALSE;CN="Nathalie
  Peregrine";PARTSTAT=NEEDS-ACTION:MAILTO:nathalie.peregrine@icann.org
ATTENDEE;ROLE=REQ-PARTICIPANT;RSVP=FALSE;CN="Michelle
  DeSmyter";PARTSTAT=NEEDS-ACTION:MAILTO:michelle.desmyter@icann.org
ATTENDEE;ROLE=REQ-PARTICIPANT;RSVP=FALSE;CN="Julie
  Bisland";PARTSTAT=NEEDS-ACTION:MAILTO:julie.bisland@icann.org
ATTENDEE;ROLE=REQ-PARTICIPANT;RSVP=FALSE;CN="Devan
  Reed";PARTSTAT=NEEDS-ACTION:MAILTO:devan.reed@icann.org
ATTENDEE;ROLE=REQ-PARTICIPANT;RSVP=FALSE;CN="Terri
  Agnew";PARTSTAT=NEEDS-ACTION:MAILTO:terri.agnew@icann.org
ATTENDEE;ROLE=REQ-PARTICIPANT;RSVP=FALSE;PARTSTAT=NEEDS-ACTION:MAILTO:jola
 kin69@gmail.com
ATTENDEE;ROLE=REQ-PARTICIPANT;RSVP=FALSE;PARTSTAT=NEEDS-ACTION:MAILTO:arse
 nebaguma@gmail.com
X-MICROSOFT-CDO-BUSYSTATUS:BUSY
X-MICROSOFT-CDO-ALLDAYEVENT:FALSE
X-MICROSOFT-DISALLOW-COUNTER:TRUE
X-MICROSOFT-DONOTFORWARDMEETING:FALSE
X-MICROSOFT-CDO-INSTTYPE:0
BEGIN:VALARM
ACTION:DISPLAY
DESCRIPTION:REMINDER
TRIGGER;RELATED=START:-PT00H15M00S
END:VALARM
END:VEVENT
END:VCALENDAR
