BEGIN:VCALENDAR
VERSION:2.0
PRODID:-//Microsoft Corporation//Outlook for Mac MIMEDIR//EN
METHOD:PUBLISH
BEGIN:VTIMEZONE
TZID:Coordinated Universal Time
X-ENTOURAGE-CFTIMEZONE:UTC
X-ENTOURAGE-TZID:93
BEGIN:STANDARD
TZOFFSETFROM:+0000
TZOFFSETTO:+0000
DTSTART:16010101T000000
END:STANDARD
END:VTIMEZONE
BEGIN:VEVENT
UID:E64928AA-7093-491F-94AD-D3EDC723F3B6
X-ENTOURAGE_UUID:E64928AA-7093-491F-94AD-D3EDC723F3B6
X-MICROSOFT-EXCHANGE-ID:AAMkADFlMDNlNjQ5LTNjNTUtNDJkMC04ZTI0LWFiMTFkOTgwND
 JhMQBGAAAAAAAdZPIZTDF9SJl4Q9bAl0gQBwAFskP3JLIoSYZSK2rNBQTXAIjV8WqdAACjhqXC
 SbKVRZwH7aZE5XhKAAJbJBRIAAA=
X-MICROSOFT-EXCHANGE-CHANGEKEY:DwAAABYAAACjhqXCSbKVRZwH7aZE5XhKAAJbOuC6
DTSTAMP:20230103T145105Z
DTSTART;TZID="Coordinated Universal Time":20230111T130000
DTEND;TZID="Coordinated Universal Time":20230111T140000
LAST-MODIFIED:20230103T145106Z
SUMMARY:GNSO Standing Selection Committee (SSC)
DESCRIPTION:Meeting: GNSO Standing Selection Committee (SSC)\nDate/Time:
  Wednesday\, 11 January 2022 at 13:00 UTC for 60 minutes\n\n \n\nJoin the
  Zoom Room directly:
  https://icann.zoom.us/j/94560333319?pwd=SE9NTGdFRHNhRUdOZlBoYi9jR1h2UT09
    \n\nMeeting ID: 945 6033 3319\n\nPasscode: AqA*NR37+s\n\n \n\nBefore
  joining the call: \n\nPlease send apologies and dial out requests to
  gnso-secs@icann.org only\n\nPlease be sure you have read the Expected
  Standards of Behavior\n\nVisit the Wiki agenda page:
  https://community.icann.org/x/1QGBDQ \n\nCheck your time zone:
   https://tinyurl.com/yhvknjen \n\n  \n\nAudio only: \n\nMeeting ID: 945
  6033 3319\n\nPasscode: 8419095341\n\nFind your local number:
  https://icann.zoom.us/u/aIFn14e8S   \n\n \n\n \n
LOCATION:13:00 UTC |
  https://icann.zoom.us/j/94560333319?pwd=SE9NTGdFRHNhRUdOZlBoYi9jR1h2UT09
ORGANIZER:MAILTO:PolicyCalendar@icann.org
SEQUENCE:0
ATTENDEE;ROLE=REQ-PARTICIPANT;RSVP=FALSE;CN=gnso-ssc@icann.org;PARTSTAT=NE
 EDS-ACTION:MAILTO:gnso-ssc@icann.org
ATTENDEE;ROLE=REQ-PARTICIPANT;RSVP=FALSE;CN="Nathalie
  Peregrine";PARTSTAT=NEEDS-ACTION:MAILTO:nathalie.peregrine@icann.org
ATTENDEE;ROLE=REQ-PARTICIPANT;RSVP=FALSE;CN="Terri
  Agnew";PARTSTAT=NEEDS-ACTION:MAILTO:terri.agnew@icann.org
ATTENDEE;ROLE=REQ-PARTICIPANT;RSVP=FALSE;CN="Michelle
  DeSmyter";PARTSTAT=NEEDS-ACTION:MAILTO:michelle.desmyter@icann.org
ATTENDEE;ROLE=REQ-PARTICIPANT;RSVP=FALSE;CN="Julie
  Bisland";PARTSTAT=NEEDS-ACTION:MAILTO:julie.bisland@icann.org
ATTENDEE;ROLE=REQ-PARTICIPANT;RSVP=FALSE;CN="Devan
  Reed";PARTSTAT=NEEDS-ACTION:MAILTO:devan.reed@icann.org
X-MICROSOFT-CDO-BUSYSTATUS:BUSY
X-MICROSOFT-CDO-ALLDAYEVENT:FALSE
X-MICROSOFT-DISALLOW-COUNTER:TRUE
X-MICROSOFT-DONOTFORWARDMEETING:FALSE
X-MICROSOFT-CDO-INSTTYPE:0
BEGIN:VALARM
ACTION:DISPLAY
DESCRIPTION:REMINDER
TRIGGER;RELATED=START:-PT00H15M00S
END:VALARM
END:VEVENT
END:VCALENDAR
