BEGIN:VCALENDAR
METHOD:CANCEL
PRODID:Microsoft Exchange Server 2010
VERSION:2.0
BEGIN:VTIMEZONE
TZID:UTC
BEGIN:STANDARD
DTSTART:16010101T000000
TZOFFSETFROM:+0000
TZOFFSETTO:+0000
END:STANDARD
BEGIN:DAYLIGHT
DTSTART:16010101T000000
TZOFFSETFROM:+0000
TZOFFSETTO:+0000
END:DAYLIGHT
END:VTIMEZONE
BEGIN:VEVENT
ORGANIZER;CN=ICANN Policy Calendar:MAILTO:PolicyCalendar@icann.org
ATTENDEE;ROLE=REQ-PARTICIPANT;PARTSTAT=NEEDS-ACTION;RSVP=FALSE;CN=gnso-tpr@
 icann.org:MAILTO:gnso-tpr@icann.org
ATTENDEE;ROLE=REQ-PARTICIPANT;PARTSTAT=NEEDS-ACTION;RSVP=FALSE;CN=Caitlin T
 ubergen:MAILTO:caitlin.tubergen@icann.org
ATTENDEE;ROLE=REQ-PARTICIPANT;PARTSTAT=NEEDS-ACTION;RSVP=FALSE;CN=Berry Cob
 b:MAILTO:Berry.Cobb@icann.org
ATTENDEE;ROLE=REQ-PARTICIPANT;PARTSTAT=NEEDS-ACTION;RSVP=FALSE;CN=Michelle 
 DeSmyter:MAILTO:michelle.desmyter@icann.org
ATTENDEE;ROLE=REQ-PARTICIPANT;PARTSTAT=NEEDS-ACTION;RSVP=FALSE;CN=Devan Ree
 d:MAILTO:devan.reed@icann.org
ATTENDEE;ROLE=REQ-PARTICIPANT;PARTSTAT=NEEDS-ACTION;RSVP=FALSE;CN=Terri Agn
 ew:MAILTO:terri.agnew@icann.org
ATTENDEE;ROLE=REQ-PARTICIPANT;PARTSTAT=NEEDS-ACTION;RSVP=FALSE;CN=Julie Hed
 lund:MAILTO:julie.hedlund@icann.org
ATTENDEE;ROLE=REQ-PARTICIPANT;PARTSTAT=NEEDS-ACTION;RSVP=FALSE;CN=Christian
  Wheeler:MAILTO:christian.wheeler@icann.org
ATTENDEE;ROLE=REQ-PARTICIPANT;PARTSTAT=NEEDS-ACTION;RSVP=FALSE;CN=Julie Bis
 land:MAILTO:julie.bisland@icann.org
DESCRIPTION;LANGUAGE=en-US:Meeting:  Transfer Policy Review PDP WG\n\nPatte
 rn: Weekly on Tuesdays: 07 November 2023 – 19 December 2023 at 16:00 UTC
  for 90 minutes (No call on 21 November)\n\n\n\nAlternate replacement conf
 irmations – Members who are unable to attend\, please complete the googl
 e form<https://docs.google.com/forms/d/e/1FAIpQLScXP3-H595xH4EFgaR3ydOr-1o
 9BLAVGUIRytxM4d-TDoSQAQ/viewform> to communicate who the alternate is repl
 acing you.\n\n\nJoin the Zoom Webinar: https://icann.zoom.us/j/95363727469
 ?pwd=N3A3OWFSaTlUME9wZzlGajk5VUI3QT09\nPasscode: @TP/^*4wg#\n\n\n\nALL: Be
 fore joining the call:\n\n  *   Please send apologies and dial out request
 s to gnso-secs@icann.org<mailto:gnso-secs@icann.org> only\n  *   Please be
  sure you have read the ICANN Expected Standards of Behavior<https://www.i
 cann.org/resources/pages/expected-standards-2016-06-28-en>\n  *   2023 Wik
 i agenda pages: https://community.icann.org/x/Gow-DQ\n  *   Time conversio
 n link (07 Nov): https://tinyurl.com/2htzcfpy\n\nONLY for Members & Altern
 ates:\n\n  *   Please join via the above Zoom Webinar link and staff will 
 promote you to Panelist\n  *   Alternate assignments will be posted to the
  Alternate Log-Transfer Policy Review PDP wiki page<https://community.ican
 n.org/x/V4aUCQ>.\n  *   Members and alternates replacing members\, please 
 select Everyone when posting to the chat in order for everyone to see and 
 to be captured afterwards.\n  *   Alternates (not replacing a member): Ple
 ase rename your line in Zoom by adding THREE Zs “zzz” before your name
 \, and in parentheses\, (your affiliation - alternate)\, after your name.\
 n  *   Alternates (not replacing a member) are not allowed to engage in th
 e chat or use any of the other zoom room functionalities such as raising h
 ands or agreeing/disagreeing.\n\nONLY for Observers:\n\n  *   Observers wi
 ll have ability to view member chat and information shared in the zoom web
 inar room. Observers will not be able to use chat or raise hands.\n\nFor A
 udio only:\nOne tap mobile:\nUS: +19294362866\,\,95363727469#\,\,\,\,*7490
 739013# or +13017158592\,\,95363727469#\,\,\,\,*7490739013#\n\nWebinar ID:
  953 6372 7469\nPasscode: 7490739013\nInternational numbers available: htt
 ps://icann.zoom.us/u/acdLFXPLp6\n\n
UID:C540FF71-EF7E-4D09-9B54-BD846A778098
RECURRENCE-ID;TZID=UTC:20231121T160000
SUMMARY;LANGUAGE=en-US:Canceled: Transfer Policy Review PDP WG 
DTSTART;TZID=UTC:20231121T160000
DTEND;TZID=UTC:20231121T173000
CLASS:PUBLIC
PRIORITY:5
DTSTAMP:20230922T133158Z
TRANSP:TRANSPARENT
STATUS:CANCELLED
SEQUENCE:1
LOCATION;LANGUAGE=en-US:16:00 UTC | https://icann.zoom.us/j/95363727469?pwd
 =N3A3OWFSaTlUME9wZzlGajk5VUI3QT09 
X-MICROSOFT-CDO-APPT-SEQUENCE:1
X-MICROSOFT-CDO-OWNERAPPTID:2121905829
X-MICROSOFT-CDO-BUSYSTATUS:FREE
X-MICROSOFT-CDO-INTENDEDSTATUS:FREE
X-MICROSOFT-CDO-ALLDAYEVENT:FALSE
X-MICROSOFT-CDO-IMPORTANCE:1
X-MICROSOFT-CDO-INSTTYPE:3
X-MICROSOFT-DONOTFORWARDMEETING:FALSE
X-MICROSOFT-DISALLOW-COUNTER:TRUE
END:VEVENT
END:VCALENDAR
