BEGIN:VCALENDAR
METHOD:REQUEST
PRODID:Microsoft Exchange Server 2010
VERSION:2.0
BEGIN:VTIMEZONE
TZID:UTC
BEGIN:STANDARD
DTSTART:16010101T000000
TZOFFSETFROM:+0000
TZOFFSETTO:+0000
END:STANDARD
BEGIN:DAYLIGHT
DTSTART:16010101T000000
TZOFFSETFROM:+0000
TZOFFSETTO:+0000
END:DAYLIGHT
END:VTIMEZONE
BEGIN:VEVENT
ORGANIZER;CN=ICANN Policy Calendar:MAILTO:PolicyCalendar@icann.org
ATTENDEE;ROLE=REQ-PARTICIPANT;PARTSTAT=NEEDS-ACTION;RSVP=FALSE;CN=gnso-tpr@
 icann.org:MAILTO:gnso-tpr@icann.org
ATTENDEE;ROLE=REQ-PARTICIPANT;PARTSTAT=NEEDS-ACTION;RSVP=FALSE;CN=Caitlin T
 ubergen:MAILTO:caitlin.tubergen@icann.org
ATTENDEE;ROLE=REQ-PARTICIPANT;PARTSTAT=NEEDS-ACTION;RSVP=FALSE;CN=Berry Cob
 b:MAILTO:Berry.Cobb@icann.org
ATTENDEE;ROLE=REQ-PARTICIPANT;PARTSTAT=NEEDS-ACTION;RSVP=FALSE;CN=Feodora H
 amza:MAILTO:feodora.hamza@icann.org
ATTENDEE;ROLE=REQ-PARTICIPANT;PARTSTAT=NEEDS-ACTION;RSVP=FALSE;CN=Christian
  Wheeler:MAILTO:christian.wheeler@icann.org
ATTENDEE;ROLE=REQ-PARTICIPANT;PARTSTAT=NEEDS-ACTION;RSVP=FALSE;CN=Wisdom Do
 nkor:MAILTO:wisdom.dk@gmail.com
ATTENDEE;ROLE=REQ-PARTICIPANT;PARTSTAT=NEEDS-ACTION;RSVP=FALSE;CN=Julie Hed
 lund:MAILTO:julie.hedlund@icann.org
ATTENDEE;ROLE=REQ-PARTICIPANT;PARTSTAT=NEEDS-ACTION;RSVP=FALSE;CN=John Emer
 y:MAILTO:john.emery@icann.org
ATTENDEE;ROLE=REQ-PARTICIPANT;PARTSTAT=NEEDS-ACTION;RSVP=FALSE;CN=Julie Bis
 land:MAILTO:julie.bisland@icann.org
ATTENDEE;ROLE=REQ-PARTICIPANT;PARTSTAT=NEEDS-ACTION;RSVP=FALSE;CN=Devan Ree
 d:MAILTO:devan.reed@icann.org
ATTENDEE;ROLE=REQ-PARTICIPANT;PARTSTAT=NEEDS-ACTION;RSVP=FALSE;CN=Terri Agn
 ew:MAILTO:terri.agnew@icann.org
DESCRIPTION;LANGUAGE=en-US:Meeting:  Transfer Policy Review PDP WG\nPattern
 : Weekly on Tuesdays 16:00 UTC for 90 minutes ( 02 July – 30 July 2024)\
 n\nAlternate replacement confirmations – Members who are unable to atten
 d\, please complete the google form<https://docs.google.com/forms/d/e/1FAI
 pQLScXP3-H595xH4EFgaR3ydOr-1o9BLAVGUIRytxM4d-TDoSQAQ/viewform> to communic
 ate who the alternate is replacing you.\n\nJoin the Zoom Webinar: https://
 icann.zoom.us/j/95363727469?pwd=N3A3OWFSaTlUME9wZzlGajk5VUI3QT09\nPasscode
 : @TP/^*4wg#\n\nALL: Before joining the call:\n   *   Please send apologie
 s and dial out requests to gnso-secs@icann.org<mailto:gnso-secs@icann.org>
  only\n   *   Please be sure you have read the ICANN Expected Standards of
  Behavior<https://www.icann.org/resources/pages/expected-standards-2016-06
 -28-en>\n   *   2024 Wiki page: https://community.icann.org/x/S4BFE\n\nONL
 Y for Members &amp\; Alternates:\n   *   Please join via the above Zoom We
 binar link and staff will promote you to Panelist\n   *   Alternate assign
 ments will be posted to the Alternate Log-Transfer Policy Review PDP wiki 
 page<https://community.icann.org/x/V4aUCQ>.\n   *   Chat: Please select Ev
 eryone when posting to the chat in order for everyone to see and to be cap
 tured afterwards.\n   *   Alternates (not replacing a member): Please rena
 me your line in Zoom by adding THREE Zs “zzz” before your name\, and i
 n parentheses\, (your affiliation - alternate)\, after your name.\n   *   
 Alternates (not replacing a member) are not allowed to engage in the chat 
 or use any of the other zoom room functionalities such as raising hands or
  agreeing/disagreeing.\n\nONLY for Observers:\n\n   *   Observers will hav
 e ability to view member chat and information shared in the zoom webinar r
 oom. Observers will not be able to use chat or raise hands.\n\nFor Audio o
 nly:\nOne tap mobile:\nUS: &#43\;19294362866\,\,95363727469#\,\,\,\,*74907
 39013# or &#43\;13017158592\,\,95363727469#\,\,\,\,*7490739013#\n\nWebinar
  ID: 953 6372 7469\nPasscode: 7490739013\nInternational numbers available:
  https://icann.zoom.us/u/acdLFXPLp6\n\n\n\n\n
RRULE:FREQ=WEEKLY;UNTIL=20240730T160000Z;INTERVAL=1;BYDAY=TU;WKST=SU
UID:1566F518-E203-45C6-BD08-53E6AC7313B9
SUMMARY;LANGUAGE=en-US:Transfer Policy Review PDP WG 
DTSTART;TZID=UTC:20240702T160000
DTEND;TZID=UTC:20240702T173000
CLASS:PUBLIC
PRIORITY:5
DTSTAMP:20240604T175747Z
TRANSP:OPAQUE
STATUS:CONFIRMED
SEQUENCE:0
LOCATION;LANGUAGE=en-US:16:00 UTC | https://icann.zoom.us/j/95363727469?pwd
 =N3A3OWFSaTlUME9wZzlGajk5VUI3QT09 
X-MICROSOFT-CDO-APPT-SEQUENCE:0
X-MICROSOFT-CDO-OWNERAPPTID:2122720391
X-MICROSOFT-CDO-BUSYSTATUS:TENTATIVE
X-MICROSOFT-CDO-INTENDEDSTATUS:BUSY
X-MICROSOFT-CDO-ALLDAYEVENT:FALSE
X-MICROSOFT-CDO-IMPORTANCE:1
X-MICROSOFT-CDO-INSTTYPE:1
X-MICROSOFT-DONOTFORWARDMEETING:FALSE
X-MICROSOFT-DISALLOW-COUNTER:TRUE
BEGIN:VALARM
DESCRIPTION:REMINDER
TRIGGER;RELATED=START:-PT15M
ACTION:DISPLAY
END:VALARM
END:VEVENT
END:VCALENDAR
