BEGIN:VCALENDAR
METHOD:REQUEST
PRODID:Microsoft Exchange Server 2010
VERSION:2.0
BEGIN:VTIMEZONE
TZID:UTC
BEGIN:STANDARD
DTSTART:16010101T000000
TZOFFSETFROM:+0000
TZOFFSETTO:+0000
END:STANDARD
BEGIN:DAYLIGHT
DTSTART:16010101T000000
TZOFFSETFROM:+0000
TZOFFSETTO:+0000
END:DAYLIGHT
END:VTIMEZONE
BEGIN:VEVENT
ORGANIZER;CN=ICANN Policy Calendar:MAILTO:PolicyCalendar@icann.org
ATTENDEE;ROLE=REQ-PARTICIPANT;PARTSTAT=NEEDS-ACTION;RSVP=FALSE;CN=gnso-tpr@
 icann.org:MAILTO:gnso-tpr@icann.org
ATTENDEE;ROLE=REQ-PARTICIPANT;PARTSTAT=NEEDS-ACTION;RSVP=FALSE;CN=Caitlin T
 ubergen:MAILTO:caitlin.tubergen@icann.org
ATTENDEE;ROLE=REQ-PARTICIPANT;PARTSTAT=NEEDS-ACTION;RSVP=FALSE;CN=Berry Cob
 b:MAILTO:Berry.Cobb@icann.org
ATTENDEE;ROLE=REQ-PARTICIPANT;PARTSTAT=NEEDS-ACTION;RSVP=FALSE;CN=Feodora H
 amza:MAILTO:feodora.hamza@icann.org
ATTENDEE;ROLE=REQ-PARTICIPANT;PARTSTAT=NEEDS-ACTION;RSVP=FALSE;CN=Christian
  Wheeler:MAILTO:christian.wheeler@icann.org
ATTENDEE;ROLE=REQ-PARTICIPANT;PARTSTAT=NEEDS-ACTION;RSVP=FALSE;CN=Julie Hed
 lund:MAILTO:julie.hedlund@icann.org
ATTENDEE;ROLE=REQ-PARTICIPANT;PARTSTAT=NEEDS-ACTION;RSVP=FALSE;CN=John Emer
 y:MAILTO:john.emery@icann.org
ATTENDEE;ROLE=REQ-PARTICIPANT;PARTSTAT=NEEDS-ACTION;RSVP=FALSE;CN=Julie Bis
 land:MAILTO:julie.bisland@icann.org
ATTENDEE;ROLE=REQ-PARTICIPANT;PARTSTAT=NEEDS-ACTION;RSVP=FALSE;CN=Devan Ree
 d:MAILTO:devan.reed@icann.org
ATTENDEE;ROLE=REQ-PARTICIPANT;PARTSTAT=NEEDS-ACTION;RSVP=FALSE;CN=Terri Agn
 ew:MAILTO:terri.agnew@icann.org
DESCRIPTION;LANGUAGE=en-US:Meeting:  GNSO Transfer Policy Review Working Gr
 oup - Webinar 2\nDate/time: Monday\, 09 September 2024 at 13:00 UTC for 90
  minutes\n\n\nJoin the Zoom: Join Zoom Meeting: https://icann.zoom.us/j/91
 416724295?pwd=y6RZ2UlGfMoe6u3rKoLetgtBKwCMoV.1\n\nMeeting ID: 914 1672 429
 5\n\nPasscode: eSNw@!t1JC\n\nOne tap mobile\n\n&#43\;13017158592\,\,914167
 24295#\,\,\,\,*4319354420# US (Washington DC)\n\n&#43\;13126266799\,\,9141
 6724295#\,\,\,\,*4319354420# US (Chicago)\n\nMeeting ID: 914 1672 4295\n\n
 Passcode: 4319354420\n\nFind your local number: https://icann.zoom.us/u/ae
 UrzFj4n\n\n\nALL: Before joining the call:\n   *   Please be sure you have
  read the ICANN Expected Standards of Behavior<https://www.icann.org/resou
 rces/pages/expected-standards-2016-06-28-en>\n   *   2024 Wiki page: https
 ://community.icann.org/x/S4BFE\n\n\n\n\n
UID:5D1A2329-1EF2-4B92-8D5D-D8DB0E2399B8
SUMMARY;LANGUAGE=en-US:GNSO Transfer Policy Review Working Group - Webinar 
 2
DTSTART;TZID=UTC:20240909T130000
DTEND;TZID=UTC:20240909T143000
CLASS:PUBLIC
PRIORITY:5
DTSTAMP:20240908T181952Z
TRANSP:OPAQUE
STATUS:CONFIRMED
SEQUENCE:2
LOCATION;LANGUAGE=en-US:13:00 UTC | Zoom link to be published 24 hours befo
 re webinar
X-MICROSOFT-CDO-APPT-SEQUENCE:2
X-MICROSOFT-CDO-OWNERAPPTID:2122831704
X-MICROSOFT-CDO-BUSYSTATUS:TENTATIVE
X-MICROSOFT-CDO-INTENDEDSTATUS:BUSY
X-MICROSOFT-CDO-ALLDAYEVENT:FALSE
X-MICROSOFT-CDO-IMPORTANCE:1
X-MICROSOFT-CDO-INSTTYPE:0
X-MICROSOFT-DONOTFORWARDMEETING:FALSE
X-MICROSOFT-DISALLOW-COUNTER:TRUE
BEGIN:VALARM
DESCRIPTION:REMINDER
TRIGGER;RELATED=START:-PT15M
ACTION:DISPLAY
END:VALARM
END:VEVENT
END:VCALENDAR
