BEGIN:VCALENDAR
METHOD:CANCEL
PRODID:Microsoft Exchange Server 2010
VERSION:2.0
BEGIN:VTIMEZONE
TZID:UTC
BEGIN:STANDARD
DTSTART:16010101T000000
TZOFFSETFROM:+0000
TZOFFSETTO:+0000
END:STANDARD
BEGIN:DAYLIGHT
DTSTART:16010101T000000
TZOFFSETFROM:+0000
TZOFFSETTO:+0000
END:DAYLIGHT
END:VTIMEZONE
BEGIN:VEVENT
ORGANIZER;CN=ICANN Policy Calendar:MAILTO:PolicyCalendar@icann.org
ATTENDEE;ROLE=REQ-PARTICIPANT;PARTSTAT=NEEDS-ACTION;RSVP=FALSE;CN=gnso-tpr@
 icann.org:MAILTO:gnso-tpr@icann.org
ATTENDEE;ROLE=REQ-PARTICIPANT;PARTSTAT=NEEDS-ACTION;RSVP=FALSE;CN=Caitlin T
 ubergen:MAILTO:caitlin.tubergen@icann.org
ATTENDEE;ROLE=REQ-PARTICIPANT;PARTSTAT=NEEDS-ACTION;RSVP=FALSE;CN=Berry Cob
 b:MAILTO:Berry.Cobb@icann.org
ATTENDEE;ROLE=REQ-PARTICIPANT;PARTSTAT=NEEDS-ACTION;RSVP=FALSE;CN=Michelle 
 DeSmyter:MAILTO:michelle.desmyter@icann.org
ATTENDEE;ROLE=REQ-PARTICIPANT;PARTSTAT=NEEDS-ACTION;RSVP=FALSE;CN=Devan Ree
 d:MAILTO:devan.reed@icann.org
ATTENDEE;ROLE=REQ-PARTICIPANT;PARTSTAT=NEEDS-ACTION;RSVP=FALSE;CN=Terri Agn
 ew:MAILTO:terri.agnew@icann.org
ATTENDEE;ROLE=REQ-PARTICIPANT;PARTSTAT=NEEDS-ACTION;RSVP=FALSE;CN=Julie Hed
 lund:MAILTO:julie.hedlund@icann.org
ATTENDEE;ROLE=REQ-PARTICIPANT;PARTSTAT=NEEDS-ACTION;RSVP=FALSE;CN=Christian
  Wheeler:MAILTO:christian.wheeler@icann.org
ATTENDEE;ROLE=REQ-PARTICIPANT;PARTSTAT=NEEDS-ACTION;RSVP=FALSE;CN=Julie Bis
 land:MAILTO:julie.bisland@icann.org
DESCRIPTION;LANGUAGE=en-US:Meeting:  Transfer Policy Review PDP WG\n\nDate/
 time: Occurs every Tuesday at 16:00 UTC for 90 minutes\, 16 January – 26
  March 2024\n\n(note: 05 March and 12 March are cancelled and will take pl
 ace during ICANN79 scheduled dates/times)\n\n\n\nAlternate replacement con
 firmations – Members who are unable to attend\, please complete the goog
 le form<https://docs.google.com/forms/d/e/1FAIpQLScXP3-H595xH4EFgaR3ydOr-1
 o9BLAVGUIRytxM4d-TDoSQAQ/viewform> to communicate who the alternate is rep
 lacing you.\n\n\nJoin the Zoom Webinar: https://icann.zoom.us/j/9536372746
 9?pwd=N3A3OWFSaTlUME9wZzlGajk5VUI3QT09\nPasscode: @TP/^*4wg#\n\n\n\nALL: B
 efore joining the call:\n\n  *   Please send apologies and dial out reques
 ts to gnso-secs@icann.org<mailto:gnso-secs@icann.org> only\n  *   Please b
 e sure you have read the ICANN Expected Standards of Behavior<https://www.
 icann.org/resources/pages/expected-standards-2016-06-28-en>\n  *   2024 Wi
 ki page: https://community.icann.org/x/S4BFE\n\nONLY for Members & Alterna
 tes:\n\n  *   Please join via the above Zoom Webinar link and staff will p
 romote you to Panelist\n  *   Alternate assignments will be posted to the 
 Alternate Log-Transfer Policy Review PDP wiki page<https://community.icann
 .org/x/V4aUCQ>.\n  *   Chat: Please select Everyone when posting to the ch
 at in order for everyone to see and to be captured afterwards.\n  *   Alte
 rnates (not replacing a member): Please rename your line in Zoom by adding
  THREE Zs “zzz” before your name\, and in parentheses\, (your affiliat
 ion - alternate)\, after your name.\n  *   Alternates (not replacing a mem
 ber) are not allowed to engage in the chat or use any of the other zoom ro
 om functionalities such as raising hands or agreeing/disagreeing.\n\nONLY 
 for Observers:\n\n  *   Observers will have ability to view member chat an
 d information shared in the zoom webinar room. Observers will not be able 
 to use chat or raise hands.\n\nFor Audio only:\nOne tap mobile:\nUS: +1929
 4362866\,\,95363727469#\,\,\,\,*7490739013# or +13017158592\,\,95363727469
 #\,\,\,\,*7490739013#\n\nWebinar ID: 953 6372 7469\nPasscode: 7490739013\n
 International numbers available: https://icann.zoom.us/u/acdLFXPLp6\n\n
UID:BC8A5FED-B866-48F7-94C9-5A0B18A0C005
RECURRENCE-ID;TZID=UTC:20240305T160000
SUMMARY;LANGUAGE=en-US:Canceled: Transfer Policy Review PDP WG 
DTSTART;TZID=UTC:20240305T160000
DTEND;TZID=UTC:20240305T173000
CLASS:PUBLIC
PRIORITY:5
DTSTAMP:20231116T215849Z
TRANSP:TRANSPARENT
STATUS:CANCELLED
SEQUENCE:1
LOCATION;LANGUAGE=en-US:16:00 UTC | https://icann.zoom.us/j/95363727469?pwd
 =N3A3OWFSaTlUME9wZzlGajk5VUI3QT09 
X-MICROSOFT-CDO-APPT-SEQUENCE:1
X-MICROSOFT-CDO-OWNERAPPTID:2122023786
X-MICROSOFT-CDO-BUSYSTATUS:FREE
X-MICROSOFT-CDO-INTENDEDSTATUS:FREE
X-MICROSOFT-CDO-ALLDAYEVENT:FALSE
X-MICROSOFT-CDO-IMPORTANCE:1
X-MICROSOFT-CDO-INSTTYPE:3
X-MICROSOFT-DONOTFORWARDMEETING:FALSE
X-MICROSOFT-DISALLOW-COUNTER:TRUE
END:VEVENT
END:VCALENDAR
