BEGIN:VCALENDAR
METHOD:REQUEST
PRODID:Microsoft Exchange Server 2010
VERSION:2.0
BEGIN:VTIMEZONE
TZID:UTC
BEGIN:STANDARD
DTSTART:16010101T000000
TZOFFSETFROM:+0000
TZOFFSETTO:+0000
END:STANDARD
BEGIN:DAYLIGHT
DTSTART:16010101T000000
TZOFFSETFROM:+0000
TZOFFSETTO:+0000
END:DAYLIGHT
END:VTIMEZONE
BEGIN:VEVENT
ORGANIZER;CN=ICANN Policy Calendar:MAILTO:PolicyCalendar@icann.org
ATTENDEE;ROLE=REQ-PARTICIPANT;PARTSTAT=NEEDS-ACTION;RSVP=FALSE;CN=gnso-tpr@
 icann.org:MAILTO:gnso-tpr@icann.org
ATTENDEE;ROLE=REQ-PARTICIPANT;PARTSTAT=NEEDS-ACTION;RSVP=FALSE;CN=Emily Bar
 abas:MAILTO:emily.barabas@icann.org
ATTENDEE;ROLE=REQ-PARTICIPANT;PARTSTAT=NEEDS-ACTION;RSVP=FALSE;CN=Caitlin T
 ubergen:MAILTO:caitlin.tubergen@icann.org
ATTENDEE;ROLE=REQ-PARTICIPANT;PARTSTAT=NEEDS-ACTION;RSVP=FALSE;CN=Berry Cob
 b:MAILTO:Berry.Cobb@icann.org
ATTENDEE;ROLE=REQ-PARTICIPANT;PARTSTAT=NEEDS-ACTION;RSVP=FALSE;CN=policy@ba
 cinblack.com:MAILTO:policy@bacinblack.com
ATTENDEE;ROLE=REQ-PARTICIPANT;PARTSTAT=NEEDS-ACTION;RSVP=FALSE;CN=Nathalie 
 Peregrine:MAILTO:nathalie.peregrine@icann.org
ATTENDEE;ROLE=REQ-PARTICIPANT;PARTSTAT=NEEDS-ACTION;RSVP=FALSE;CN=Michelle 
 DeSmyter:MAILTO:michelle.desmyter@icann.org
ATTENDEE;ROLE=REQ-PARTICIPANT;PARTSTAT=NEEDS-ACTION;RSVP=FALSE;CN=Andrea Gl
 andon:MAILTO:andrea.glandon@icann.org
ATTENDEE;ROLE=REQ-PARTICIPANT;PARTSTAT=NEEDS-ACTION;RSVP=FALSE;CN=Devan Ree
 d:MAILTO:devan.reed@icann.org
ATTENDEE;ROLE=REQ-PARTICIPANT;PARTSTAT=NEEDS-ACTION;RSVP=FALSE;CN=Terri Agn
 ew:MAILTO:terri.agnew@icann.org
ATTENDEE;ROLE=REQ-PARTICIPANT;PARTSTAT=NEEDS-ACTION;RSVP=FALSE;CN=Julie Bis
 land:MAILTO:julie.bisland@icann.org
DESCRIPTION;LANGUAGE=en-US:Meeting: Transfer Policy Review PDP WG\nDate/Tim
 e: Recurring every Tuesday at 16:00 UTC for 90 minutes\, 01 March 2022 thr
 ough 26 April. 2022\n\nJoin the Zoom Webinar: https://icann.zoom.us/j/9536
 3727469?pwd=N3A3OWFSaTlUME9wZzlGajk5VUI3QT09\nPasscode: @TP/^*4wg#\n\nALL:
  Before joining the call:\nPlease send apologies and dial out requests to 
 gnso-secs@icann.org<mailto:gnso-secs@icann.org> only\nPlease be sure you h
 ave read the ICANN Expected Standards of Behavior<https://www.icann.org/re
 sources/pages/expected-standards-2016-06-28-en>\nWiki Agenda meeting pages
  2022: https://community.icann.org/x/Z4HOCg\n\nONLY for Members &amp\; Alt
 ernates:\n   *   Please join via the above Zoom Webinar link and staff wil
 l promote you to Panelist\n   *   Alternate replacement confirmations – 
 In order to keep track of alternate replacements\, use the google form<htt
 ps://docs.google.com/forms/d/e/1FAIpQLScXP3-H595xH4EFgaR3ydOr-1o9BLAVGUIRy
 txM4d-TDoSQAQ/viewform> to communicate who the alternate is replacing and 
 for which period. This information will be posted to the Alternate Log-Tra
 nsfer Policy Review PDP wiki page<https://community.icann.org/x/V4aUCQ>.\n
    *   Members and alternates replacing members\, please select Everyone w
 hen posting to the chat in order for everyone to see and to be captured af
 terwards.\n   *   Alternates (not replacing a member): Please rename your 
 line in Zoom by adding THREE Zs “zzz” before your name\, and in parent
 heses\, (your affiliation - alternate)\, after your name. To rename in Zoo
 m\, hover over your name and click ‘rename’.\n   *   Alternates (not r
 eplacing a member) are not allowed to engage in the chat or use any of the
  other zoom room functionalities such as raising hands or agreeing/disagre
 eing.\nONLY for Observers:\n   *   Observers will have ability to view mem
 ber chat and information shared in the zoom webinar room. Observers will n
 ot be able to use chat or raise hands.\n\nFor Audio only:\nOne tap mobile:
 \nUS: &#43\;19294362866\,\,95363727469#\,\,\,\,*7490739013# or &#43\;13017
 158592\,\,95363727469#\,\,\,\,*7490739013#\n\nTelephone: Dial (for higher 
 quality\, dial a number based on your current location):\nUS: &#43\;1 929 
 436 2866 or &#43\;1 301 715 8592 or &#43\;1 312 626 6799 or &#43\;1 669 90
 0 6833 or &#43\;1 253 215 8782 or &#43\;1 346 248 7799 or 888 788 0099 (To
 ll Free) or 877 853 5247 (Toll Free)\n\nWebinar ID: 953 6372 7469\nPasscod
 e: 7490739013\nInternational numbers available: https://icann.zoom.us/u/ac
 dLFXPLp6\n\n
RRULE:FREQ=WEEKLY;UNTIL=20220426T160000Z;INTERVAL=1;BYDAY=TU;WKST=SU
UID:612D53B8-4525-4828-AA0E-D8A860120587
SUMMARY;LANGUAGE=en-US:Transfer Policy Review PDP WG 
DTSTART;TZID=UTC:20220301T160000
DTEND;TZID=UTC:20220301T173000
CLASS:PUBLIC
PRIORITY:5
DTSTAMP:20220217T212612Z
TRANSP:OPAQUE
STATUS:CONFIRMED
SEQUENCE:0
LOCATION;LANGUAGE=en-US:16:00 UTC | https://icann.zoom.us/j/95363727469?pwd
 =N3A3OWFSaTlUME9wZzlGajk5VUI3QT09 
X-MICROSOFT-CDO-APPT-SEQUENCE:0
X-MICROSOFT-CDO-OWNERAPPTID:2120386766
X-MICROSOFT-CDO-BUSYSTATUS:TENTATIVE
X-MICROSOFT-CDO-INTENDEDSTATUS:BUSY
X-MICROSOFT-CDO-ALLDAYEVENT:FALSE
X-MICROSOFT-CDO-IMPORTANCE:1
X-MICROSOFT-CDO-INSTTYPE:1
X-MICROSOFT-DONOTFORWARDMEETING:FALSE
X-MICROSOFT-DISALLOW-COUNTER:TRUE
BEGIN:VALARM
DESCRIPTION:REMINDER
TRIGGER;RELATED=START:-PT15M
ACTION:DISPLAY
END:VALARM
END:VEVENT
END:VCALENDAR
