BEGIN:VCALENDAR
METHOD:REQUEST
PRODID:Microsoft Exchange Server 2010
VERSION:2.0
BEGIN:VTIMEZONE
TZID:UTC
BEGIN:STANDARD
DTSTART:16010101T000000
TZOFFSETFROM:+0000
TZOFFSETTO:+0000
END:STANDARD
BEGIN:DAYLIGHT
DTSTART:16010101T000000
TZOFFSETFROM:+0000
TZOFFSETTO:+0000
END:DAYLIGHT
END:VTIMEZONE
BEGIN:VEVENT
ORGANIZER;CN=ICANN Policy Calendar:MAILTO:PolicyCalendar@icann.org
ATTENDEE;ROLE=REQ-PARTICIPANT;PARTSTAT=NEEDS-ACTION;RSVP=FALSE;CN=gnso-tpr@
 icann.org:MAILTO:gnso-tpr@icann.org
DESCRIPTION;LANGUAGE=en-US:**resending to include full TPR WG\n\nMeeting: T
 ransfer Policy Review PDP WG\n\nDate/Time: Tuesday\, 08 June 2021 at 16:00
  UTC for 90 minutes\n\n\n\nJoin the Zoom Webinar: https://icann.zoom.us/j/
 95363727469?pwd=N3A3OWFSaTlUME9wZzlGajk5VUI3QT09\n\nPasscode: @TP/^*4wg#\n
 \n\n\nALL: Before joining the call:\n\nPlease send apologies and dial out 
 requests to gnso-secs@icann.org<mailto:gnso-secs@icann.org> only\n\nPlease
  be sure you have read the ICANN Expected Standards of Behavior<https://ww
 w.icann.org/resources/pages/expected-standards-2016-06-28-en>\n\nVisit the
  Wiki Agenda meeting page: https://community.icann.org/x/6gjQCQ\n\nCheck y
 our time zone: https://tinyurl.com/4zds987s\n\n\n\nONLY for Members &amp\;
  Alternates:\n\n   *   Please join via the above Zoom Webinar link and sta
 ff will promote you to Panelist\n\n   *   Alternate replacement confirmati
 ons – In order to keep track of alternate replacements\, use the google 
 form<https://docs.google.com/forms/d/e/1FAIpQLScXP3-H595xH4EFgaR3ydOr-1o9B
 LAVGUIRytxM4d-TDoSQAQ/viewform> to communicate who the alternate is replac
 ing and for which period. This information will be posted to the Alternate
  Log-Transfer Policy Review PDP wiki page<https://community.icann.org/x/V4
 aUCQ>.\n\n   *   Members (and alternates replacing members)\, please selec
 t Panelists and Attendees when posting to the chat in order for everyone t
 o see and to be captured afterwards.\n\n   *   Alternates (not replacing a
  member): Please rename your line in Zoom by adding THREE Zs “zzz” bef
 ore your name\, and in parentheses\, (your affiliation - alternate)\, afte
 r your name. To rename in Zoom\, hover over your name and click ‘rename
 ’.\n\n   *   Alternates (not replacing a member) are not allowed to enga
 ge in the chat or use any of the other zoom room functionalities such as r
 aising hands or agreeing/disagreeing.\n\n\n\nONLY for Observers:\n\n   *  
  Observers will have ability to view member chat and information shared in
  the zoom webinar room. Observers will not be able to use chat or raise ha
 nds.\n\n\n\nFor Audio only:\n\nOne tap mobile:\n\nUS: &#43\;19294362866\,\
 ,95363727469#\,\,\,\,*7490739013# or &#43\;13017158592\,\,95363727469#\,\,
 \,\,*7490739013#\n\n\n\nTelephone: Dial (for higher quality\, dial a numbe
 r based on your current location):\n\nUS: &#43\;1 929 436 2866 or &#43\;1 
 301 715 8592 or &#43\;1 312 626 6799 or &#43\;1 669 900 6833 or &#43\;1 25
 3 215 8782 or &#43\;1 346 248 7799 or 888 788 0099 (Toll Free) or 877 853 
 5247 (Toll Free)\n\n\n\nWebinar ID: 953 6372 7469\n\nPasscode: 7490739013\
 n\nInternational numbers available: https://icann.zoom.us/u/acdLFXPLp6\n\n
 \n\n\n
UID:C730B12B-82DE-4DD7-9422-25E929DAAA6A
SUMMARY;LANGUAGE=en-US:Transfer Policy Review PDP WG
DTSTART;TZID=UTC:20210608T160000
DTEND;TZID=UTC:20210608T173000
CLASS:PUBLIC
PRIORITY:5
DTSTAMP:20210603T121310Z
TRANSP:OPAQUE
STATUS:CONFIRMED
SEQUENCE:6
LOCATION;LANGUAGE=en-US:16:00 UTC / https://icann.zoom.us/j/95363727469?pwd
 =N3A3OWFSaTlUME9wZzlGajk5VUI3QT09 
X-MICROSOFT-CDO-APPT-SEQUENCE:6
X-MICROSOFT-CDO-OWNERAPPTID:2119541280
X-MICROSOFT-CDO-BUSYSTATUS:TENTATIVE
X-MICROSOFT-CDO-INTENDEDSTATUS:BUSY
X-MICROSOFT-CDO-ALLDAYEVENT:FALSE
X-MICROSOFT-CDO-IMPORTANCE:1
X-MICROSOFT-CDO-INSTTYPE:0
X-MICROSOFT-DONOTFORWARDMEETING:FALSE
X-MICROSOFT-DISALLOW-COUNTER:TRUE
BEGIN:VALARM
DESCRIPTION:REMINDER
TRIGGER;RELATED=START:-PT15M
ACTION:DISPLAY
END:VALARM
END:VEVENT
END:VCALENDAR
