BEGIN:VCALENDAR
METHOD:CANCEL
PRODID:Microsoft Exchange Server 2010
VERSION:2.0
BEGIN:VTIMEZONE
TZID:UTC
BEGIN:STANDARD
DTSTART:16010101T000000
TZOFFSETFROM:+0000
TZOFFSETTO:+0000
END:STANDARD
BEGIN:DAYLIGHT
DTSTART:16010101T000000
TZOFFSETFROM:+0000
TZOFFSETTO:+0000
END:DAYLIGHT
END:VTIMEZONE
BEGIN:VEVENT
ORGANIZER;CN=ICANN Policy Calendar:MAILTO:PolicyCalendar@icann.org
ATTENDEE;ROLE=REQ-PARTICIPANT;PARTSTAT=NEEDS-ACTION;RSVP=FALSE;CN=gnso-tpr@
 icann.org:MAILTO:gnso-tpr@icann.org
ATTENDEE;ROLE=REQ-PARTICIPANT;PARTSTAT=NEEDS-ACTION;RSVP=FALSE;CN=Emily Bar
 abas:MAILTO:emily.barabas@icann.org
ATTENDEE;ROLE=REQ-PARTICIPANT;PARTSTAT=NEEDS-ACTION;RSVP=FALSE;CN=Caitlin T
 ubergen:MAILTO:caitlin.tubergen@icann.org
ATTENDEE;ROLE=REQ-PARTICIPANT;PARTSTAT=NEEDS-ACTION;RSVP=FALSE;CN=Berry Cob
 b:MAILTO:Berry.Cobb@icann.org
ATTENDEE;ROLE=REQ-PARTICIPANT;PARTSTAT=NEEDS-ACTION;RSVP=FALSE;CN=Nathalie 
 Peregrine:MAILTO:nathalie.peregrine@icann.org
ATTENDEE;ROLE=REQ-PARTICIPANT;PARTSTAT=NEEDS-ACTION;RSVP=FALSE;CN=Michelle 
 DeSmyter:MAILTO:michelle.desmyter@icann.org
ATTENDEE;ROLE=REQ-PARTICIPANT;PARTSTAT=NEEDS-ACTION;RSVP=FALSE;CN=Andrea Gl
 andon:MAILTO:andrea.glandon@icann.org
ATTENDEE;ROLE=REQ-PARTICIPANT;PARTSTAT=NEEDS-ACTION;RSVP=FALSE;CN=Devan Ree
 d:MAILTO:devan.reed@icann.org
ATTENDEE;ROLE=REQ-PARTICIPANT;PARTSTAT=NEEDS-ACTION;RSVP=FALSE;CN=Terri Agn
 ew:MAILTO:terri.agnew@icann.org
ATTENDEE;ROLE=REQ-PARTICIPANT;PARTSTAT=NEEDS-ACTION;RSVP=FALSE;CN=Julie Bis
 land:MAILTO:julie.bisland@icann.org
DESCRIPTION;LANGUAGE=en-US:Meeting: Transfer Policy Review PDP WG\n\nDate/T
 ime: Recurring every Tuesday at 16:00 UTC for 90 minutes\, 01 March 2022 t
 hrough 26 April. 2022\n\n\nJoin the Zoom Webinar: https://icann.zoom.us/j/
 95363727469?pwd=N3A3OWFSaTlUME9wZzlGajk5VUI3QT09\nPasscode: @TP/^*4wg#\n\n
 \n\nALL: Before joining the call:\n\nPlease send apologies and dial out re
 quests to gnso-secs@icann.org<mailto:gnso-secs@icann.org> only\n\nPlease b
 e sure you have read the ICANN Expected Standards of Behavior<https://www.
 icann.org/resources/pages/expected-standards-2016-06-28-en>\n\nWiki Agenda
  meeting pages 2022: https://community.icann.org/x/Z4HOCg\n\nONLY for Memb
 ers & Alternates:\n\n  *   Please join via the above Zoom Webinar link and
  staff will promote you to Panelist\n  *   Alternate replacement confirmat
 ions – In order to keep track of alternate replacements\, use the google
  form<https://docs.google.com/forms/d/e/1FAIpQLScXP3-H595xH4EFgaR3ydOr-1o9
 BLAVGUIRytxM4d-TDoSQAQ/viewform> to communicate who the alternate is repla
 cing and for which period. This information will be posted to the Alternat
 e Log-Transfer Policy Review PDP wiki page<https://community.icann.org/x/V
 4aUCQ>.\n  *   Members and alternates replacing members\, please select Ev
 eryone when posting to the chat in order for everyone to see and to be cap
 tured afterwards.\n  *   Alternates (not replacing a member): Please renam
 e your line in Zoom by adding THREE Zs “zzz” before your name\, and in
  parentheses\, (your affiliation - alternate)\, after your name. To rename
  in Zoom\, hover over your name and click ‘rename’.\n  *   Alternates 
 (not replacing a member) are not allowed to engage in the chat or use any 
 of the other zoom room functionalities such as raising hands or agreeing/d
 isagreeing.\nONLY for Observers:\n\n  *   Observers will have ability to v
 iew member chat and information shared in the zoom webinar room. Observers
  will not be able to use chat or raise hands.\n\nFor Audio only:\nOne tap 
 mobile:\nUS: +19294362866\,\,95363727469#\,\,\,\,*7490739013# or +13017158
 592\,\,95363727469#\,\,\,\,*7490739013#\n\nTelephone: Dial (for higher qua
 lity\, dial a number based on your current location):\nUS: +1 929 436 2866
  or +1 301 715 8592 or +1 312 626 6799 or +1 669 900 6833 or +1 253 215 87
 82 or +1 346 248 7799 or 888 788 0099 (Toll Free) or 877 853 5247 (Toll Fr
 ee)\n\nWebinar ID: 953 6372 7469\nPasscode: 7490739013\nInternational numb
 ers available: https://icann.zoom.us/u/acdLFXPLp6\n\n
UID:612D53B8-4525-4828-AA0E-D8A860120587
RECURRENCE-ID;TZID=UTC:20220315T160000
SUMMARY;LANGUAGE=en-US:Canceled: Transfer Policy Review PDP WG 
DTSTART;TZID=UTC:20220315T160000
DTEND;TZID=UTC:20220315T173000
CLASS:PUBLIC
PRIORITY:5
DTSTAMP:20220301T194052Z
TRANSP:TRANSPARENT
STATUS:CANCELLED
SEQUENCE:3
LOCATION;LANGUAGE=en-US:16:00 UTC | https://icann.zoom.us/j/95363727469?pwd
 =N3A3OWFSaTlUME9wZzlGajk5VUI3QT09 
X-MICROSOFT-CDO-APPT-SEQUENCE:3
X-MICROSOFT-CDO-OWNERAPPTID:2120386766
X-MICROSOFT-CDO-BUSYSTATUS:FREE
X-MICROSOFT-CDO-INTENDEDSTATUS:FREE
X-MICROSOFT-CDO-ALLDAYEVENT:FALSE
X-MICROSOFT-CDO-IMPORTANCE:1
X-MICROSOFT-CDO-INSTTYPE:3
X-MICROSOFT-DONOTFORWARDMEETING:FALSE
X-MICROSOFT-DISALLOW-COUNTER:TRUE
END:VEVENT
END:VCALENDAR
