BEGIN:VCALENDAR
METHOD:REQUEST
PRODID:Microsoft Exchange Server 2010
VERSION:2.0
BEGIN:VTIMEZONE
TZID:UTC
BEGIN:STANDARD
DTSTART:16010101T000000
TZOFFSETFROM:+0000
TZOFFSETTO:+0000
END:STANDARD
BEGIN:DAYLIGHT
DTSTART:16010101T000000
TZOFFSETFROM:+0000
TZOFFSETTO:+0000
END:DAYLIGHT
END:VTIMEZONE
BEGIN:VEVENT
ORGANIZER;CN=ICANN Policy Calendar:MAILTO:PolicyCalendar@icann.org
ATTENDEE;ROLE=REQ-PARTICIPANT;PARTSTAT=NEEDS-ACTION;RSVP=FALSE;CN=gnso-tpr@
 icann.org:MAILTO:gnso-tpr@icann.org
ATTENDEE;ROLE=REQ-PARTICIPANT;PARTSTAT=NEEDS-ACTION;RSVP=FALSE;CN=Caitlin T
 ubergen:MAILTO:caitlin.tubergen@icann.org
ATTENDEE;ROLE=REQ-PARTICIPANT;PARTSTAT=NEEDS-ACTION;RSVP=FALSE;CN=Berry Cob
 b:MAILTO:Berry.Cobb@icann.org
ATTENDEE;ROLE=REQ-PARTICIPANT;PARTSTAT=NEEDS-ACTION;RSVP=FALSE;CN=Michelle 
 DeSmyter:MAILTO:michelle.desmyter@icann.org
ATTENDEE;ROLE=REQ-PARTICIPANT;PARTSTAT=NEEDS-ACTION;RSVP=FALSE;CN=Devan Ree
 d:MAILTO:devan.reed@icann.org
ATTENDEE;ROLE=REQ-PARTICIPANT;PARTSTAT=NEEDS-ACTION;RSVP=FALSE;CN=Terri Agn
 ew:MAILTO:terri.agnew@icann.org
ATTENDEE;ROLE=REQ-PARTICIPANT;PARTSTAT=NEEDS-ACTION;RSVP=FALSE;CN=Julie Hed
 lund:MAILTO:julie.hedlund@icann.org
ATTENDEE;ROLE=REQ-PARTICIPANT;PARTSTAT=NEEDS-ACTION;RSVP=FALSE;CN=Christian
  Wheeler:MAILTO:christian.wheeler@icann.org
ATTENDEE;ROLE=REQ-PARTICIPANT;PARTSTAT=NEEDS-ACTION;RSVP=FALSE;CN=Julie Bis
 land:MAILTO:julie.bisland@icann.org
DESCRIPTION;LANGUAGE=en-US:Meeting:  Transfer Policy Review PDP WG\nPattern
 : Weekly on Tuesdays: 07 November 2023 – 19 December 2023 at 16:00 UTC f
 or 90 minutes (No call on 21 November)\n\nAlternate replacement confirmati
 ons – Members who are unable to attend\, please complete the google form
 <https://docs.google.com/forms/d/e/1FAIpQLScXP3-H595xH4EFgaR3ydOr-1o9BLAVG
 UIRytxM4d-TDoSQAQ/viewform> to communicate who the alternate is replacing 
 you.\n\nJoin the Zoom Webinar: https://icann.zoom.us/j/95363727469?pwd=N3A
 3OWFSaTlUME9wZzlGajk5VUI3QT09\nPasscode: @TP/^*4wg#\n\nALL: Before joining
  the call:\n   *   Please send apologies and dial out requests to gnso-sec
 s@icann.org<mailto:gnso-secs@icann.org> only\n   *   Please be sure you ha
 ve read the ICANN Expected Standards of Behavior<https://www.icann.org/res
 ources/pages/expected-standards-2016-06-28-en>\n   *   2023 Wiki agenda pa
 ges: https://community.icann.org/x/Gow-DQ\n   *   Time conversion link (07
  Nov): https://tinyurl.com/2htzcfpy\n\nONLY for Members &amp\; Alternates:
 \n   *   Please join via the above Zoom Webinar link and staff will promot
 e you to Panelist\n   *   Alternate assignments will be posted to the Alte
 rnate Log-Transfer Policy Review PDP wiki page<https://community.icann.org
 /x/V4aUCQ>.\n   *   Members and alternates replacing members\, please sele
 ct Everyone when posting to the chat in order for everyone to see and to b
 e captured afterwards.\n   *   Alternates (not replacing a member): Please
  rename your line in Zoom by adding THREE Zs “zzz” before your name\, 
 and in parentheses\, (your affiliation - alternate)\, after your name.\n  
  *   Alternates (not replacing a member) are not allowed to engage in the 
 chat or use any of the other zoom room functionalities such as raising han
 ds or agreeing/disagreeing.\n\nONLY for Observers:\n   *   Observers will 
 have ability to view member chat and information shared in the zoom webina
 r room. Observers will not be able to use chat or raise hands.\n\nFor Audi
 o only:\nOne tap mobile:\nUS: &#43\;19294362866\,\,95363727469#\,\,\,\,*74
 90739013# or &#43\;13017158592\,\,95363727469#\,\,\,\,*7490739013#\n\nWebi
 nar ID: 953 6372 7469\nPasscode: 7490739013\nInternational numbers availab
 le: https://icann.zoom.us/u/acdLFXPLp6\n\n
RRULE:FREQ=WEEKLY;UNTIL=20231219T160000Z;INTERVAL=1;BYDAY=TU;WKST=SU
UID:C540FF71-EF7E-4D09-9B54-BD846A778098
SUMMARY;LANGUAGE=en-US:Transfer Policy Review PDP WG 
DTSTART;TZID=UTC:20231107T160000
DTEND;TZID=UTC:20231107T173000
CLASS:PUBLIC
PRIORITY:5
DTSTAMP:20230922T132359Z
TRANSP:OPAQUE
STATUS:CONFIRMED
SEQUENCE:0
LOCATION;LANGUAGE=en-US:16:00 UTC | https://icann.zoom.us/j/95363727469?pwd
 =N3A3OWFSaTlUME9wZzlGajk5VUI3QT09 
X-MICROSOFT-CDO-APPT-SEQUENCE:0
X-MICROSOFT-CDO-OWNERAPPTID:2121905829
X-MICROSOFT-CDO-BUSYSTATUS:TENTATIVE
X-MICROSOFT-CDO-INTENDEDSTATUS:BUSY
X-MICROSOFT-CDO-ALLDAYEVENT:FALSE
X-MICROSOFT-CDO-IMPORTANCE:1
X-MICROSOFT-CDO-INSTTYPE:1
X-MICROSOFT-DONOTFORWARDMEETING:FALSE
X-MICROSOFT-DISALLOW-COUNTER:TRUE
BEGIN:VALARM
DESCRIPTION:REMINDER
TRIGGER;RELATED=START:-PT15M
ACTION:DISPLAY
END:VALARM
END:VEVENT
END:VCALENDAR
