BEGIN:VCALENDAR
METHOD:REQUEST
PRODID:Microsoft Exchange Server 2010
VERSION:2.0
BEGIN:VTIMEZONE
TZID:UTC
BEGIN:STANDARD
DTSTART:16010101T000000
TZOFFSETFROM:+0000
TZOFFSETTO:+0000
END:STANDARD
BEGIN:DAYLIGHT
DTSTART:16010101T000000
TZOFFSETFROM:+0000
TZOFFSETTO:+0000
END:DAYLIGHT
END:VTIMEZONE
BEGIN:VEVENT
ORGANIZER;CN=ICANN Policy Calendar:MAILTO:PolicyCalendar@icann.org
ATTENDEE;ROLE=REQ-PARTICIPANT;PARTSTAT=NEEDS-ACTION;RSVP=FALSE;CN=gnso-tpr@
 icann.org:MAILTO:gnso-tpr@icann.org
ATTENDEE;ROLE=REQ-PARTICIPANT;PARTSTAT=NEEDS-ACTION;RSVP=FALSE;CN=Caitlin T
 ubergen:MAILTO:caitlin.tubergen@icann.org
ATTENDEE;ROLE=REQ-PARTICIPANT;PARTSTAT=NEEDS-ACTION;RSVP=FALSE;CN=Berry Cob
 b:MAILTO:Berry.Cobb@icann.org
ATTENDEE;ROLE=REQ-PARTICIPANT;PARTSTAT=NEEDS-ACTION;RSVP=FALSE;CN=Feodora H
 amza:MAILTO:feodora.hamza@icann.org
ATTENDEE;ROLE=REQ-PARTICIPANT;PARTSTAT=NEEDS-ACTION;RSVP=FALSE;CN=Christian
  Wheeler:MAILTO:christian.wheeler@icann.org
ATTENDEE;ROLE=REQ-PARTICIPANT;PARTSTAT=NEEDS-ACTION;RSVP=FALSE;CN=Julie Hed
 lund:MAILTO:julie.hedlund@icann.org
ATTENDEE;ROLE=REQ-PARTICIPANT;PARTSTAT=NEEDS-ACTION;RSVP=FALSE;CN=John Emer
 y:MAILTO:john.emery@icann.org
ATTENDEE;ROLE=REQ-PARTICIPANT;PARTSTAT=NEEDS-ACTION;RSVP=FALSE;CN=Devan Ree
 d:MAILTO:devan.reed@icann.org
ATTENDEE;ROLE=REQ-PARTICIPANT;PARTSTAT=NEEDS-ACTION;RSVP=FALSE;CN=Terri Agn
 ew:MAILTO:terri.agnew@icann.org
ATTENDEE;ROLE=REQ-PARTICIPANT;PARTSTAT=NEEDS-ACTION;RSVP=FALSE;CN=Julie Bis
 land:MAILTO:julie.bisland@icann.org
DESCRIPTION;LANGUAGE=en-US:Meeting:  Transfer Policy Review PDP WG\nPattern
 : Weekly on Tuesdays at 16:00 UTC for 90 minutes (07 Jan – 04 Mar 2025)\
 n\nJoin the Zoom Webinar: https://icann.zoom.us/j/95363727469?pwd=N3A3OWFS
 aTlUME9wZzlGajk5VUI3QT09\nPasscode: @TP/^*4wg#\n\nAlternate replacement co
 nfirmations – Members who are unable to attend\, please complete the goo
 gle form<https://docs.google.com/forms/d/e/1FAIpQLScXP3-H595xH4EFgaR3ydOr-
 1o9BLAVGUIRytxM4d-TDoSQAQ/viewform> to communicate who the alternate is re
 placing you.\n\nALL: Before joining the call:\n   *   Please send apologie
 s and dial out requests to gnso-secs@icann.org<mailto:gnso-secs@icann.org>
  only\n   *   Please be sure you have read the ICANN Expected Standards of
  Behavior<https://www.icann.org/resources/pages/expected-standards-2016-06
 -28-en> and the ICANN Community Anti-Harassment Policy<https://www.icann.o
 rg/resources/pages/community-anti-harassment-policy-2017-03-24-en>\n   *  
  2025 Wiki page: https://community.icann.org/x/Z4CpG\n\nONLY for Members &
 amp\; Alternates:\n   *   Please join via the above Zoom Webinar link and 
 staff will promote you to Panelist\n   *   Alternate assignments will be p
 osted to the Alternate Log-Transfer Policy Review PDP wiki page<https://co
 mmunity.icann.org/x/V4aUCQ>.\n   *   Chat: Please select Everyone when pos
 ting to the chat in order for everyone to see and to be captured afterward
 s.\n   *   Alternates (not replacing a member): Please rename your line in
  Zoom by adding THREE Zs “zzz” before your name\, and in parentheses\,
  (your affiliation - alternate)\, after your name.\n   *   Alternates (not
  replacing a member) are not allowed to engage in the chat or use any of t
 he other zoom room functionalities such as raising hands or agreeing/disag
 reeing.\n\nONLY for Observers:\n   *   Observers will have ability to view
  member chat and information shared in the zoom webinar room. Observers wi
 ll not be able to use chat or raise hands.\n\nFor Audio only:\nOne tap mob
 ile:\nUS: &#43\;19294362866\,\,95363727469#\,\,\,\,*7490739013# or &#43\;1
 3017158592\,\,95363727469#\,\,\,\,*7490739013#\n\nWebinar ID: 953 6372 746
 9\nPasscode: 7490739013\nInternational numbers available: https://icann.zo
 om.us/u/acdLFXPLp6\n\n\n
RRULE:FREQ=WEEKLY;UNTIL=20250304T160000Z;INTERVAL=1;BYDAY=TU;WKST=SU
UID:E49B2847-7FEE-4DAC-9A19-E4D0A3350986
SUMMARY;LANGUAGE=en-US:Transfer Policy Review PDP WG 
DTSTART;TZID=UTC:20250107T160000
DTEND;TZID=UTC:20250107T173000
CLASS:PUBLIC
PRIORITY:5
DTSTAMP:20241206T034904Z
TRANSP:OPAQUE
STATUS:CONFIRMED
SEQUENCE:0
LOCATION;LANGUAGE=en-US:16:00 UTC | https://icann.zoom.us/j/95363727469?pwd
 =N3A3OWFSaTlUME9wZzlGajk5VUI3QT09 
X-MICROSOFT-CDO-APPT-SEQUENCE:0
X-MICROSOFT-CDO-OWNERAPPTID:2123116061
X-MICROSOFT-CDO-BUSYSTATUS:TENTATIVE
X-MICROSOFT-CDO-INTENDEDSTATUS:BUSY
X-MICROSOFT-CDO-ALLDAYEVENT:FALSE
X-MICROSOFT-CDO-IMPORTANCE:1
X-MICROSOFT-CDO-INSTTYPE:1
X-MICROSOFT-DONOTFORWARDMEETING:FALSE
X-MICROSOFT-DISALLOW-COUNTER:TRUE
BEGIN:VALARM
DESCRIPTION:REMINDER
TRIGGER;RELATED=START:-PT15M
ACTION:DISPLAY
END:VALARM
END:VEVENT
END:VCALENDAR
