BEGIN:VCALENDAR
VERSION:2.0
PRODID:-//Microsoft Corporation//Outlook for Mac MIMEDIR//EN
METHOD:PUBLISH
BEGIN:VTIMEZONE
TZID:Coordinated Universal Time
X-ENTOURAGE-CFTIMEZONE:UTC
X-ENTOURAGE-TZID:93
BEGIN:STANDARD
TZOFFSETFROM:+0000
TZOFFSETTO:+0000
DTSTART:16010101T000000
END:STANDARD
END:VTIMEZONE
BEGIN:VEVENT
UID:28FE8461-DB89-40F0-A940-177A9C5F2E4B
X-ENTOURAGE_UUID:28FE8461-DB89-40F0-A940-177A9C5F2E4B
X-MICROSOFT-EXCHANGE-ID:AAMkADFlMDNlNjQ5LTNjNTUtNDJkMC04ZTI0LWFiMTFkOTgwND
 JhMQBGAAAAAAAdZPIZTDF9SJl4Q9bAl0gQBwAFskP3JLIoSYZSK2rNBQTXAIjV8WqdAAANV5p2
 g4V9S6g+Ry+Q0bRJAATjLfVtAAA=
X-MICROSOFT-EXCHANGE-CHANGEKEY:DwAAABYAAAANV5p2g4V9S6g+Ry+Q0bRJAATjR3Tn
DTSTAMP:20190917T095029Z
DTSTART;TZID="Coordinated Universal Time":20190918T230000
DTEND;TZID="Coordinated Universal Time":20190919T000000
LAST-MODIFIED:20190917T095031Z
SUMMARY:LACRALO Capacity Building Working Group Call
DESCRIPTION:Dear all\,\n\n \n\nFurther to the Doodle poll\, the LACRALO
  Capacity Building Working Group Call is scheduled for Wednesday\, 18
  September 2019 at 23:00 UTC.\n\n \n\nSpanish interpretation will be
  provided.\n\n \n\nFor other times:  https://tinyurl.com/y4c7g8sq \n\n
  \n\nThe agenda (to be updated) and call details can be found at:
  https://community.icann.org/x/f4wCBw \n\n \n\nWiki workspace:
   https://community.icann.org/x/goEWBg \nZoom Room:
  https://icann.zoom.us/j/607264014�� / Meeting ID: 607 264 014\n\n
  \n\nZoom Dial-in Numbers: https://zoom.us/u/ayXQGOHVG\n\n \n\nADIGO
  Conference Bridge:\n\nEnglish Conf. ID = 1638\n\nSpanish Conf. ID =
  1738\n\n \n\nADIGO toll-free numbers: https://www.adigo.com/icann\n\n
  \n\nIf you need a dial-out\, please send an e-mail to ICANN At-Large
  Staff\, staff@atlarge.icann.org \n\n \n\n \n\n\n\nThank you.\n\nKind
  regards\,\n\n \n\nAt-Large Staff\n\nICANN Policy Staff in support of the
  At-Large Community\n\nWebsite: atlarge.icann.org \n\nFacebook:
  facebook.com/icannatlarge\n\nTwitter: @ICANNAtLarge\n
LOCATION:23:00 UTC - ADIGO EN:1638 ES:1738 -
  https://icann.zoom.us/j/607264014  
ORGANIZER:MAILTO:PolicyCalendar@icann.org
SEQUENCE:0
ATTENDEE;ROLE=REQ-PARTICIPANT;RSVP=FALSE;CN="Heidi
  Ullrich";PARTSTAT=NEEDS-ACTION:MAILTO:Heidi.Ullrich@icann.org
ATTENDEE;ROLE=REQ-PARTICIPANT;RSVP=FALSE;CN="Silvia
  Vivanco";PARTSTAT=NEEDS-ACTION:MAILTO:silvia.vivanco@icann.org
ATTENDEE;ROLE=REQ-PARTICIPANT;RSVP=FALSE;CN="Gisella
  Gruber";PARTSTAT=NEEDS-ACTION:MAILTO:Gisella.Gruber@icann.org
ATTENDEE;ROLE=REQ-PARTICIPANT;RSVP=FALSE;CN="Evin
  Erdogdu";PARTSTAT=NEEDS-ACTION:MAILTO:evin.erdogdu@icann.org
ATTENDEE;ROLE=REQ-PARTICIPANT;RSVP=FALSE;CN="Michelle
  DeSmyter";PARTSTAT=NEEDS-ACTION:MAILTO:michelle.desmyter@icann.org
ATTENDEE;ROLE=REQ-PARTICIPANT;RSVP=FALSE;CN="Claudia
  Ruiz";PARTSTAT=NEEDS-ACTION:MAILTO:claudia.ruiz@icann.org
ATTENDEE;ROLE=REQ-PARTICIPANT;RSVP=FALSE;CN="Alperen
  Eken";PARTSTAT=NEEDS-ACTION:MAILTO:alperen.eken@icann.org
ATTENDEE;ROLE=REQ-PARTICIPANT;RSVP=FALSE;CN="Yesim
  Nazlar";PARTSTAT=NEEDS-ACTION:MAILTO:yesim.nazlar@icann.org
ATTENDEE;ROLE=REQ-PARTICIPANT;RSVP=FALSE;CN="TEL
  ES-Teleconf-Interpretation";PARTSTAT=NEEDS-ACTION:MAILTO:ES-Teleconf-Inte
 rpretation@icann.org
ATTENDEE;ROLE=REQ-PARTICIPANT;RSVP=FALSE;CN="Sabrina
  Mosquera";PARTSTAT=NEEDS-ACTION:MAILTO:sabrina.mosquera@icann.org
ATTENDEE;ROLE=REQ-PARTICIPANT;RSVP=FALSE;CN="Epstein
  ICANN";PARTSTAT=NEEDS-ACTION:MAILTO:epstein.inteam.icann@gmail.com
ATTENDEE;ROLE=REQ-PARTICIPANT;RSVP=FALSE;CN="Skok
  ICANN";PARTSTAT=NEEDS-ACTION:MAILTO:skok.inteam.icann@gmail.com
ATTENDEE;ROLE=REQ-PARTICIPANT;RSVP=FALSE;CN=lac-capacity-building-wg@icann
 .org;PARTSTAT=NEEDS-ACTION:MAILTO:lac-capacity-building-wg@icann.org
X-MICROSOFT-CDO-BUSYSTATUS:BUSY
X-MICROSOFT-CDO-ALLDAYEVENT:FALSE
X-MICROSOFT-DISALLOW-COUNTER:FALSE
X-MICROSOFT-DONOTFORWARDMEETING:FALSE
X-MICROSOFT-CDO-INSTTYPE:0
END:VEVENT
END:VCALENDAR
