BEGIN:VCALENDAR
METHOD:REQUEST
PRODID:Microsoft Exchange Server 2010
VERSION:2.0
BEGIN:VTIMEZONE
TZID:UTC
BEGIN:STANDARD
DTSTART:16010101T000000
TZOFFSETFROM:+0000
TZOFFSETTO:+0000
END:STANDARD
BEGIN:DAYLIGHT
DTSTART:16010101T000000
TZOFFSETFROM:+0000
TZOFFSETTO:+0000
END:DAYLIGHT
END:VTIMEZONE
BEGIN:VEVENT
ORGANIZER;CN=ICANN Policy Calendar:MAILTO:PolicyCalendar@icann.org
ATTENDEE;ROLE=REQ-PARTICIPANT;PARTSTAT=NEEDS-ACTION;RSVP=FALSE;CN=lac-comms
 -wg@icann.org:MAILTO:lac-comms-wg@icann.org
ATTENDEE;ROLE=REQ-PARTICIPANT;PARTSTAT=NEEDS-ACTION;RSVP=FALSE;CN=ICANN Pol
 icy Calendar:MAILTO:PolicyCalendar@icann.org
ATTENDEE;ROLE=REQ-PARTICIPANT;PARTSTAT=NEEDS-ACTION;RSVP=FALSE;CN=Heidi Ull
 rich:MAILTO:Heidi.Ullrich@icann.org
ATTENDEE;ROLE=REQ-PARTICIPANT;PARTSTAT=NEEDS-ACTION;RSVP=FALSE;CN=Silvia Vi
 vanco:MAILTO:silvia.vivanco@icann.org
ATTENDEE;ROLE=REQ-PARTICIPANT;PARTSTAT=NEEDS-ACTION;RSVP=FALSE;CN=Gisella G
 ruber:MAILTO:Gisella.Gruber@icann.org
ATTENDEE;ROLE=REQ-PARTICIPANT;PARTSTAT=NEEDS-ACTION;RSVP=FALSE;CN=Evin Erdo
 gdu:MAILTO:evin.erdogdu@icann.org
ATTENDEE;ROLE=REQ-PARTICIPANT;PARTSTAT=NEEDS-ACTION;RSVP=FALSE;CN=Claudia R
 uiz:MAILTO:claudia.ruiz@icann.org
ATTENDEE;ROLE=REQ-PARTICIPANT;PARTSTAT=NEEDS-ACTION;RSVP=FALSE;CN=Yesim Naz
 lar:MAILTO:yesim.nazlar@icann.org
ATTENDEE;ROLE=REQ-PARTICIPANT;PARTSTAT=NEEDS-ACTION;RSVP=FALSE;CN=Sabrina M
 osquera:MAILTO:sabrina.mosquera@icann.org
ATTENDEE;ROLE=REQ-PARTICIPANT;PARTSTAT=NEEDS-ACTION;RSVP=FALSE;CN=VERO PENE
 LAS (veronica.penelas@gmail.com):MAILTO:veronica.penelas@gmail.com
ATTENDEE;ROLE=REQ-PARTICIPANT;PARTSTAT=NEEDS-ACTION;RSVP=FALSE;CN=claudiask
 ok@gmail.com:MAILTO:claudiaskok@gmail.com
ATTENDEE;ROLE=REQ-PARTICIPANT;PARTSTAT=NEEDS-ACTION;RSVP=FALSE;CN=Penelas I
 CANN (penelas.inteam.icann@gmail.com):MAILTO:penelas.inteam.icann@gmail.co
 m
ATTENDEE;ROLE=REQ-PARTICIPANT;PARTSTAT=NEEDS-ACTION;RSVP=FALSE;CN=Epstein I
 CANN (epstein.inteam.icann@gmail.com):MAILTO:epstein.inteam.icann@gmail.co
 m
ATTENDEE;ROLE=REQ-PARTICIPANT;PARTSTAT=NEEDS-ACTION;RSVP=FALSE;CN=TEL ES-Te
 leconf-Interpretation:MAILTO:ES-Teleconf-Interpretation@icann.org
ATTENDEE;ROLE=REQ-PARTICIPANT;PARTSTAT=NEEDS-ACTION;RSVP=FALSE;CN=Alperen E
 ken:MAILTO:alperen.eken@icann.org
ATTENDEE;ROLE=REQ-PARTICIPANT;PARTSTAT=NEEDS-ACTION;RSVP=FALSE;CN=Michelle 
 DeSmyter:MAILTO:michelle.desmyter@icann.org
DESCRIPTION;LANGUAGE=en-US:Dear All\,\n\n\n\nFurther to the Doodle poll bel
 ow\, the next LACRALO Communications Working Group Call is scheduled for M
 onday\, 27 January 2020 at 23:00 UTC.\n\n\n\nSpanish interpretation will b
 e provided.\n\n\n\nFor other times: https://tinyurl.com/s57vest\n\n\n\nThe
  agenda (to be updated) and call details can be found at: https://communit
 y.icann.org/x/wwuJBw\n\n\n\nWiki workspace: https://community.icann.org/x/
 NJQi\n\n\n\nZoom Link: https://icann.zoom.us/j/907793136 /<https://icann.z
 oom.us/j/907793136%20/> Meeting ID: 907-793-136\n\n\n\nADIGO Conference Br
 idge:\n\nEnglish Conference ID = 1638\n\nSpanish Conference ID = 1738\n\n\
 n\nToll-free access number (US and Canada): 800 550 6865\n\n\n\nOther toll
 -free numbers: http://adigo.com/icann/\n\n\n\n\n\nThank you.\n\nKind regar
 ds\,\n\n\n\nAt-Large Staff\n\nICANN Policy Staff in support of the At-Larg
 e Community\n\nWebsite: atlarge.icann.org<https://atlarge.icann.org/>\n\nF
 acebook: facebook.com/icann<https://www.facebook.com/icannatlarge>atlarge<
 https://www.facebook.com/icannatlarge>\n\nTwitter: @<https://twitter.com/I
 CANNAtLarge>ICANNAtLarge<https://twitter.com/ICANNAtLarge>\n\n\n\n\n\n\n\n
 \n\n\n\n__________________________________________________________________
 __________________________________\n\n\n\n\n\nDear All\,\n\n\n\nPlease com
 plete the Doodle poll to schedule the next LACRALO Communications Working 
 Group Call for the week of 27 January 2020.\n\n\n\nDoodle:  https://doodle
 .com/poll/ytcdi5vr63rvkgzt\n\n\n\nI have enabled the time zone so that it 
 can be changed to your zone.\n\n\n\nThis doodle will close on Wednesday\, 
 22 January 2020.\n\n\n\n\n\nThank you.\n\nKind Regards\,\n\nYeşim Nazlar\
 n\n\n\n\n
SUMMARY;LANGUAGE=en-US:LACRALO Communications Working Group 
DTSTART;TZID=UTC:20200127T230000
DTEND;TZID=UTC:20200128T000000
UID:17D9D533-BC34-492E-9F8E-2E8753AFA2FB
CLASS:PUBLIC
PRIORITY:5
DTSTAMP:20200123T195555Z
TRANSP:OPAQUE
STATUS:CONFIRMED
SEQUENCE:0
LOCATION;LANGUAGE=en-US:23:00 UTC - ADIGO: EN:1638 ES:1738 - https://icann.
 zoom.us/j/907793136
X-MICROSOFT-CDO-APPT-SEQUENCE:0
X-MICROSOFT-CDO-OWNERAPPTID:2118236178
X-MICROSOFT-CDO-BUSYSTATUS:TENTATIVE
X-MICROSOFT-CDO-INTENDEDSTATUS:BUSY
X-MICROSOFT-CDO-ALLDAYEVENT:FALSE
X-MICROSOFT-CDO-IMPORTANCE:1
X-MICROSOFT-CDO-INSTTYPE:0
X-MICROSOFT-DISALLOW-COUNTER:FALSE
BEGIN:VALARM
DESCRIPTION:REMINDER
TRIGGER;RELATED=START:-PT15M
ACTION:DISPLAY
END:VALARM
END:VEVENT
END:VCALENDAR
