BEGIN:VCALENDAR
METHOD:REQUEST
PRODID:Microsoft Exchange Server 2010
VERSION:2.0
BEGIN:VTIMEZONE
TZID:UTC
BEGIN:STANDARD
DTSTART:16010101T000000
TZOFFSETFROM:+0000
TZOFFSETTO:+0000
END:STANDARD
BEGIN:DAYLIGHT
DTSTART:16010101T000000
TZOFFSETFROM:+0000
TZOFFSETTO:+0000
END:DAYLIGHT
END:VTIMEZONE
BEGIN:VEVENT
ORGANIZER;CN=ICANN Policy Calendar:MAILTO:PolicyCalendar@icann.org
ATTENDEE;ROLE=REQ-PARTICIPANT;PARTSTAT=NEEDS-ACTION;RSVP=TRUE;CN=Heidi Ullr
 ich:MAILTO:Heidi.Ullrich@icann.org
ATTENDEE;ROLE=REQ-PARTICIPANT;PARTSTAT=NEEDS-ACTION;RSVP=TRUE;CN=Silvia Viv
 anco:MAILTO:silvia.vivanco@icann.org
ATTENDEE;ROLE=REQ-PARTICIPANT;PARTSTAT=NEEDS-ACTION;RSVP=TRUE;CN=Gisella Gr
 uber:MAILTO:Gisella.Gruber@icann.org
ATTENDEE;ROLE=REQ-PARTICIPANT;PARTSTAT=NEEDS-ACTION;RSVP=TRUE;CN=Evin Erdog
 du:MAILTO:evin.erdogdu@icann.org
ATTENDEE;ROLE=REQ-PARTICIPANT;PARTSTAT=NEEDS-ACTION;RSVP=TRUE;CN=Claudia Ru
 iz:MAILTO:claudia.ruiz@icann.org
ATTENDEE;ROLE=REQ-PARTICIPANT;PARTSTAT=NEEDS-ACTION;RSVP=TRUE;CN=Michelle D
 eSmyter:MAILTO:michelle.desmyter@icann.org
ATTENDEE;ROLE=REQ-PARTICIPANT;PARTSTAT=NEEDS-ACTION;RSVP=TRUE;CN=Yesim Nazl
 ar:MAILTO:yesim.nazlar@icann.org
ATTENDEE;ROLE=REQ-PARTICIPANT;PARTSTAT=NEEDS-ACTION;RSVP=TRUE;CN=Sabrina Mo
 squera:MAILTO:sabrina.mosquera@icann.org
ATTENDEE;ROLE=REQ-PARTICIPANT;PARTSTAT=NEEDS-ACTION;RSVP=TRUE;CN=VERO PENEL
 AS (veronica.penelas@gmail.com):MAILTO:veronica.penelas@gmail.com
ATTENDEE;ROLE=REQ-PARTICIPANT;PARTSTAT=NEEDS-ACTION;RSVP=TRUE;CN=claudiasko
 k@gmail.com:MAILTO:claudiaskok@gmail.com
ATTENDEE;ROLE=REQ-PARTICIPANT;PARTSTAT=NEEDS-ACTION;RSVP=TRUE;CN=Penelas IC
 ANN (penelas.inteam.icann@gmail.com):MAILTO:penelas.inteam.icann@gmail.com
ATTENDEE;ROLE=REQ-PARTICIPANT;PARTSTAT=NEEDS-ACTION;RSVP=TRUE;CN=Epstein IC
 ANN (epstein.inteam.icann@gmail.com):MAILTO:epstein.inteam.icann@gmail.com
ATTENDEE;ROLE=REQ-PARTICIPANT;PARTSTAT=NEEDS-ACTION;RSVP=TRUE;CN=TEL ES-Tel
 econf-Interpretation:MAILTO:ES-Teleconf-Interpretation@icann.org
ATTENDEE;ROLE=REQ-PARTICIPANT;PARTSTAT=NEEDS-ACTION;RSVP=TRUE;CN=lac-comms-
 wg@icann.org:MAILTO:lac-comms-wg@icann.org
DESCRIPTION;LANGUAGE=en-US:Dear All\,\n\n\n\nFurther to the Doodle poll\, t
 he next LACRALO Communications Working Group Call is scheduled for Monday\
 , 22 July 2019 at 23:00 UTC.\n\n\n\nSpanish interpretation will be provide
 d.\n\n\n\nFor other times:  https://tinyurl.com/y5n7kmvd\n\n\n\nThe agenda
  (to be updated) and call details can be found at:  https://community.ican
 n.org/x/Ka_jBg\n\n\n\nWiki workspace: https://community.icann.org/x/NJQi\n
 \n\n\nZoom Link: https://icann.zoom.us/j/952805565\n\n\n\nADIGO Conference
  Bridge:\n\nEnglish Conference ID = 1638\n\nSpanish Conference ID = 1738\n
 \n\n\nToll-free access number (US and Canada): 800 550 6865\n\n\n\nOther t
 oll-free numbers: http://adigo.com/icann/\n\n\n\n\n\nThank you.\n\nKind re
 gards\,\n\n\n\nAt-Large Staff\n\nICANN Policy Staff in support of the At-L
 arge Community\n\nWebsite: atlarge.icann.org<https://atlarge.icann.org/>\n
 \nFacebook: facebook.com/icann<https://www.facebook.com/icannatlarge>atlar
 ge<https://www.facebook.com/icannatlarge>\n\nTwitter: @<https://twitter.co
 m/ICANNAtLarge>ICANNAtLarge<https://twitter.com/ICANNAtLarge>\n\n\n
SUMMARY;LANGUAGE=en-US:LACRALO Communications Working Group Call
DTSTART;TZID=UTC:20190722T230000
DTEND;TZID=UTC:20190723T000000
UID:6E68A7E9-159C-4F2F-B5EA-B69081A282C4
CLASS:PUBLIC
PRIORITY:5
DTSTAMP:20190719T123900Z
TRANSP:OPAQUE
STATUS:CONFIRMED
SEQUENCE:0
LOCATION;LANGUAGE=en-US:23:00 UTC - ADIGO EN:1638 ES:1738 - https://icann.z
 oom.us/j/952805565 
X-MICROSOFT-CDO-APPT-SEQUENCE:0
X-MICROSOFT-CDO-OWNERAPPTID:2117573975
X-MICROSOFT-CDO-BUSYSTATUS:TENTATIVE
X-MICROSOFT-CDO-INTENDEDSTATUS:BUSY
X-MICROSOFT-CDO-ALLDAYEVENT:FALSE
X-MICROSOFT-CDO-IMPORTANCE:1
X-MICROSOFT-CDO-INSTTYPE:0
X-MICROSOFT-DISALLOW-COUNTER:FALSE
END:VEVENT
END:VCALENDAR
